BEGIN:VCALENDAR
VERSION:2.0
PRODID:-//flamencoagenda.nl - ECPv6.15.20//NONSGML v1.0//EN
CALSCALE:GREGORIAN
METHOD:PUBLISH
X-WR-CALNAME:flamencoagenda.nl
X-ORIGINAL-URL:https://www.flamencoagenda.nl
X-WR-CALDESC:Evenementen voor flamencoagenda.nl
REFRESH-INTERVAL;VALUE=DURATION:PT1H
X-Robots-Tag:noindex
X-PUBLISHED-TTL:PT1H
BEGIN:VTIMEZONE
TZID:Europe/Amsterdam
BEGIN:DAYLIGHT
TZOFFSETFROM:+0100
TZOFFSETTO:+0200
TZNAME:CEST
DTSTART:20160327T010000
END:DAYLIGHT
BEGIN:STANDARD
TZOFFSETFROM:+0200
TZOFFSETTO:+0100
TZNAME:CET
DTSTART:20161030T010000
END:STANDARD
BEGIN:DAYLIGHT
TZOFFSETFROM:+0100
TZOFFSETTO:+0200
TZNAME:CEST
DTSTART:20170326T010000
END:DAYLIGHT
BEGIN:STANDARD
TZOFFSETFROM:+0200
TZOFFSETTO:+0100
TZNAME:CET
DTSTART:20171029T010000
END:STANDARD
BEGIN:DAYLIGHT
TZOFFSETFROM:+0100
TZOFFSETTO:+0200
TZNAME:CEST
DTSTART:20180325T010000
END:DAYLIGHT
BEGIN:STANDARD
TZOFFSETFROM:+0200
TZOFFSETTO:+0100
TZNAME:CET
DTSTART:20181028T010000
END:STANDARD
END:VTIMEZONE
BEGIN:VEVENT
DTSTART;TZID=Europe/Amsterdam:20170630T203000
DTEND;TZID=Europe/Amsterdam:20170630T220000
DTSTAMP:20260422T055716
CREATED:20170412T212618Z
LAST-MODIFIED:20170611T085548Z
UID:9714-1498854600-1498860000@www.flamencoagenda.nl
SUMMARY:Calle Real
DESCRIPTION:Weesp\, City of Wesopa – Optreden van flamencokoor Calle Real. Met\, behalve verschillende zangeressen ook: Frans Nottrot (artistiek leider en gitaar)\, Onno Kramer (gitaar)\, Rudolf Nottrot (viool)\, Niek Stafleu (cello). Stefanie Liedtke (fluit) en Inmaculada de la Huerta (soliste).
URL:https://www.flamencoagenda.nl/event/calle-real-2/
LOCATION:City of Wesopa\, Herengracht 23\, Weesp\, 1382 AG
CATEGORIES:Live Flamenco
ATTACH;FMTTYPE=image/jpeg:https://www.flamencoagenda.nl/core/../wp-content/uploads/calle-real-foto-Ginette-Lavell.jpg
END:VEVENT
BEGIN:VEVENT
DTSTART;TZID=Europe/Amsterdam:20170317T200000
DTEND;TZID=Europe/Amsterdam:20170317T220000
DTSTAMP:20260422T055716
CREATED:20161217T002511Z
LAST-MODIFIED:20161217T002511Z
UID:8591-1489780800-1489788000@www.flamencoagenda.nl
SUMMARY:Mario & Gil @ Puerto Pata Negra
DESCRIPTION:Amsterdam\, Puerto Pata Negra – Iedere vrijdagavond live flamenco in tapasbar met Mario Garcia Blanco (zang\, cajón en dans) en Gil Lopez (gitaar).
URL:https://www.flamencoagenda.nl/event/mario-gil-puerto-pata-negra-44/
LOCATION:Puerto Pata Negra\, Oostelijke Handelskade 999\, AMSTERDAM\, 1019 BW
CATEGORIES:Live Flamenco
ATTACH;FMTTYPE=image/jpeg:https://www.flamencoagenda.nl/core/../wp-content/uploads/Gil-Lopez-Mario-Garcia-Blanco-flamenco.jpg
END:VEVENT
BEGIN:VEVENT
DTSTART;TZID=Europe/Amsterdam:20170210T200000
DTEND;TZID=Europe/Amsterdam:20170210T220000
DTSTAMP:20260422T055716
CREATED:20161217T001142Z
LAST-MODIFIED:20161217T001142Z
UID:8577-1486756800-1486764000@www.flamencoagenda.nl
SUMMARY:Mario & Gil @ Puerto Pata Negra
DESCRIPTION:Amsterdam\, Puerto Pata Negra – Iedere vrijdagavond live flamenco in tapasbar met Mario Garcia Blanco (zang\, cajón en dans) en Gil Lopez (gitaar).
URL:https://www.flamencoagenda.nl/event/mario-gil-puerto-pata-negra-37/
LOCATION:Puerto Pata Negra\, Oostelijke Handelskade 999\, AMSTERDAM\, 1019 BW
CATEGORIES:Live Flamenco
ATTACH;FMTTYPE=image/jpeg:https://www.flamencoagenda.nl/core/../wp-content/uploads/Gil-Lopez-Mario-Garcia-Blanco-flamenco.jpg
END:VEVENT
END:VCALENDAR