BEGIN:VCALENDAR
VERSION:2.0
PRODID:-//flamencoagenda.nl - ECPv6.15.20//NONSGML v1.0//EN
CALSCALE:GREGORIAN
METHOD:PUBLISH
X-ORIGINAL-URL:https://www.flamencoagenda.nl
X-WR-CALDESC:Evenementen voor flamencoagenda.nl
REFRESH-INTERVAL;VALUE=DURATION:PT1H
X-Robots-Tag:noindex
X-PUBLISHED-TTL:PT1H
BEGIN:VTIMEZONE
TZID:Europe/Amsterdam
BEGIN:DAYLIGHT
TZOFFSETFROM:+0100
TZOFFSETTO:+0200
TZNAME:CEST
DTSTART:20160327T010000
END:DAYLIGHT
BEGIN:STANDARD
TZOFFSETFROM:+0200
TZOFFSETTO:+0100
TZNAME:CET
DTSTART:20161030T010000
END:STANDARD
BEGIN:DAYLIGHT
TZOFFSETFROM:+0100
TZOFFSETTO:+0200
TZNAME:CEST
DTSTART:20170326T010000
END:DAYLIGHT
BEGIN:STANDARD
TZOFFSETFROM:+0200
TZOFFSETTO:+0100
TZNAME:CET
DTSTART:20171029T010000
END:STANDARD
BEGIN:DAYLIGHT
TZOFFSETFROM:+0100
TZOFFSETTO:+0200
TZNAME:CEST
DTSTART:20180325T010000
END:DAYLIGHT
BEGIN:STANDARD
TZOFFSETFROM:+0200
TZOFFSETTO:+0100
TZNAME:CET
DTSTART:20181028T010000
END:STANDARD
BEGIN:DAYLIGHT
TZOFFSETFROM:+0100
TZOFFSETTO:+0200
TZNAME:CEST
DTSTART:20190331T010000
END:DAYLIGHT
BEGIN:STANDARD
TZOFFSETFROM:+0200
TZOFFSETTO:+0100
TZNAME:CET
DTSTART:20191027T010000
END:STANDARD
BEGIN:DAYLIGHT
TZOFFSETFROM:+0100
TZOFFSETTO:+0200
TZNAME:CEST
DTSTART:20200329T010000
END:DAYLIGHT
BEGIN:STANDARD
TZOFFSETFROM:+0200
TZOFFSETTO:+0100
TZNAME:CET
DTSTART:20201025T010000
END:STANDARD
BEGIN:DAYLIGHT
TZOFFSETFROM:+0100
TZOFFSETTO:+0200
TZNAME:CEST
DTSTART:20210328T010000
END:DAYLIGHT
BEGIN:STANDARD
TZOFFSETFROM:+0200
TZOFFSETTO:+0100
TZNAME:CET
DTSTART:20211031T010000
END:STANDARD
BEGIN:DAYLIGHT
TZOFFSETFROM:+0100
TZOFFSETTO:+0200
TZNAME:CEST
DTSTART:20220327T010000
END:DAYLIGHT
BEGIN:STANDARD
TZOFFSETFROM:+0200
TZOFFSETTO:+0100
TZNAME:CET
DTSTART:20221030T010000
END:STANDARD
END:VTIMEZONE
BEGIN:VEVENT
DTSTART;TZID=Europe/Amsterdam:20211120T201500
DTEND;TZID=Europe/Amsterdam:20211120T201500
DTSTAMP:20260419T164043
CREATED:20211015T215945Z
LAST-MODIFIED:20211015T215952Z
UID:19132-1637439300-1637439300@www.flamencoagenda.nl
SUMMARY:Ana Morales – ‘En la cuerda floja’
DESCRIPTION:Rotterdam\, De Doelen (Jurriaanse Zaal) – Voorstelling in het kader van de Flamenco Biënnale Nederland. Met flamencodans met moderne invloeden van de vernieuwende flamencodanseres Ana Morales. \nMet:\nGitaar: José Quevedo ‘Bolita’\nPercussie: Paquito González\nBas: JM Popo \nOver deze voorstelling\n“Wat gebeurt er wanneer lichaam en geest zoeken naar orde en evenwicht\, maar zich juist ‘welbevinden’ in chaos? Is stabiliteit een utopie of iets tastbaars? En hebben we instabiliteit misschien zelfs nodig om te overleven? Dat zijn de vragen die flamencodansmaker Ana Morales zich stelt in haar nieuwste voorstelling En la Cuerda Floja | Op het Slappe Koord. Omringd door Spaanse topmusici uit de flamenco en jazz onderzoekt ze op zeer persoonlijke wijze de (flamenco)grond onder haar voeten. Met eigentijdse bewegingen maakt Ana Morales in haar nieuwste creatie een persoonlijke en hedendaagse nieuwe flamencodans. Een zoektocht naar nieuwe vormen en tegelijkertijd in haar eigen binnenwereld. Met de traditie als anker danst en balanceert ze in deze onzekere tijden vol overtuiging op het slappe koord. Haar boodschap: met elkaar vinden we een nieuw evenwicht.” \nKoop ticket
URL:https://www.flamencoagenda.nl/event/ana-morales-en-la-cuerda-floja-2/
LOCATION:De Doelen\, Schouwburgplein 50\, ROTTERDAM\, 3012 CL
CATEGORIES:Flamenco Biennale NL
ATTACH;FMTTYPE=image/jpeg:https://www.flamencoagenda.nl/core/../wp-content/uploads/Ana-Morales-foto-Claudia-Ruiz-Caro.jpeg
END:VEVENT
BEGIN:VEVENT
DTSTART;VALUE=DATE:20170625
DTEND;VALUE=DATE:20170626
DTSTAMP:20260419T164043
CREATED:20170509T111639Z
LAST-MODIFIED:20170509T111639Z
UID:9932-1498348800-1498435199@www.flamencoagenda.nl
SUMMARY:Règâhs 10! @ Parkpop
DESCRIPTION:Den Haag\, Zuiderpark – Optreden van de Haagse ‘flamingo’ groep De Règâhs tijdens het gratis festival Parkpop. Dit concert is de aftrap van de 10-jaar tour van De Règâhs. Dat wordt gevierd met onder meer (op de foto van links naar rechts) Arturo Ramón (bas)\, Ron van Holland (percussie)\, Karin Eij (dans)\, Johan Frauenfelder (zang.gitaar)\, Mirjam Venhuizen (dans)\, Marcel de Graaf (zang/gitaar) en Roy de Rijke (gitaar). \n“In 10 jaar de Règâhs’ blikt de groep terug op deze veelbewogen tijd en gunt het publiek een kijkje achter de schermen. Vol zelfspot en Haagse humor nemen zij zichzelf en de hele wereld op de Haagse hak. Ze spelen een soort Bes-Tof de Règâhs met hun allergrootste hits en favoriete ballades.” \nTijd en locatie zijn ten tijde van deze publicatie nog niet bekend. Wijziging in bezetting is mogelijk. Hou de website van Parkpop in de gaten. \nFoto ©Maarten Ederveen
URL:https://www.flamencoagenda.nl/event/regahs-10-parkpop/
LOCATION:Zuiderpark\, Zuiderpark\, Den Haag
CATEGORIES:Live Flamenco
ATTACH;FMTTYPE=image/jpeg:https://www.flamencoagenda.nl/core/../wp-content/uploads/De-Regahs-Parkpop-foto-Maarten-Ederveen.jpg
END:VEVENT
END:VCALENDAR