BEGIN:VCALENDAR
VERSION:2.0
PRODID:-//flamencoagenda.nl - ECPv6.15.20//NONSGML v1.0//EN
CALSCALE:GREGORIAN
METHOD:PUBLISH
X-WR-CALNAME:flamencoagenda.nl
X-ORIGINAL-URL:https://www.flamencoagenda.nl
X-WR-CALDESC:Evenementen voor flamencoagenda.nl
REFRESH-INTERVAL;VALUE=DURATION:PT1H
X-Robots-Tag:noindex
X-PUBLISHED-TTL:PT1H
BEGIN:VTIMEZONE
TZID:Europe/Amsterdam
BEGIN:DAYLIGHT
TZOFFSETFROM:+0100
TZOFFSETTO:+0200
TZNAME:CEST
DTSTART:20150329T010000
END:DAYLIGHT
BEGIN:STANDARD
TZOFFSETFROM:+0200
TZOFFSETTO:+0100
TZNAME:CET
DTSTART:20151025T010000
END:STANDARD
BEGIN:DAYLIGHT
TZOFFSETFROM:+0100
TZOFFSETTO:+0200
TZNAME:CEST
DTSTART:20160327T010000
END:DAYLIGHT
BEGIN:STANDARD
TZOFFSETFROM:+0200
TZOFFSETTO:+0100
TZNAME:CET
DTSTART:20161030T010000
END:STANDARD
BEGIN:DAYLIGHT
TZOFFSETFROM:+0100
TZOFFSETTO:+0200
TZNAME:CEST
DTSTART:20170326T010000
END:DAYLIGHT
BEGIN:STANDARD
TZOFFSETFROM:+0200
TZOFFSETTO:+0100
TZNAME:CET
DTSTART:20171029T010000
END:STANDARD
BEGIN:DAYLIGHT
TZOFFSETFROM:+0100
TZOFFSETTO:+0200
TZNAME:CEST
DTSTART:20180325T010000
END:DAYLIGHT
BEGIN:STANDARD
TZOFFSETFROM:+0200
TZOFFSETTO:+0100
TZNAME:CET
DTSTART:20181028T010000
END:STANDARD
BEGIN:DAYLIGHT
TZOFFSETFROM:+0100
TZOFFSETTO:+0200
TZNAME:CEST
DTSTART:20190331T010000
END:DAYLIGHT
BEGIN:STANDARD
TZOFFSETFROM:+0200
TZOFFSETTO:+0100
TZNAME:CET
DTSTART:20191027T010000
END:STANDARD
BEGIN:DAYLIGHT
TZOFFSETFROM:+0100
TZOFFSETTO:+0200
TZNAME:CEST
DTSTART:20200329T010000
END:DAYLIGHT
BEGIN:STANDARD
TZOFFSETFROM:+0200
TZOFFSETTO:+0100
TZNAME:CET
DTSTART:20201025T010000
END:STANDARD
BEGIN:DAYLIGHT
TZOFFSETFROM:+0100
TZOFFSETTO:+0200
TZNAME:CEST
DTSTART:20210328T010000
END:DAYLIGHT
BEGIN:STANDARD
TZOFFSETFROM:+0200
TZOFFSETTO:+0100
TZNAME:CET
DTSTART:20211031T010000
END:STANDARD
BEGIN:DAYLIGHT
TZOFFSETFROM:+0100
TZOFFSETTO:+0200
TZNAME:CEST
DTSTART:20220327T010000
END:DAYLIGHT
BEGIN:STANDARD
TZOFFSETFROM:+0200
TZOFFSETTO:+0100
TZNAME:CET
DTSTART:20221030T010000
END:STANDARD
BEGIN:DAYLIGHT
TZOFFSETFROM:+0100
TZOFFSETTO:+0200
TZNAME:CEST
DTSTART:20230326T010000
END:DAYLIGHT
BEGIN:STANDARD
TZOFFSETFROM:+0200
TZOFFSETTO:+0100
TZNAME:CET
DTSTART:20231029T010000
END:STANDARD
BEGIN:DAYLIGHT
TZOFFSETFROM:+0100
TZOFFSETTO:+0200
TZNAME:CEST
DTSTART:20240331T010000
END:DAYLIGHT
BEGIN:STANDARD
TZOFFSETFROM:+0200
TZOFFSETTO:+0100
TZNAME:CET
DTSTART:20241027T010000
END:STANDARD
BEGIN:DAYLIGHT
TZOFFSETFROM:+0100
TZOFFSETTO:+0200
TZNAME:CEST
DTSTART:20250330T010000
END:DAYLIGHT
BEGIN:STANDARD
TZOFFSETFROM:+0200
TZOFFSETTO:+0100
TZNAME:CET
DTSTART:20251026T010000
END:STANDARD
BEGIN:DAYLIGHT
TZOFFSETFROM:+0100
TZOFFSETTO:+0200
TZNAME:CEST
DTSTART:20260329T010000
END:DAYLIGHT
BEGIN:STANDARD
TZOFFSETFROM:+0200
TZOFFSETTO:+0100
TZNAME:CET
DTSTART:20261025T010000
END:STANDARD
END:VTIMEZONE
BEGIN:VEVENT
DTSTART;TZID=Europe/Amsterdam:20251025T100000
DTEND;TZID=Europe/Amsterdam:20251025T100000
DTSTAMP:20260421T162111
CREATED:20251006T165552Z
LAST-MODIFIED:20251006T170850Z
UID:21528-1761386400-1761386400@www.flamencoagenda.nl
SUMMARY:Flamenco Yoga Antje Herber
DESCRIPTION:Arnhem\, Musis Arnhem (Frombergfoyer) – Flamenco en yoga in één les. Flamenco danseres en yoga docente Antje Herber laat de deelnemers kracht en expressie van flamenco verbinden met de adem\, rust en souplesse van yoga. Een les vol focus\, energie en ontspanning. In deze unieke les vloeien expressie en beweging samen met focus en ontspanning. Je laadt jezelf op met energie\, terwijl je tegelijk helemaal tot rust komt.\nDe flamenco-yogales is voor iedereen toegankelijk; ervaring met flamenco of yoga is niet nodig. Het is wel nodig om vooraf een kaartje te kopen.
URL:https://www.flamencoagenda.nl/event/flamenco-yoga-antje-herber/
LOCATION:Musis Arnhem\, Velperbinnensingel 15\, Arnhem\, 6811 BP
CATEGORIES:Flamenco Biennale NL,Workshops
ATTACH;FMTTYPE=image/png:https://www.flamencoagenda.nl/core/../wp-content/uploads/Flamenco-Yoga-Antje-Herber-Flamenco-Biennale.png
END:VEVENT
BEGIN:VEVENT
DTSTART;VALUE=DATE:20171008
DTEND;VALUE=DATE:20171009
DTSTAMP:20260421T162111
CREATED:20170122T125017Z
LAST-MODIFIED:20170820T095403Z
UID:9135-1507420800-1507507199@www.flamencoagenda.nl
SUMMARY:Flamenco & yoga in Sevilla
DESCRIPTION:Sevilla – Flamencoreis met flamencodanseres Antje Herber naar Sevilla. Combinatie van de stad ontdekken en lessen flamencodans door verschillende docenten. Antje Herber geeft zelf tijdens deze week yogales. Details worden nog bekend gemaakt. De reis duurt van 8 tot 15 oktober.
URL:https://www.flamencoagenda.nl/event/flamenco-yoga-in-sevilla-2/
LOCATION:Sevilla\, Sevilla\, Spanje
CATEGORIES:Workshops
ATTACH;FMTTYPE=image/jpeg:https://www.flamencoagenda.nl/core/../wp-content/uploads/flamenco-sevilla-antje-herber.jpg
ORGANIZER;CN="Pacific Enterprises Unlimited":MAILTO:info@peu.nu
END:VEVENT
BEGIN:VEVENT
DTSTART;VALUE=DATE:20161016
DTEND;VALUE=DATE:20161017
DTSTAMP:20260421T162111
CREATED:20160611T124310Z
LAST-MODIFIED:20160811T202454Z
UID:6491-1476576000-1476662399@www.flamencoagenda.nl
SUMMARY:Flamenco & yoga in Sevilla
DESCRIPTION:Sevilla – Flamencoreis met flamencodanseres Antje Herber naar Sevilla. Combinatie van de stad ontdekken en lessen flamencodans van Noelia Sabarea en Bulerias festeras door Juan Paredes. Antje Herber geeft zelf tijdens deze week yogales. De reis duurt van 16 tot 23 oktober.
URL:https://www.flamencoagenda.nl/event/flamenco-yoga-in-sevilla/
LOCATION:Sevilla\, Sevilla\, Spanje
CATEGORIES:Live Flamenco,Workshops
ATTACH;FMTTYPE=image/jpeg:https://www.flamencoagenda.nl/core/../wp-content/uploads/flamenco-in-sevilla-foto-ginette-lavell.jpg
ORGANIZER;CN="Antje Herber":MAILTO:info[at]azules.nl
END:VEVENT
END:VCALENDAR