BEGIN:VCALENDAR
VERSION:2.0
PRODID:-//flamencoagenda.nl - ECPv6.15.20//NONSGML v1.0//EN
CALSCALE:GREGORIAN
METHOD:PUBLISH
X-ORIGINAL-URL:https://www.flamencoagenda.nl
X-WR-CALDESC:Evenementen voor flamencoagenda.nl
REFRESH-INTERVAL;VALUE=DURATION:PT1H
X-Robots-Tag:noindex
X-PUBLISHED-TTL:PT1H
BEGIN:VTIMEZONE
TZID:Europe/Amsterdam
BEGIN:DAYLIGHT
TZOFFSETFROM:+0100
TZOFFSETTO:+0200
TZNAME:CEST
DTSTART:20130331T010000
END:DAYLIGHT
BEGIN:STANDARD
TZOFFSETFROM:+0200
TZOFFSETTO:+0100
TZNAME:CET
DTSTART:20131027T010000
END:STANDARD
BEGIN:DAYLIGHT
TZOFFSETFROM:+0100
TZOFFSETTO:+0200
TZNAME:CEST
DTSTART:20140330T010000
END:DAYLIGHT
BEGIN:STANDARD
TZOFFSETFROM:+0200
TZOFFSETTO:+0100
TZNAME:CET
DTSTART:20141026T010000
END:STANDARD
BEGIN:DAYLIGHT
TZOFFSETFROM:+0100
TZOFFSETTO:+0200
TZNAME:CEST
DTSTART:20150329T010000
END:DAYLIGHT
BEGIN:STANDARD
TZOFFSETFROM:+0200
TZOFFSETTO:+0100
TZNAME:CET
DTSTART:20151025T010000
END:STANDARD
END:VTIMEZONE
BEGIN:VEVENT
DTSTART;TZID=Europe/Amsterdam:20141130T160000
DTEND;TZID=Europe/Amsterdam:20141130T180000
DTSTAMP:20260420T014618
CREATED:20141106T185726Z
LAST-MODIFIED:20141127T191033Z
UID:521-1417363200-1417370400@www.flamencoagenda.nl
SUMMARY:Patricia Guerrero: Latidos de Agua
DESCRIPTION:Den Haag\, Zuiderstrandtheater – Patricia Guerrero (dans)\, Trío Albéniz (muziek)\, David ‘El Galli’ (zang)\, Luis Mariano Renedo (gitaar)\, Miguel Cheyenne (percussie)\, Alejandro Cruz Benavides (piano).
URL:https://www.flamencoagenda.nl/event/latidos-del-agua-patricia-guerrero/
LOCATION:Zuiderstrandtheater\, Houtrustweg 505\, SCHEVENINGEN HAVEN\, 2583 ER
CATEGORIES:Live Flamenco
END:VEVENT
BEGIN:VEVENT
DTSTART;TZID=Europe/Amsterdam:20141129T203000
DTEND;TZID=Europe/Amsterdam:20141129T223000
DTSTAMP:20260420T014618
CREATED:20141106T180429Z
LAST-MODIFIED:20141127T191033Z
UID:488-1417293000-1417300200@www.flamencoagenda.nl
SUMMARY:De waterdrager (El aguador)
DESCRIPTION:Alkmaar\, Theater De Vest – Flamencogitarist Eric Vaarzon Morel speelt werk van o.a. Boudewijn de Groot en Jacques Brel in flamencostijl.
URL:https://www.flamencoagenda.nl/event/de-waterdrager-el-aguador-4/
LOCATION:Theater De Vest\, Canadaplein 2\, ALKMAAR\, 1811 KE \, Nederland
CATEGORIES:Live Flamenco
END:VEVENT
BEGIN:VEVENT
DTSTART;TZID=Europe/Amsterdam:20141128T203000
DTEND;TZID=Europe/Amsterdam:20141128T220000
DTSTAMP:20260420T014618
CREATED:20141106T184922Z
LAST-MODIFIED:20141127T191033Z
UID:514-1417206600-1417212000@www.flamencoagenda.nl
SUMMARY:Artvark Sax Quartet meets Eric Vaarzon Morel
DESCRIPTION:Den Bosch\, De Toonzaal – Jazz/flamenco ontmoeting
URL:https://www.flamencoagenda.nl/event/artvark-sax-quartet-meets-eric-vaarzon-morel/
LOCATION:Toonzaal\, Prins Bernhardstraat 4-6\, DEN BOSCH\, 5211 HE\, Nederland
CATEGORIES:Live Flamenco
END:VEVENT
BEGIN:VEVENT
DTSTART;TZID=Europe/Amsterdam:20141126T203000
DTEND;TZID=Europe/Amsterdam:20141126T223000
DTSTAMP:20260420T014618
CREATED:20141106T180100Z
LAST-MODIFIED:20141127T191033Z
UID:486-1417033800-1417041000@www.flamencoagenda.nl
SUMMARY:De waterdrager (El aguador)
DESCRIPTION:Wageningen\, De Junushoff – Flamencogitarist Eric Vaarzon Morel speelt werk van o.a. Boudewijn de Groot en Jacques Brel in flamencostijl.
URL:https://www.flamencoagenda.nl/event/de-waterdrager-el-aguador-3/
LOCATION:Junushoff\, Plantsoen 3\, WAGENINGEN\, 6700 AM
CATEGORIES:Live Flamenco
END:VEVENT
BEGIN:VEVENT
DTSTART;TZID=Europe/Amsterdam:20141114T203000
DTEND;TZID=Europe/Amsterdam:20141114T220000
DTSTAMP:20260420T014618
CREATED:20141106T184136Z
LAST-MODIFIED:20141127T191033Z
UID:508-1415997000-1416002400@www.flamencoagenda.nl
SUMMARY:Alvaro Paños y compania
DESCRIPTION:Utrecht\, RASA – Alvaro Paños (dans)\, Antonio Campos (zang)\, Juanma Gonzalez ‘Tomate’\,  David Caro (gitaar).
URL:https://www.flamencoagenda.nl/event/alvaro-panos/
LOCATION:RASA\, Pauwstraat 13-A\, UTRECHT\, 3512 TG
CATEGORIES:Live Flamenco
END:VEVENT
BEGIN:VEVENT
DTSTART;TZID=Europe/Amsterdam:20141108T203000
DTEND;TZID=Europe/Amsterdam:20141108T223000
DTSTAMP:20260420T014618
CREATED:20141106T181934Z
LAST-MODIFIED:20141127T191125Z
UID:499-1415478600-1415485800@www.flamencoagenda.nl
SUMMARY:Erminia Fernández Córdoba: Weg van Spanje
DESCRIPTION:Ruurlo\, Kunstkring – Hommage aan Joan Manuel Serrat. Erminia Fernández Córdoba (zang)\, Arturo Ramón (flamencogitaar)\, Thijs Borsten (piano).
URL:https://www.flamencoagenda.nl/event/erminia-fernandez-cordoba-weg-van-spanje/
LOCATION:Kunstkring\, Wildenborchseweg 39\, RUURLO\, 7261 MK\, Nederland
CATEGORIES:Live Flamenco
END:VEVENT
BEGIN:VEVENT
DTSTART;TZID=Europe/Amsterdam:20141108T203000
DTEND;TZID=Europe/Amsterdam:20141108T223000
DTSTAMP:20260420T014618
CREATED:20141106T175425Z
LAST-MODIFIED:20141127T191125Z
UID:482-1415478600-1415485800@www.flamencoagenda.nl
SUMMARY:De waterdrager (El aguador)
DESCRIPTION:Amsterdam\, De Meervaart – Flamencogitarist Eric Vaarzon Morel speelt werk van o.a. Boudewijn de Groot en Jacques Brel in flamencostijl.
URL:https://www.flamencoagenda.nl/event/de-waterdrager-el-aguador/
LOCATION:Meervaart\, Meer en Vaart 300\, AMSTERDAM\, 1068 LE\, Nederland
CATEGORIES:Live Flamenco
END:VEVENT
BEGIN:VEVENT
DTSTART;TZID=Europe/Amsterdam:20141107T183000
DTEND;TZID=Europe/Amsterdam:20141107T203000
DTSTAMP:20260420T014618
CREATED:20141106T180753Z
LAST-MODIFIED:20141127T191125Z
UID:490-1415385000-1415392200@www.flamencoagenda.nl
SUMMARY:Viva España: Sabores y Musica
DESCRIPTION:Hoorn\, Oosterkerk – Dinerconcert met Eric Vaarzon Morel (gitaar)\, Harriet IJssel de Schepper ‘La Kika’ (dans)\, María Marín (zang)\, Victor Rosinha (gitaar) ism Holland Strings (viool\, altviool\, cello).
URL:https://www.flamencoagenda.nl/event/viva-espana-sabores-y-musica/
LOCATION:Oosterkerk Hoorn\, Grote Oost 58-60\, HOORN\, 1621 BX
CATEGORIES:Live Flamenco
END:VEVENT
BEGIN:VEVENT
DTSTART;TZID=Europe/Amsterdam:20141106T080000
DTEND;TZID=Europe/Amsterdam:20141106T170000
DTSTAMP:20260420T014618
CREATED:20141106T175746Z
LAST-MODIFIED:20141127T191125Z
UID:484-1415260800-1415293200@www.flamencoagenda.nl
SUMMARY:De waterdrager (El aguador)
DESCRIPTION:Apeldoorn\, Orpheus – Flamencogitarist Eric Vaarzon Morel speelt werk van o.a. Boudewijn de Groot en Jacques Brel in flamencostijl.
URL:https://www.flamencoagenda.nl/event/de-waterdrager-el-aguador-2/
LOCATION:Orpheus\, Churchillplein 1\, APELDOORN\, 7314BZ\, Nederland
CATEGORIES:Live Flamenco
END:VEVENT
END:VCALENDAR