BEGIN:VCALENDAR
VERSION:2.0
PRODID:-//flamencoagenda.nl - ECPv6.15.20//NONSGML v1.0//EN
CALSCALE:GREGORIAN
METHOD:PUBLISH
X-ORIGINAL-URL:https://www.flamencoagenda.nl
X-WR-CALDESC:Evenementen voor flamencoagenda.nl
REFRESH-INTERVAL;VALUE=DURATION:PT1H
X-Robots-Tag:noindex
X-PUBLISHED-TTL:PT1H
BEGIN:VTIMEZONE
TZID:Europe/Amsterdam
BEGIN:DAYLIGHT
TZOFFSETFROM:+0100
TZOFFSETTO:+0200
TZNAME:CEST
DTSTART:20140330T010000
END:DAYLIGHT
BEGIN:STANDARD
TZOFFSETFROM:+0200
TZOFFSETTO:+0100
TZNAME:CET
DTSTART:20141026T010000
END:STANDARD
BEGIN:DAYLIGHT
TZOFFSETFROM:+0100
TZOFFSETTO:+0200
TZNAME:CEST
DTSTART:20150329T010000
END:DAYLIGHT
BEGIN:STANDARD
TZOFFSETFROM:+0200
TZOFFSETTO:+0100
TZNAME:CET
DTSTART:20151025T010000
END:STANDARD
BEGIN:DAYLIGHT
TZOFFSETFROM:+0100
TZOFFSETTO:+0200
TZNAME:CEST
DTSTART:20160327T010000
END:DAYLIGHT
BEGIN:STANDARD
TZOFFSETFROM:+0200
TZOFFSETTO:+0100
TZNAME:CET
DTSTART:20161030T010000
END:STANDARD
BEGIN:DAYLIGHT
TZOFFSETFROM:+0100
TZOFFSETTO:+0200
TZNAME:CEST
DTSTART:20170326T010000
END:DAYLIGHT
BEGIN:STANDARD
TZOFFSETFROM:+0200
TZOFFSETTO:+0100
TZNAME:CET
DTSTART:20171029T010000
END:STANDARD
BEGIN:DAYLIGHT
TZOFFSETFROM:+0100
TZOFFSETTO:+0200
TZNAME:CEST
DTSTART:20180325T010000
END:DAYLIGHT
BEGIN:STANDARD
TZOFFSETFROM:+0200
TZOFFSETTO:+0100
TZNAME:CET
DTSTART:20181028T010000
END:STANDARD
BEGIN:DAYLIGHT
TZOFFSETFROM:+0100
TZOFFSETTO:+0200
TZNAME:CEST
DTSTART:20190331T010000
END:DAYLIGHT
BEGIN:STANDARD
TZOFFSETFROM:+0200
TZOFFSETTO:+0100
TZNAME:CET
DTSTART:20191027T010000
END:STANDARD
BEGIN:DAYLIGHT
TZOFFSETFROM:+0100
TZOFFSETTO:+0200
TZNAME:CEST
DTSTART:20200329T010000
END:DAYLIGHT
BEGIN:STANDARD
TZOFFSETFROM:+0200
TZOFFSETTO:+0100
TZNAME:CET
DTSTART:20201025T010000
END:STANDARD
BEGIN:DAYLIGHT
TZOFFSETFROM:+0100
TZOFFSETTO:+0200
TZNAME:CEST
DTSTART:20210328T010000
END:DAYLIGHT
BEGIN:STANDARD
TZOFFSETFROM:+0200
TZOFFSETTO:+0100
TZNAME:CET
DTSTART:20211031T010000
END:STANDARD
BEGIN:DAYLIGHT
TZOFFSETFROM:+0100
TZOFFSETTO:+0200
TZNAME:CEST
DTSTART:20220327T010000
END:DAYLIGHT
BEGIN:STANDARD
TZOFFSETFROM:+0200
TZOFFSETTO:+0100
TZNAME:CET
DTSTART:20221030T010000
END:STANDARD
BEGIN:DAYLIGHT
TZOFFSETFROM:+0100
TZOFFSETTO:+0200
TZNAME:CEST
DTSTART:20230326T010000
END:DAYLIGHT
BEGIN:STANDARD
TZOFFSETFROM:+0200
TZOFFSETTO:+0100
TZNAME:CET
DTSTART:20231029T010000
END:STANDARD
BEGIN:DAYLIGHT
TZOFFSETFROM:+0100
TZOFFSETTO:+0200
TZNAME:CEST
DTSTART:20240331T010000
END:DAYLIGHT
BEGIN:STANDARD
TZOFFSETFROM:+0200
TZOFFSETTO:+0100
TZNAME:CET
DTSTART:20241027T010000
END:STANDARD
BEGIN:DAYLIGHT
TZOFFSETFROM:+0100
TZOFFSETTO:+0200
TZNAME:CEST
DTSTART:20250330T010000
END:DAYLIGHT
BEGIN:STANDARD
TZOFFSETFROM:+0200
TZOFFSETTO:+0100
TZNAME:CET
DTSTART:20251026T010000
END:STANDARD
BEGIN:DAYLIGHT
TZOFFSETFROM:+0100
TZOFFSETTO:+0200
TZNAME:CEST
DTSTART:20260329T010000
END:DAYLIGHT
BEGIN:STANDARD
TZOFFSETFROM:+0200
TZOFFSETTO:+0100
TZNAME:CET
DTSTART:20261025T010000
END:STANDARD
END:VTIMEZONE
BEGIN:VEVENT
DTSTART;TZID=Europe/Amsterdam:20251025T190000
DTEND;TZID=Europe/Amsterdam:20251025T203000
DTSTAMP:20260419T234843
CREATED:20251021T222353Z
LAST-MODIFIED:20251021T222353Z
UID:21626-1761418800-1761424200@www.flamencoagenda.nl
SUMMARY:Flamencomarkt
DESCRIPTION:Arnhem\, Musis – Tweedehands flamencomarkt met kleding en schoenen.
URL:https://www.flamencoagenda.nl/event/flamencomarkt-3/
LOCATION:Musis Arnhem\, Velperbinnensingel 15\, Arnhem\, 6811 BP
CATEGORIES:Flamenco Biennale NL
ATTACH;FMTTYPE=image/jpeg:https://www.flamencoagenda.nl/core/../wp-content/uploads/flamencomarkt-2.jpeg
END:VEVENT
BEGIN:VEVENT
DTSTART;TZID=Europe/Amsterdam:20230205T150000
DTEND;TZID=Europe/Amsterdam:20230205T190000
DTSTAMP:20260419T234843
CREATED:20221201T133243Z
LAST-MODIFIED:20221201T133809Z
UID:19830-1675609200-1675623600@www.flamencoagenda.nl
SUMMARY:2e hands flamencomarkt
DESCRIPTION:Amsterdam\, Cafe Duende – Markt voor 2e hands flamencospullen. Kleding\, schoenen\, accessoires\, instrumenten\, boeken\, cd’s. Om te verkopen\, te ruilen of weg te geven. \nWil je iets verkopen?\nNeem contact op met Maria Spaans\, liefst voor 1 januari 2023: info@terremoto.nl \nDe markt is van 15.00 tot 19.00 uur\, daarna start de peña met open podium vol optredens en vrij Sevillanas dansen.
URL:https://www.flamencoagenda.nl/event/2e-hands-flamencomarkt/
LOCATION:Cafe Duende\, Lindengracht 62\, AMSTERDAM\, 1015KJ
CATEGORIES:Live & Workshops
ATTACH;FMTTYPE=image/jpeg:https://www.flamencoagenda.nl/core/../wp-content/uploads/flamencomarkt-2.jpeg
ORGANIZER;CN="Terremoto":MAILTO:info@terremoto.nl
END:VEVENT
BEGIN:VEVENT
DTSTART;TZID=Europe/Amsterdam:20170611T110000
DTEND;TZID=Europe/Amsterdam:20170611T170000
DTSTAMP:20260419T234843
CREATED:20170508T183228Z
LAST-MODIFIED:20170508T183228Z
UID:9903-1497178800-1497200400@www.flamencoagenda.nl
SUMMARY:Moda Flamenca dag
DESCRIPTION:Antwerpen\, Peña Al Andalus – Markt met nieuwe en tweedehands flamencokleding en -accessoires voor volwassenen en kinderen. Ook flamencowinkel La Sonanta zal aanwezig zijn. Wie zelf spullen wil verkopen\, kan contact opnemen met info@alandalus.be. \nVerkrijgbare artikelen\, onder meer:\n-Flamencojurken\n-Sevillanaskleding\n-Blouses & Tops\n-Rokken\n-Sjaals\n-Waaiers\n-Castagnetten\n-Bloemen\n-Oorbellen\n-Schoenen
URL:https://www.flamencoagenda.nl/event/moda-flamenca-dag-2/
LOCATION:Peña al Andalus\, Vorstermanstraat 1\, ANTWERPEN\, Antwerpen\, 2000\, België
CATEGORIES:Live Flamenco
ATTACH;FMTTYPE=image/jpeg:https://www.flamencoagenda.nl/core/../wp-content/uploads/moda-flamenca-dag-peña-al-andalus.jpg
END:VEVENT
BEGIN:VEVENT
DTSTART;TZID=Europe/Amsterdam:20170514T170000
DTEND;TZID=Europe/Amsterdam:20170514T200000
DTSTAMP:20260419T234843
CREATED:20161102T160400Z
LAST-MODIFIED:20170322T203411Z
UID:7999-1494781200-1494792000@www.flamencoagenda.nl
SUMMARY:Peña de Amsterdam & popup La Sonanta
DESCRIPTION:Amsterdam\, Tapasbar Duende – Peña met open podium\, vrij Sevillanas dansen en speciale evenementen. Aanmelden open podium: info@terremoto.nl. Deze keer komt flamencowinkel La Sonanta met een popup store en de nieuwste schoenen\, rokken en accessiores. Speciale wensen kunnen vooraf doorgegeven worden aan Kathleen: kathleen.parewijck@lasonanta.eu \nLet op: de peña de Amsterdam is deze maand een week later (normaal de eerste zondag van de maand). \nAanvangstijd onder voorbehoud van wijzigingen door organisator (terremoto.nl).
URL:https://www.flamencoagenda.nl/event/pena-de-amsterdam-21/
LOCATION:Cafe Duende\, Lindengracht 62\, AMSTERDAM\, 1015KJ
CATEGORIES:Live Flamenco
ATTACH;FMTTYPE=image/jpeg:https://www.flamencoagenda.nl/core/../wp-content/uploads/popup-en-amsterdam-pena-foto-ginette-lavell-1.jpg
ORGANIZER;CN="Terremoto":MAILTO:info@terremoto.nl
END:VEVENT
BEGIN:VEVENT
DTSTART;TZID=Europe/Amsterdam:20170323T180000
DTEND;TZID=Europe/Amsterdam:20170323T203000
DTSTAMP:20260419T234843
CREATED:20170320T144416Z
LAST-MODIFIED:20170320T144416Z
UID:9547-1490292000-1490301000@www.flamencoagenda.nl
SUMMARY:Popup store La Sonanta
DESCRIPTION:Middelburg\, Hof Mondriaan – Popup store van flamencowinkel La Sonanta. Met kleding\, schoenen\, accessoires en nog veel meer. Neem vooraf contact op met Kathleen van La Sonanta voor speciale wensen\, zij kan dan artikelen meenemen om ter plekke te passen. kathleen.parewijck@lasonanta.eu
URL:https://www.flamencoagenda.nl/event/popup-store-la-sonanta/
LOCATION:Hof Mondriaan\, Vrijlandstraat 28\, Middelburg\,  4337 EE 
CATEGORIES:Live Flamenco
ATTACH;FMTTYPE=image/jpeg:https://www.flamencoagenda.nl/core/../wp-content/uploads/la-sonanta.jpg
ORGANIZER;CN="La Sonanta":MAILTO:kathleen.parewijck[at]lasonanta.eu 
END:VEVENT
BEGIN:VEVENT
DTSTART;TZID=Europe/Amsterdam:20160403T120000
DTEND;TZID=Europe/Amsterdam:20160403T170000
DTSTAMP:20260419T234843
CREATED:20160311T225319Z
LAST-MODIFIED:20160311T225320Z
UID:5926-1459684800-1459702800@www.flamencoagenda.nl
SUMMARY:Flamenco Family
DESCRIPTION:Amsterdam\, Chasse Studios – Presentatie van flamencomodemerk Flamenco Family. \n“FlamencoFamily is een kleinschalig kledingmerk met een sensuele mediterrane uitstraling. FlamencoFamily ontwerpt elegante smaakvolle kleding gemaakt van zachte gemakkelijk zittende stoffen.”
URL:https://www.flamencoagenda.nl/event/flamenco-family/
LOCATION:Chassé Dance studios\, Chassestraat 64\, Amsterdam\, 1057 JJ
CATEGORIES:Live Flamenco
ATTACH;FMTTYPE=image/jpeg:https://www.flamencoagenda.nl/core/../wp-content/uploads/flamenco-family-1.jpg
END:VEVENT
BEGIN:VEVENT
DTSTART;TZID=Europe/Amsterdam:20150920T133000
DTEND;TZID=Europe/Amsterdam:20150920T163000
DTSTAMP:20260419T234843
CREATED:20150828T140622Z
LAST-MODIFIED:20150828T140738Z
UID:4559-1442755800-1442766600@www.flamencoagenda.nl
SUMMARY:Flamencomarkt Flamenco Family
DESCRIPTION:Amsterdam\, Chasse studio’s – Uitverkoop van kledingmerk Flamenco Family. Met nieuwe dansschoenen\, rokken\, topjes\, jurken\, laarzen en accessoires.
URL:https://www.flamencoagenda.nl/event/flamencomarkt-flamenco-family/
LOCATION:Chassé Dance studios\, Chassestraat 64\, Amsterdam\, 1057 JJ
CATEGORIES:Live Flamenco
ATTACH;FMTTYPE=image/jpeg:https://www.flamencoagenda.nl/core/../wp-content/uploads/flamenco-family.jpg
ORGANIZER;CN="Flamenco Amsterdam":MAILTO:flamencoamsterdam[at]gmail.com
END:VEVENT
END:VCALENDAR