BEGIN:VCALENDAR
VERSION:2.0
PRODID:-//flamencoagenda.nl - ECPv6.15.20//NONSGML v1.0//EN
CALSCALE:GREGORIAN
METHOD:PUBLISH
X-ORIGINAL-URL:https://www.flamencoagenda.nl
X-WR-CALDESC:Evenementen voor flamencoagenda.nl
REFRESH-INTERVAL;VALUE=DURATION:PT1H
X-Robots-Tag:noindex
X-PUBLISHED-TTL:PT1H
BEGIN:VTIMEZONE
TZID:Europe/Amsterdam
BEGIN:DAYLIGHT
TZOFFSETFROM:+0100
TZOFFSETTO:+0200
TZNAME:CEST
DTSTART:20150329T010000
END:DAYLIGHT
BEGIN:STANDARD
TZOFFSETFROM:+0200
TZOFFSETTO:+0100
TZNAME:CET
DTSTART:20151025T010000
END:STANDARD
BEGIN:DAYLIGHT
TZOFFSETFROM:+0100
TZOFFSETTO:+0200
TZNAME:CEST
DTSTART:20160327T010000
END:DAYLIGHT
BEGIN:STANDARD
TZOFFSETFROM:+0200
TZOFFSETTO:+0100
TZNAME:CET
DTSTART:20161030T010000
END:STANDARD
BEGIN:DAYLIGHT
TZOFFSETFROM:+0100
TZOFFSETTO:+0200
TZNAME:CEST
DTSTART:20170326T010000
END:DAYLIGHT
BEGIN:STANDARD
TZOFFSETFROM:+0200
TZOFFSETTO:+0100
TZNAME:CET
DTSTART:20171029T010000
END:STANDARD
BEGIN:DAYLIGHT
TZOFFSETFROM:+0100
TZOFFSETTO:+0200
TZNAME:CEST
DTSTART:20180325T010000
END:DAYLIGHT
BEGIN:STANDARD
TZOFFSETFROM:+0200
TZOFFSETTO:+0100
TZNAME:CET
DTSTART:20181028T010000
END:STANDARD
END:VTIMEZONE
BEGIN:VEVENT
DTSTART;TZID=Europe/Amsterdam:20171111T123000
DTEND;TZID=Europe/Amsterdam:20171111T163000
DTSTAMP:20260419T221646
CREATED:20171031T110759Z
LAST-MODIFIED:20171031T110921Z
UID:11618-1510403400-1510417800@www.flamencoagenda.nl
SUMMARY:Pop-Up Flamenco Shop Amsterdam
DESCRIPTION:Amsterdam\, Restaurant Duende – In de zaal van Duende is deze zondagmiddag Kathleen van La Sonanta aanwezig met een selectie van “flamenco danskledij\, flamenco dansschoenen & accessoires\, cd’s\, dvd’s”.  \nAls je speciale wensen hebt\, kan je vooraf contact met haar opnemen en dan neemt ze maten\, kleuren en modellen mee die je dan ter plekke kan passen. Contact: kathleen.Parewijck@lasonanta.eu of tel. 0032 497638437
URL:https://www.flamencoagenda.nl/event/pop-up-flamenco-shop-amsterdam/
LOCATION:Cafe Duende\, Lindengracht 62\, AMSTERDAM\, 1015KJ
CATEGORIES:Live Flamenco,Workshops
ATTACH;FMTTYPE=image/jpeg:https://www.flamencoagenda.nl/core/../wp-content/uploads/PopUp-La-Sonanta.jpg
ORGANIZER;CN="La Sonanta":MAILTO:kathleen.parewijck[at]lasonanta.eu 
END:VEVENT
BEGIN:VEVENT
DTSTART;TZID=Europe/Amsterdam:20160320T150000
DTEND;TZID=Europe/Amsterdam:20160320T173000
DTSTAMP:20260419T221646
CREATED:20151019T190021Z
LAST-MODIFIED:20160113T145653Z
UID:4841-1458486000-1458495000@www.flamencoagenda.nl
SUMMARY:Flamencoborrel Utrecht
DESCRIPTION:Utrecht\, Boulevard – Flamencoborrel met tussen 15.00 en 17.30 uur live flamencomuziek van Contratiempo (gitarist Jan Gemke en cajonist Judy Koot)\, Son Candela (Celia Barradas & Abel Gómez) en andere artiesten. Ook flamencomarkt met flamenco accessoires van Moda Flamenca. Ook Spaanse hapjes en drankjes. Met mogelijkheid om Sevillanas te dansen of mee te spelen. Kinderen zijn ook welkom.
URL:https://www.flamencoagenda.nl/event/flamencoborrel-utrecht-2/
LOCATION:Boulevard\, Burgermeester Reigerstraat 45\, Utrecht
CATEGORIES:Live Flamenco
ATTACH;FMTTYPE=image/jpeg:https://www.flamencoagenda.nl/core/../wp-content/uploads/flamenco-borrel-boulevard.jpg
END:VEVENT
END:VCALENDAR