BEGIN:VCALENDAR
VERSION:2.0
PRODID:-//flamencoagenda.nl - ECPv6.15.20//NONSGML v1.0//EN
CALSCALE:GREGORIAN
METHOD:PUBLISH
X-WR-CALNAME:flamencoagenda.nl
X-ORIGINAL-URL:https://www.flamencoagenda.nl
X-WR-CALDESC:Evenementen voor flamencoagenda.nl
REFRESH-INTERVAL;VALUE=DURATION:PT1H
X-Robots-Tag:noindex
X-PUBLISHED-TTL:PT1H
BEGIN:VTIMEZONE
TZID:Europe/Amsterdam
BEGIN:DAYLIGHT
TZOFFSETFROM:+0100
TZOFFSETTO:+0200
TZNAME:CEST
DTSTART:20150329T010000
END:DAYLIGHT
BEGIN:STANDARD
TZOFFSETFROM:+0200
TZOFFSETTO:+0100
TZNAME:CET
DTSTART:20151025T010000
END:STANDARD
BEGIN:DAYLIGHT
TZOFFSETFROM:+0100
TZOFFSETTO:+0200
TZNAME:CEST
DTSTART:20160327T010000
END:DAYLIGHT
BEGIN:STANDARD
TZOFFSETFROM:+0200
TZOFFSETTO:+0100
TZNAME:CET
DTSTART:20161030T010000
END:STANDARD
BEGIN:DAYLIGHT
TZOFFSETFROM:+0100
TZOFFSETTO:+0200
TZNAME:CEST
DTSTART:20170326T010000
END:DAYLIGHT
BEGIN:STANDARD
TZOFFSETFROM:+0200
TZOFFSETTO:+0100
TZNAME:CET
DTSTART:20171029T010000
END:STANDARD
BEGIN:DAYLIGHT
TZOFFSETFROM:+0100
TZOFFSETTO:+0200
TZNAME:CEST
DTSTART:20180325T010000
END:DAYLIGHT
BEGIN:STANDARD
TZOFFSETFROM:+0200
TZOFFSETTO:+0100
TZNAME:CET
DTSTART:20181028T010000
END:STANDARD
BEGIN:DAYLIGHT
TZOFFSETFROM:+0100
TZOFFSETTO:+0200
TZNAME:CEST
DTSTART:20190331T010000
END:DAYLIGHT
BEGIN:STANDARD
TZOFFSETFROM:+0200
TZOFFSETTO:+0100
TZNAME:CET
DTSTART:20191027T010000
END:STANDARD
BEGIN:DAYLIGHT
TZOFFSETFROM:+0100
TZOFFSETTO:+0200
TZNAME:CEST
DTSTART:20200329T010000
END:DAYLIGHT
BEGIN:STANDARD
TZOFFSETFROM:+0200
TZOFFSETTO:+0100
TZNAME:CET
DTSTART:20201025T010000
END:STANDARD
BEGIN:DAYLIGHT
TZOFFSETFROM:+0100
TZOFFSETTO:+0200
TZNAME:CEST
DTSTART:20210328T010000
END:DAYLIGHT
BEGIN:STANDARD
TZOFFSETFROM:+0200
TZOFFSETTO:+0100
TZNAME:CET
DTSTART:20211031T010000
END:STANDARD
BEGIN:DAYLIGHT
TZOFFSETFROM:+0100
TZOFFSETTO:+0200
TZNAME:CEST
DTSTART:20220327T010000
END:DAYLIGHT
BEGIN:STANDARD
TZOFFSETFROM:+0200
TZOFFSETTO:+0100
TZNAME:CET
DTSTART:20221030T010000
END:STANDARD
BEGIN:DAYLIGHT
TZOFFSETFROM:+0100
TZOFFSETTO:+0200
TZNAME:CEST
DTSTART:20230326T010000
END:DAYLIGHT
BEGIN:STANDARD
TZOFFSETFROM:+0200
TZOFFSETTO:+0100
TZNAME:CET
DTSTART:20231029T010000
END:STANDARD
BEGIN:DAYLIGHT
TZOFFSETFROM:+0100
TZOFFSETTO:+0200
TZNAME:CEST
DTSTART:20240331T010000
END:DAYLIGHT
BEGIN:STANDARD
TZOFFSETFROM:+0200
TZOFFSETTO:+0100
TZNAME:CET
DTSTART:20241027T010000
END:STANDARD
BEGIN:DAYLIGHT
TZOFFSETFROM:+0100
TZOFFSETTO:+0200
TZNAME:CEST
DTSTART:20250330T010000
END:DAYLIGHT
BEGIN:STANDARD
TZOFFSETFROM:+0200
TZOFFSETTO:+0100
TZNAME:CET
DTSTART:20251026T010000
END:STANDARD
BEGIN:DAYLIGHT
TZOFFSETFROM:+0100
TZOFFSETTO:+0200
TZNAME:CEST
DTSTART:20260329T010000
END:DAYLIGHT
BEGIN:STANDARD
TZOFFSETFROM:+0200
TZOFFSETTO:+0100
TZNAME:CET
DTSTART:20261025T010000
END:STANDARD
END:VTIMEZONE
BEGIN:VEVENT
DTSTART;TZID=Europe/Amsterdam:20251012T150000
DTEND;TZID=Europe/Amsterdam:20251012T163000
DTSTAMP:20260421T140528
CREATED:20250928T193416Z
LAST-MODIFIED:20251005T221651Z
UID:21384-1760281200-1760286600@www.flamencoagenda.nl
SUMMARY:SoundLAB - Flamenco Special
DESCRIPTION:Amsterdam\, Muziekgebouw aan ’t IJ (Atriumzaal) – Flamencoritme workshop  voor kinderen en volwassenen door percussionst Claudio Spieler. \nSpannende workshop voor jonge én minder jonge flamencofans\n“Flamenco is muziek vol spannende ritmes die de muziek haar karakteristieke geluid geven. Die ritmes klinken soms ingewikkeld\, maar iedereen kan ze leren.In deze workshop gaan kinderen en volwassenen samen aan de slag onder leiding van de professionele percussionist Claudio Spieler. Eerst door te klappen\, zoals in echte flamenco ook gebeurt. Vervolgens pakken we de cajóns (een percussiekist) en SoundLAB-instrumenten erbij en maken we van flamencoritmes ons eigen muziekstuk.”\nLees meer op de website van Flamenco Biënnale Nederland \n  \n 
URL:https://www.flamencoagenda.nl/event/soundlab-flamenco-special/
LOCATION:Muziekgebouw aan ’t IJ\, Piet Heinkade 1\, Amsterdam\, 1019 BR 
CATEGORIES:Flamenco Biennale NL,Workshops
ATTACH;FMTTYPE=image/png:https://www.flamencoagenda.nl/core/../wp-content/uploads/claudio-spieler.png
END:VEVENT
BEGIN:VEVENT
DTSTART;VALUE=DATE:20180902
DTEND;VALUE=DATE:20180903
DTSTAMP:20260421T140528
CREATED:20180805T160514Z
LAST-MODIFIED:20180805T161322Z
UID:13265-1535846400-1535932799@www.flamencoagenda.nl
SUMMARY:Workshop cajón\, zang en dans
DESCRIPTION:Borgerghout\, ’t Werkhuys – Workshop cajón/flamencopercussie (Maria Robles)\, zang en dans (Antje Herber en Jorinde Cielen). De lessen worden begeleid door Jürgen Rijkers op gitaar. \nCajón/Flamencopercussie: 13.00-14.30 uur\nDans: 14.30-16.30 uur
URL:https://www.flamencoagenda.nl/event/workshop-cajon-zang-en-dans/
LOCATION:Werkhuys\, Zegelstraat 13\, Borgerhout\, 2140\, België
CATEGORIES:Workshops
ATTACH;FMTTYPE=image/jpeg:https://www.flamencoagenda.nl/core/../wp-content/uploads/Flamenco-Antwerp-Jorinde-Cielen.jpg
ORGANIZER;CN="Jorinde Cielen":MAILTO:info@flamencoantwerp.be
END:VEVENT
BEGIN:VEVENT
DTSTART;TZID=Europe/Amsterdam:20171002T170000
DTEND;TZID=Europe/Amsterdam:20171002T180000
DTSTAMP:20260421T140528
CREATED:20170623T212045Z
LAST-MODIFIED:20170623T212045Z
UID:10342-1506963600-1506967200@www.flamencoagenda.nl
SUMMARY:Cante & compas workshop ‘Tonas’
DESCRIPTION:Amsterdam\, Studio El Flamenco – Gecombineerde workshop voor flamencodansers\, zangers en muzikanten. Thema is de basistheorie van Tonas en afgeleidde flamencostijlen als Deblas\, Martinete en Pregones. De les wordt door flamencozangeres Yota Baron en percussionist Udo Demandt gegeven. Het is mogelijk om een cajon te huren. Niveau: halfgevorderd en gevorderd. De lessen zij in het Engels en Nederlands. De les is op maandag 2 en woensdag 4 oktober van 17.00-18.00 uur.
URL:https://www.flamencoagenda.nl/event/cante-compas-workshop-tonas/
LOCATION:Studio 95\, Tussen de Bogen 95\, Amsterdam\, 1013 JB
CATEGORIES:Workshops
ATTACH;FMTTYPE=image/jpeg:https://www.flamencoagenda.nl/core/../wp-content/uploads/yota-baron-udo-demandt.jpg
ORGANIZER;CN="Yota Baron":MAILTO:hello@yotabaronproductions.com
END:VEVENT
BEGIN:VEVENT
DTSTART;VALUE=DATE:20170812
DTEND;VALUE=DATE:20170813
DTSTAMP:20260421T140528
CREATED:20170207T225640Z
LAST-MODIFIED:20170207T225650Z
UID:9315-1502496000-1502582399@www.flamencoagenda.nl
SUMMARY:Flamencoreis Frankrijk Maison Nueve
DESCRIPTION:Antran\, La Maison Nueve – Flamencoreis: week met flamencoworkshops zang\, dans\, gitaar en percussie. Verblijf is (op het terrein) van een landgoed. De reis is van 12 t/m 19 augustus. \nOver Flamencoweek Frankrijk Maison Nueve\n“Inspirerende Flamenco zomerweek op het prachtige landgoed ‘La Maison Neuve’. In deze week krijg je de kans om te genieten van de natuur en expressie te geven aan je passie en eigenheid via de flamenco onder leiding van onder meer flamencodanseres Antje Herber.
URL:https://www.flamencoagenda.nl/event/flamencoreis-frankrijk-maison-nueve/
LOCATION:Landgoed La Maison Nueve\, D75A\, Antran\, 86100
CATEGORIES:Workshops
ATTACH;FMTTYPE=image/jpeg:https://www.flamencoagenda.nl/core/../wp-content/uploads/flamencoweek-frankrijk.jpg
ORGANIZER;CN="Maison Nueve":MAILTO:marleenmaisonneuve@gmail.com
END:VEVENT
BEGIN:VEVENT
DTSTART;VALUE=DATE:20170327
DTEND;VALUE=DATE:20170328
DTSTAMP:20260421T140528
CREATED:20170228T134329Z
LAST-MODIFIED:20170228T134702Z
UID:9428-1490572800-1490659199@www.flamencoagenda.nl
SUMMARY:Codarts Flamenco Week: El Cante
DESCRIPTION:Rotterdam\, WMDC – Flamenco Workshops\, lezingen en optredens voor niet-flamenco muzikanten. Centraal thema is flamencozang. Cantaor Arcángel zal een dagelijkse masterclass geven. Er zijn 4-daagse fulltime cursussen in de disciplines zang (Arcángel)\, gitaar (Dani de Morón)\, piano (Pablo Suárez) en percussie (Udo Demandt en Ruven Ruppik). De lessen zijn toegankelijk voor niet-flamenco muzikanten met een goede beheersing van hun instrument. Gitaristen moeten de basispalo’s onder de knie hebben. Lees meer over de Flamenco Week in dit artikel.
URL:https://www.flamencoagenda.nl/event/codarts-flamenco-week-el-cante/
LOCATION:WMDC\, Grounds\, Pieter de hoochweg 125\, Rotterdam\, 3024 BG
CATEGORIES:Workshops
ATTACH;FMTTYPE=image/jpeg:https://www.flamencoagenda.nl/core/../wp-content/uploads/codarts-flamenco-week.jpg
ORGANIZER;CN="Codarts Flamenco Week":MAILTO:worldmusic@codarts.nl
END:VEVENT
BEGIN:VEVENT
DTSTART;VALUE=DATE:20160813
DTEND;VALUE=DATE:20160814
DTSTAMP:20260421T140528
CREATED:20160429T202211Z
LAST-MODIFIED:20160811T202731Z
UID:6085-1471046400-1471132799@www.flamencoagenda.nl
SUMMARY:Flamencoweek Frankrijk
DESCRIPTION:Antran\, La Maison Nueve – Flamencoreis: week met flamencoworkshops zang\, dans\, gitaar en percussie. Verblijf is (op het terrein) van een landgoed. De reis is van 13 t/m 20 augustus. \nOver Flamencoweek Frankrijk\n“Inspirerende Flamenco zomerweek op het prachtige landgoed ‘La Maison Neuve’. In deze week krijg je de kans om te genieten van de natuur en expressie te geven aan je passie en eigenheid via de flamenco onder de bezielende leiding van Antje Herber (dans)\, Jürgen Rijkers (gitaar) en Sebastiaan de Vries (percussie).”
URL:https://www.flamencoagenda.nl/event/flamencoweek-frankrijk/
LOCATION:Landgoed La Maison Nueve\, D75A\, Antran\, 86100
CATEGORIES:Workshops
ATTACH;FMTTYPE=image/jpeg:https://www.flamencoagenda.nl/core/../wp-content/uploads/flamencoweek-frankrijk.jpg
ORGANIZER;CN="Born to Dance Flamencoreis":MAILTO:marleen.v.haastrecht@gmail.com
END:VEVENT
END:VCALENDAR