BEGIN:VCALENDAR
VERSION:2.0
PRODID:-//flamencoagenda.nl - ECPv6.15.20//NONSGML v1.0//EN
CALSCALE:GREGORIAN
METHOD:PUBLISH
X-ORIGINAL-URL:https://www.flamencoagenda.nl
X-WR-CALDESC:Evenementen voor flamencoagenda.nl
REFRESH-INTERVAL;VALUE=DURATION:PT1H
X-Robots-Tag:noindex
X-PUBLISHED-TTL:PT1H
BEGIN:VTIMEZONE
TZID:Europe/Amsterdam
BEGIN:DAYLIGHT
TZOFFSETFROM:+0100
TZOFFSETTO:+0200
TZNAME:CEST
DTSTART:20230326T010000
END:DAYLIGHT
BEGIN:STANDARD
TZOFFSETFROM:+0200
TZOFFSETTO:+0100
TZNAME:CET
DTSTART:20231029T010000
END:STANDARD
BEGIN:DAYLIGHT
TZOFFSETFROM:+0100
TZOFFSETTO:+0200
TZNAME:CEST
DTSTART:20240331T010000
END:DAYLIGHT
BEGIN:STANDARD
TZOFFSETFROM:+0200
TZOFFSETTO:+0100
TZNAME:CET
DTSTART:20241027T010000
END:STANDARD
BEGIN:DAYLIGHT
TZOFFSETFROM:+0100
TZOFFSETTO:+0200
TZNAME:CEST
DTSTART:20250330T010000
END:DAYLIGHT
BEGIN:STANDARD
TZOFFSETFROM:+0200
TZOFFSETTO:+0100
TZNAME:CET
DTSTART:20251026T010000
END:STANDARD
BEGIN:DAYLIGHT
TZOFFSETFROM:+0100
TZOFFSETTO:+0200
TZNAME:CEST
DTSTART:20260329T010000
END:DAYLIGHT
BEGIN:STANDARD
TZOFFSETFROM:+0200
TZOFFSETTO:+0100
TZNAME:CET
DTSTART:20261025T010000
END:STANDARD
END:VTIMEZONE
BEGIN:VEVENT
DTSTART;TZID=Europe/Amsterdam:20250323T140000
DTEND;TZID=Europe/Amsterdam:20250323T220000
DTSTAMP:20260421T180837
CREATED:20250321T125157Z
LAST-MODIFIED:20250321T130240Z
UID:21241-1742738400-1742767200@www.flamencoagenda.nl
SUMMARY:Encuentros Flamencodag
DESCRIPTION:Nijmegen\, Thiemeloods – Flamencodag in Nijmegen. Met overdag peña met gratis optredens en Sevillanas workshop\, flamencomarkt en tapas buffet. ’s Avonds is er een live flamenco optreden met: Esteban Murillo (zang)\, Jessica Achten (dans)\, Tijn van der Sanden (gitaar)\, Carlos Ema (piano). Vanaf 17 uur wordt er paella geserveerd. \nVanaf 14.00 uur: Peña\, flamenco markt en tapas.\nRond 14.30 uur: Workshop Sevillanas dans\nVanaf 17 uur Paella\nReserveeer paella \nVanaf 20:00 uur: Flamenco voorstelling\nTickets \nOver deze voorstelling\n“Jessica Achten\, Tijn van der Zanden en Esteban Murillo beginnen een vaste waarde te worden voor het programma in de Thiemeloods! En terecht ze behoren tot de top. En mengsel van traditionele en moderne flamenco.”
URL:https://www.flamencoagenda.nl/event/encuentros-flamencodag/
LOCATION:Thiemeloods\, Leemptstraat 34\, Nijmegen\, 6512 EN
CATEGORIES:Live Flamenco
ATTACH;FMTTYPE=image/jpeg:https://www.flamencoagenda.nl/core/../wp-content/uploads/Flamenco-encuentros.jpg
END:VEVENT
BEGIN:VEVENT
DTSTART;TZID=Europe/Amsterdam:20240601T180000
DTEND;TZID=Europe/Amsterdam:20240601T180000
DTSTAMP:20260421T180837
CREATED:20240404T213727Z
LAST-MODIFIED:20240404T213727Z
UID:20493-1717264800-1717264800@www.flamencoagenda.nl
SUMMARY:Noche Flamenca
DESCRIPTION:Heusden-Zolder (BE) – Flamencoavond met 2 shows en paella. Met artiesten: flamenco ‘La Juana’\, Samina & Federico Ordoñez (dans)\, Esteban Murillo (zang) en Anthony Carrubba (gitaar). \nProgramma\n18.00 uur: eerste show\n20.30 uur: tweede show\n22.00 uur: afterparty met live Latin-band\nTussen 19.30 en 22.00 uur wordt er paella geserveerd. \nTickets alleen via voorverkoop: flamenco-samina@hotmail.com
URL:https://www.flamencoagenda.nl/event/noche-flamenca/
LOCATION:Cultuurcentrum Muze\, Marktplein 3\, Heusden-Zolder\, 3550\, België
CATEGORIES:Live Flamenco
ATTACH;FMTTYPE=image/jpeg:https://www.flamencoagenda.nl/core/../wp-content/uploads/Noche-flamenca-flamencoagenda.jpeg
END:VEVENT
END:VCALENDAR