BEGIN:VCALENDAR
VERSION:2.0
PRODID:-//flamencoagenda.nl - ECPv6.15.20//NONSGML v1.0//EN
CALSCALE:GREGORIAN
METHOD:PUBLISH
X-ORIGINAL-URL:https://www.flamencoagenda.nl
X-WR-CALDESC:Evenementen voor flamencoagenda.nl
REFRESH-INTERVAL;VALUE=DURATION:PT1H
X-Robots-Tag:noindex
X-PUBLISHED-TTL:PT1H
BEGIN:VTIMEZONE
TZID:Europe/Amsterdam
BEGIN:DAYLIGHT
TZOFFSETFROM:+0100
TZOFFSETTO:+0200
TZNAME:CEST
DTSTART:20200329T010000
END:DAYLIGHT
BEGIN:STANDARD
TZOFFSETFROM:+0200
TZOFFSETTO:+0100
TZNAME:CET
DTSTART:20201025T010000
END:STANDARD
BEGIN:DAYLIGHT
TZOFFSETFROM:+0100
TZOFFSETTO:+0200
TZNAME:CEST
DTSTART:20210328T010000
END:DAYLIGHT
BEGIN:STANDARD
TZOFFSETFROM:+0200
TZOFFSETTO:+0100
TZNAME:CET
DTSTART:20211031T010000
END:STANDARD
BEGIN:DAYLIGHT
TZOFFSETFROM:+0100
TZOFFSETTO:+0200
TZNAME:CEST
DTSTART:20220327T010000
END:DAYLIGHT
BEGIN:STANDARD
TZOFFSETFROM:+0200
TZOFFSETTO:+0100
TZNAME:CET
DTSTART:20221030T010000
END:STANDARD
BEGIN:DAYLIGHT
TZOFFSETFROM:+0100
TZOFFSETTO:+0200
TZNAME:CEST
DTSTART:20230326T010000
END:DAYLIGHT
BEGIN:STANDARD
TZOFFSETFROM:+0200
TZOFFSETTO:+0100
TZNAME:CET
DTSTART:20231029T010000
END:STANDARD
END:VTIMEZONE
BEGIN:VEVENT
DTSTART;VALUE=DATE:20221217
DTEND;VALUE=DATE:20221219
DTSTAMP:20260420T031845
CREATED:20221126T205505Z
LAST-MODIFIED:20221130T164450Z
UID:19729-1671235200-1671407999@www.flamencoagenda.nl
SUMMARY:Zambomba weekend met El Gamba de Jerez
DESCRIPTION:Arnhem – Flor de Fango & Buurthuis ’t Huukske – Weekendworkshop met afsluitend flamencokerstfeest. Er zijn workshops meerstemmig Villancicos (flamencostijl flamencokerstliederen) zingen en gitaar of tamboerijn spelen. Als speciale gast is de Spaanse flamencozanger David El Gamba de Jerez aanwezig. De andere docenten zijn gitarist Jurgen Rijkers en danseres Antje Herber. \nProgramma 17 en 18 december\n– Bulerias por Fiesta dansen (vanaf 2 jr)\nZaterdag 14.00-17.00 uur\, zondag 12.30-14.00 uur\, in Flor de Fango\n– Villancios zingen (voor iedereen)\nZondag 15.00-16.30 uur in ’t Huukske\n– Zambomba: muzikaal kerstfeest met samenzang\, optredens en open podium.\nZondag 17.00-20.30 uur in ’t Huukske \nt Huukske\nMaurtisstraat 22\, 6812 BS Arnhem\nGoogle Maps \nFlor de Fango\nWezenstraat 5\, 6811 CR Arnhem\nGoogle Maps
URL:https://www.flamencoagenda.nl/event/zambomba-weekend-met-el-gamba-de-jerez/
LOCATION:’t Huuskse\, Maurtisstraat 22\, Arnhem\, 6812 BS
CATEGORIES:Live & Workshops
ATTACH;FMTTYPE=image/png:https://www.flamencoagenda.nl/core/../wp-content/uploads/Zambomba-Arnhem-Antje-Jurgen-Gamba.png
ORGANIZER;CN="Flamencovakanties":MAILTO:flamencovakanties@gmail.com
END:VEVENT
BEGIN:VEVENT
DTSTART;TZID=Europe/Amsterdam:20221119T193000
DTEND;TZID=Europe/Amsterdam:20221119T193000
DTSTAMP:20260420T031845
CREATED:20221114T174341Z
LAST-MODIFIED:20221114T174410Z
UID:19676-1668886200-1668886200@www.flamencoagenda.nl
SUMMARY:Flamenco Café Cantante
DESCRIPTION:Theatergarage Borgerhout (BE) – ‘Flamenco zoals je het wilt beleven’ met volop gevarieerde zang\, dans en gitaar\, én pianomuziek. Met veel verschillende artiesten en een buffet van tapas en drankjes. \nArtiesten: Carlos Ema (piano flamenco)\, Antje Herber (dans en zang)\, Juan Peñas (zang)\, Karin Eij (dans en zang)\, Vicente Jose Santiago (gitaar)\, Kristel Baris (dans)\, Stefan Kwa (gitaar)\, Jorinde Cielen (dans en zang). \nTickets via (0032)048626284773
URL:https://www.flamencoagenda.nl/event/flamenco-cafe-cantante/
LOCATION:De Theatergarage\, Bouwhandelstraat 72\, Borgerhout\, 2140\, België
CATEGORIES:Live Flamenco
ATTACH;FMTTYPE=image/png:https://www.flamencoagenda.nl/core/../wp-content/uploads/cafe-cantante.png
END:VEVENT
BEGIN:VEVENT
DTSTART;VALUE=DATE:20210911
DTEND;VALUE=DATE:20210912
DTSTAMP:20260420T031845
CREATED:20210703T192616Z
LAST-MODIFIED:20210709T122850Z
UID:18858-1631318400-1631404799@www.flamencoagenda.nl
SUMMARY:Flamenco Festival Rotterdam Presents: Claudia Karapanou
DESCRIPTION:Rotterdam\, New Grounds – Live flamenco met flamencodanseres Claudia Karapanou\, begeleid door Cristina Regajo (zang)\, Lucas Arango (gitaar) en Udo Demandt (percussie). \nEr zijn vandaag 2 voorstellingen: om 17.30 uur en 20.00 uur.
URL:https://www.flamencoagenda.nl/event/flamenco-festival-rotterdam-presents-claudia-karapanou/
LOCATION:New Grounds\, 's-Gravendijkwal 58\, Rotterdam\, 3014 EE
CATEGORIES:Live Flamenco
ATTACH;FMTTYPE=image/png:https://www.flamencoagenda.nl/core/../wp-content/uploads/Claudia-Karpanou.png
ORGANIZER;CN="Flamenco Festival Rotterdam":MAILTO:production@flamencofestivalrotterdam.com
END:VEVENT
BEGIN:VEVENT
DTSTART;TZID=Europe/Amsterdam:20210905T183000
DTEND;TZID=Europe/Amsterdam:20210905T220000
DTSTAMP:20260420T031845
CREATED:20210703T195436Z
LAST-MODIFIED:20210709T123335Z
UID:18862-1630866600-1630879200@www.flamencoagenda.nl
SUMMARY:Peña Flamenca Duende
DESCRIPTION:Amsterdam\, Café Restaurant Duende – Maandelijkse bijeenkomst (iedere eerste zondag van de maand) van flamencoliefhebbers om samen muziek te maken\, te dansen en flamenco te vieren. Inclusief open podium (vooraf opgeven bij Maria Spaans van Terremoto info@terremoto.nl). De peña is in de achterzaal van tapasrestaurant Duende. \n18.30-19.30 uur vrij Sevillanas dansen met muziek\n19.30-22.00 uur Peña flamenca / open podium
URL:https://www.flamencoagenda.nl/event/pena-flamenca-duende-3/
LOCATION:Cafe Duende\, Lindengracht 62\, AMSTERDAM\, 1015KJ
CATEGORIES:Live Flamenco
ATTACH;FMTTYPE=image/png:https://www.flamencoagenda.nl/core/../wp-content/uploads/Pena-Duende.png
ORGANIZER;CN="Terremoto":MAILTO:info@terremoto.nl
END:VEVENT
BEGIN:VEVENT
DTSTART;VALUE=DATE:20210829
DTEND;VALUE=DATE:20210830
DTSTAMP:20260420T031845
CREATED:20210703T193848Z
LAST-MODIFIED:20210703T193848Z
UID:18860-1630195200-1630281599@www.flamencoagenda.nl
SUMMARY:Lleno de Flamenco 2021 'Flamenco y Danza'
DESCRIPTION:Amsterdam\, Podium Mozaïek – Live flamenco met professionele flamencoartiesten uit binnen- en buitenland. \nArtiesten: Jessica Achten\, Conchita Boon\, Jorinde Cielen\, Pastora Flamenca (dans)\, Anoush Adaat\, Jeff Heine\, Tijn vd Sanden (gitaar)\, Juri Kuefner (percussie)\, Juan Peñas (zang). \nEr is een randprogramma met onder meer een flashmob van Jorinde Cielen\, een ‘Viva Sevilla’ flamenco modeshow\, kostuums van Thessa Mobach en een introductieworkshop cajón & palmas \nDe voorstelling wordt vandaag 2 keer gegeven:\n1e voorstelling: 13.15 uur-14.30 uur\n2e voorstelling: 15.15 uur-16.30 uur
URL:https://www.flamencoagenda.nl/event/lleno-de-flamenco-2021-flamenco-y-danza/
LOCATION:Podium Mozaiek\, Bos en Lommerweg 191\, Amsterdam\, 1055 DT
CATEGORIES:Live Flamenco,Workshops
ATTACH;FMTTYPE=image/jpeg:https://www.flamencoagenda.nl/core/../wp-content/uploads/lleno-de-flamenco-2018.jpg
ORGANIZER;CN="Terremoto":MAILTO:info@terremoto.nl
END:VEVENT
BEGIN:VEVENT
DTSTART;VALUE=DATE:20210711
DTEND;VALUE=DATE:20210712
DTSTAMP:20260420T031845
CREATED:20210703T191440Z
LAST-MODIFIED:20210709T142055Z
UID:18853-1625961600-1626047999@www.flamencoagenda.nl
SUMMARY:Flamenco Festival Rotterdam Presents: Bastián El Holandés y Niño Martín
DESCRIPTION:Rotterdam\, New Grounds – Flamencoconcert met flamencozang van Bastián El Holandés en de uit Huelva afkomstige gitarist Niño Martín. Het concert wordt vandaag 2 keer gegeven. Om 14.30 uur en om 16.00 uur. \nOver dit concert\nDe Rotterdamse Sebastiaan Jansen\, Bastián El Holandés\,heeft speciaal voor dit concert een compilatie gemaakt van een aantal verschillende flamenco-stijlen\, waaronder Solea en Seguiriyas de Triana. Samen met de Spaanse gitarist Niño Martin is gezocht naar een nieuwe interpretatie van verschillende stijlen uit de cante jondo. Vergeten liederen van Minera en Tientos worden tijdens dit concert nieuw leven ingeblazen. Sebastiaan Jansenen Niño Martin hebben elkaar ontmoet in Sevilla\, Spanje.”
URL:https://www.flamencoagenda.nl/event/flamenco-festival-rotterdam-presents-bastian-el-holandes-y-nino-martin/
LOCATION:New Grounds\, 's-Gravendijkwal 58\, Rotterdam\, 3014 EE
CATEGORIES:Live Flamenco
ATTACH;FMTTYPE=image/png:https://www.flamencoagenda.nl/core/../wp-content/uploads/Nino-Martin-flamencogitaar.png
ORGANIZER;CN="Flamenco Festival Rotterdam":MAILTO:production@flamencofestivalrotterdam.com
END:VEVENT
END:VCALENDAR