BEGIN:VCALENDAR
VERSION:2.0
PRODID:-//flamencoagenda.nl - ECPv6.15.20//NONSGML v1.0//EN
CALSCALE:GREGORIAN
METHOD:PUBLISH
X-WR-CALNAME:flamencoagenda.nl
X-ORIGINAL-URL:https://www.flamencoagenda.nl
X-WR-CALDESC:Evenementen voor flamencoagenda.nl
REFRESH-INTERVAL;VALUE=DURATION:PT1H
X-Robots-Tag:noindex
X-PUBLISHED-TTL:PT1H
BEGIN:VTIMEZONE
TZID:Europe/Amsterdam
BEGIN:DAYLIGHT
TZOFFSETFROM:+0100
TZOFFSETTO:+0200
TZNAME:CEST
DTSTART:20170326T010000
END:DAYLIGHT
BEGIN:STANDARD
TZOFFSETFROM:+0200
TZOFFSETTO:+0100
TZNAME:CET
DTSTART:20171029T010000
END:STANDARD
BEGIN:DAYLIGHT
TZOFFSETFROM:+0100
TZOFFSETTO:+0200
TZNAME:CEST
DTSTART:20180325T010000
END:DAYLIGHT
BEGIN:STANDARD
TZOFFSETFROM:+0200
TZOFFSETTO:+0100
TZNAME:CET
DTSTART:20181028T010000
END:STANDARD
BEGIN:DAYLIGHT
TZOFFSETFROM:+0100
TZOFFSETTO:+0200
TZNAME:CEST
DTSTART:20190331T010000
END:DAYLIGHT
BEGIN:STANDARD
TZOFFSETFROM:+0200
TZOFFSETTO:+0100
TZNAME:CET
DTSTART:20191027T010000
END:STANDARD
END:VTIMEZONE
BEGIN:VEVENT
DTSTART;TZID=Europe/Amsterdam:20180302T203000
DTEND;TZID=Europe/Amsterdam:20180302T203000
DTSTAMP:20260421T230547
CREATED:20171223T000324Z
LAST-MODIFIED:20171223T000324Z
UID:11963-1520022600-1520022600@www.flamencoagenda.nl
SUMMARY:Intermezzo Flamenco: Niño de Elche
DESCRIPTION:Rotterdam\, De Doelen Eduard Flipse Zaal – Concert in het kader van Intermezzo Flamenco van Flamenco Biënnale Nederland. Niño de Elche presenteert met zijn trio (piano\, gitaar en synthesiser) zijn nieuwste CD ‘Antología del Flamenco heterodoxo’. Een album “waarop hij zijn onorthodoxe vertolkingen van de flamencotraditie geeft” aldus de organisatie. Er zijn drie concerten in deze tweede serie van het Intermezzo Flamenco.\nMet: Niño de Elche (zang) Raúl Cantizano Núñez (gitaar) en Ylia (synthesiser\, keyboard). \nOver Niño de Elche\n“Niño de Elche is niet zomaar een flamencozanger\, maar een performer die traditionele grenzen verlegt met poëzie\, elektronica en duistere invloeden uit de post-punk.” \nfoto ©Ginette Lavell
URL:https://www.flamencoagenda.nl/event/intermezzo-flamenco-nino-de-elche-2/
LOCATION:De Doelen\, Schouwburgplein 50\, ROTTERDAM\, 3012 CL
CATEGORIES:Live Flamenco
ATTACH;FMTTYPE=image/jpeg:https://www.flamencoagenda.nl/core/../wp-content/uploads/nino-de-elche-foto-ginette-lavell.jpg
END:VEVENT
BEGIN:VEVENT
DTSTART;TZID=Europe/Amsterdam:20180114T193000
DTEND;TZID=Europe/Amsterdam:20180114T193000
DTSTAMP:20260421T230547
CREATED:20171117T213355Z
LAST-MODIFIED:20171117T213441Z
UID:11783-1515958200-1515958200@www.flamencoagenda.nl
SUMMARY:Exodus
DESCRIPTION:Roeselare\, CC De Spil – Voorstelling over volken die moeten vluchten. Met onder meer flamencodans en -muziek. “Vluchtelingen zijn van alle tijden en van alle landen. Tijd en plaats zijn steeds anders. Maar de redenen voor het vluchten en de verhalen blijven steeds dezelfde.”\nMet: Wouter Vandenabeele (viool en artistiek leider)\, Osama Abdulrasol (qanun)\, Tarek Al Sayed (oud)\, François Taillefer (percussie)\, Inès de Inès (flamencodans)\, Carmen Fernandez (flamencozang)\, Alexander Gavilan (flamencogitaar) Frans De Clercq (Rebetiko zang en bouzouki)\, Michel Karakatsanis (Rebetikozang en bouzouki)\, Karsten de Vilder (Rebetikozang en gitaar)\, Dimi Dumortier (Rebetikozang en percussie).
URL:https://www.flamencoagenda.nl/event/exodus/
LOCATION:De Spil\, Hippoliet Spilleboutdreef 1\, Roeselare\, 8800
CATEGORIES:Live Flamenco
ATTACH;FMTTYPE=image/jpeg:https://www.flamencoagenda.nl/core/../wp-content/uploads/Exodus.jpg
END:VEVENT
END:VCALENDAR