BEGIN:VCALENDAR
VERSION:2.0
PRODID:-//flamencoagenda.nl - ECPv6.15.20//NONSGML v1.0//EN
CALSCALE:GREGORIAN
METHOD:PUBLISH
X-WR-CALNAME:flamencoagenda.nl
X-ORIGINAL-URL:https://www.flamencoagenda.nl
X-WR-CALDESC:Evenementen voor flamencoagenda.nl
REFRESH-INTERVAL;VALUE=DURATION:PT1H
X-Robots-Tag:noindex
X-PUBLISHED-TTL:PT1H
BEGIN:VTIMEZONE
TZID:Europe/Amsterdam
BEGIN:DAYLIGHT
TZOFFSETFROM:+0100
TZOFFSETTO:+0200
TZNAME:CEST
DTSTART:20140330T010000
END:DAYLIGHT
BEGIN:STANDARD
TZOFFSETFROM:+0200
TZOFFSETTO:+0100
TZNAME:CET
DTSTART:20141026T010000
END:STANDARD
BEGIN:DAYLIGHT
TZOFFSETFROM:+0100
TZOFFSETTO:+0200
TZNAME:CEST
DTSTART:20150329T010000
END:DAYLIGHT
BEGIN:STANDARD
TZOFFSETFROM:+0200
TZOFFSETTO:+0100
TZNAME:CET
DTSTART:20151025T010000
END:STANDARD
BEGIN:DAYLIGHT
TZOFFSETFROM:+0100
TZOFFSETTO:+0200
TZNAME:CEST
DTSTART:20160327T010000
END:DAYLIGHT
BEGIN:STANDARD
TZOFFSETFROM:+0200
TZOFFSETTO:+0100
TZNAME:CET
DTSTART:20161030T010000
END:STANDARD
BEGIN:DAYLIGHT
TZOFFSETFROM:+0100
TZOFFSETTO:+0200
TZNAME:CEST
DTSTART:20170326T010000
END:DAYLIGHT
BEGIN:STANDARD
TZOFFSETFROM:+0200
TZOFFSETTO:+0100
TZNAME:CET
DTSTART:20171029T010000
END:STANDARD
BEGIN:DAYLIGHT
TZOFFSETFROM:+0100
TZOFFSETTO:+0200
TZNAME:CEST
DTSTART:20180325T010000
END:DAYLIGHT
BEGIN:STANDARD
TZOFFSETFROM:+0200
TZOFFSETTO:+0100
TZNAME:CET
DTSTART:20181028T010000
END:STANDARD
BEGIN:DAYLIGHT
TZOFFSETFROM:+0100
TZOFFSETTO:+0200
TZNAME:CEST
DTSTART:20190331T010000
END:DAYLIGHT
BEGIN:STANDARD
TZOFFSETFROM:+0200
TZOFFSETTO:+0100
TZNAME:CET
DTSTART:20191027T010000
END:STANDARD
BEGIN:DAYLIGHT
TZOFFSETFROM:+0100
TZOFFSETTO:+0200
TZNAME:CEST
DTSTART:20200329T010000
END:DAYLIGHT
BEGIN:STANDARD
TZOFFSETFROM:+0200
TZOFFSETTO:+0100
TZNAME:CET
DTSTART:20201025T010000
END:STANDARD
BEGIN:DAYLIGHT
TZOFFSETFROM:+0100
TZOFFSETTO:+0200
TZNAME:CEST
DTSTART:20210328T010000
END:DAYLIGHT
BEGIN:STANDARD
TZOFFSETFROM:+0200
TZOFFSETTO:+0100
TZNAME:CET
DTSTART:20211031T010000
END:STANDARD
BEGIN:DAYLIGHT
TZOFFSETFROM:+0100
TZOFFSETTO:+0200
TZNAME:CEST
DTSTART:20220327T010000
END:DAYLIGHT
BEGIN:STANDARD
TZOFFSETFROM:+0200
TZOFFSETTO:+0100
TZNAME:CET
DTSTART:20221030T010000
END:STANDARD
BEGIN:DAYLIGHT
TZOFFSETFROM:+0100
TZOFFSETTO:+0200
TZNAME:CEST
DTSTART:20230326T010000
END:DAYLIGHT
BEGIN:STANDARD
TZOFFSETFROM:+0200
TZOFFSETTO:+0100
TZNAME:CET
DTSTART:20231029T010000
END:STANDARD
BEGIN:DAYLIGHT
TZOFFSETFROM:+0100
TZOFFSETTO:+0200
TZNAME:CEST
DTSTART:20240331T010000
END:DAYLIGHT
BEGIN:STANDARD
TZOFFSETFROM:+0200
TZOFFSETTO:+0100
TZNAME:CET
DTSTART:20241027T010000
END:STANDARD
BEGIN:DAYLIGHT
TZOFFSETFROM:+0100
TZOFFSETTO:+0200
TZNAME:CEST
DTSTART:20250330T010000
END:DAYLIGHT
BEGIN:STANDARD
TZOFFSETFROM:+0200
TZOFFSETTO:+0100
TZNAME:CET
DTSTART:20251026T010000
END:STANDARD
END:VTIMEZONE
BEGIN:VEVENT
DTSTART;VALUE=DATE:20240906
DTEND;VALUE=DATE:20240909
DTSTAMP:20260419T171032
CREATED:20240904T214931Z
LAST-MODIFIED:20240904T215007Z
UID:21053-1725580800-1725839999@www.flamencoagenda.nl
SUMMARY:Feria Flamenca de Jette
DESCRIPTION:Jette (Brussel Hoofdstelijk Gewest) – Drie dagen durend flamencofeest met verschillende concerten. tablaos\, presentaties van flamencoscholen\, workshops\, Sevillanas flashmobs\, kinderactiviteiten\, flamenco modeshow\, dj’s en tapas. Deze flamenco feria wordt georganiseerd door Casa Veronica. \nProgrammering flamenco shows\nVrijdag 6 september\n18.30-19.00 uur: Concert Juan Torres (zang) & David Sánchez (gitaar)\n20.00-21.00 uur: Tablao Esteban Murillo (zang)\, Christina Hall (dans) & Anthony Carrubba (gitaar) \nZaterdag 7 september\n17.00-18.00 uur: Concert Lea Llinares (dans)\, Cécile Evrot (piano)\, Lidia Rodríguez\, ‘Lidia de Paradas’ (zang)\, Patricio Grande (gitaar)\, Ramón León Matías (percussie).\n19.00-20.00: Tablao Alexander Gavilan (gitaar)\, Irene Alvarez (dans) & Juan Granados (zang). \nZondag 8 september\n17.00-18.00: Tablao Juan Granados (zang)\, Elena La Grulla (dans) & Antonio Segura (gitaar)\n20.00-21.00 uur: Lucas El Luco (dans)\, José-Luis Dominguez & Antonio Segura (gitaar) & Juan Granados (zang) \nDit evenement vindt plaats op verschillende locaties in Jette. \nBekijk het hele programma
URL:https://www.flamencoagenda.nl/event/feria-flamenca-de-jette/
LOCATION:Place Cardinal Mercier/\, Place Cardinal Mercier/\, Jette\, België
CATEGORIES:Live Flamenco
ATTACH;FMTTYPE=image/png:https://www.flamencoagenda.nl/core/../wp-content/uploads/Feria-de-Jette-2024.png
ORGANIZER;CN="Casa Veronica":MAILTO:contact.casa.veronica@gmail.com
END:VEVENT
BEGIN:VEVENT
DTSTART;TZID=Europe/Amsterdam:20170617T130000
DTEND;TZID=Europe/Amsterdam:20170617T235500
DTSTAMP:20260419T171032
CREATED:20170615T210528Z
LAST-MODIFIED:20170615T210616Z
UID:10314-1497704400-1497743700@www.flamencoagenda.nl
SUMMARY:Feria Andaluza Ridderkerk
DESCRIPTION:Ridderkerk\, Hogar Andalucia – Spaans feest met flamencogroepen uit Nederland\, sangria\, paella en churros. Verder een mini braderie met (flamenco)kleding\, de handgemaakte flamencorokken van Lola La Jindra\, kinderactiviteiten en een loterij. Aansluitend op de podiumoptredens vrij dansen met DJ Corrito.
URL:https://www.flamencoagenda.nl/event/feria-andaluza-ridderkerk/
LOCATION:Hogar Andalucia\, Van Riebeekstraat 3\, Ridderkerk\, 2987 AV
CATEGORIES:Live Flamenco
ATTACH;FMTTYPE=image/jpeg:https://www.flamencoagenda.nl/core/../wp-content/uploads/flamencomarkt.jpg
END:VEVENT
BEGIN:VEVENT
DTSTART;TZID=Europe/Amsterdam:20160908T190000
DTEND;TZID=Europe/Amsterdam:20160911T220000
DTSTAMP:20260419T171032
CREATED:20160811T190313Z
LAST-MODIFIED:20160811T190313Z
UID:7065-1473361200-1473631200@www.flamencoagenda.nl
SUMMARY:Feria d'Oupeye
DESCRIPTION:Chateau d’Oupeye – Vier dagen durende Andalusische feria met flamencomuziek\, dans\, Sevillanas\, Andalusische paardenshows en Spaans eten en drinken. De feria wordt op donderdag 8 september om 19.00 uur geopend. Artiesten\, o.a. Ramon Ritmo Latino\, El viento del barrio\, Academie Alegria\, Dj Ale Elcubano\, Estrellas\, Yoni Vidal. La Huella. Cecilia Gonzalez en Ritmo Rosario.
URL:https://www.flamencoagenda.nl/event/feria-doupeye/
LOCATION:Château d’Oupeye\, Rue Roi Albert 127 \, Oupeye\, 4680\, België
CATEGORIES:Live Flamenco
ATTACH;FMTTYPE=image/jpeg:https://www.flamencoagenda.nl/core/../wp-content/uploads/Oupeye-flamenco.jpg
END:VEVENT
BEGIN:VEVENT
DTSTART;VALUE=DATE:20160528
DTEND;VALUE=DATE:20160529
DTSTAMP:20260419T171032
CREATED:20160316T123933Z
LAST-MODIFIED:20160316T123933Z
UID:5959-1464393600-1464479999@www.flamencoagenda.nl
SUMMARY:Vamos a La Haya
DESCRIPTION:Den Haag\, De Nieuwe Regentes – Leerlingenvoorstelling en Spaans dans-\, muziek- en eet- en drinkfeest Haagse stijl. Er is ook een workshop Sevillanas. Deze vrolijke Spaanse dans kan je dan meteen op het feest (de feria) in de praktijk brengen. \nProgramma\n16.00-18.00 uur Beginners en/of opfrisworkshop(s) Sevillanas\n18.00-19.30 uur Spaanse maaltijd\n19.30-20.45 Leerlingenpresentaties. Met de leerlingen van: Mascha Meijman\, begeleid op de gitaar door Timen van den Berg; Lizzy Verloop\, begeleid op de gitaar door Adrian Voogd; Karin Eij\, begeleid op de gitaar door Johan Frauenfelder.\n21.30-23.30 Feria – Spaans (dans)feest met live muziek. Met: Ermínia Fernández Córdoba (zang)\,\nArtúro Ramón (gitaar en basgitaar)\, Johan Frauenfelder (zang\, gitaar en basgitaar)\,\nMarcel de Graaf (zang en gitaar) en Ron van Holland (percussie). \nHet is mogelijk om voor ieder onderdeel een los kaartje te kopen of om een combi-ticket voor de hele dag te kopen. Meer informatie bij het theater. \n 
URL:https://www.flamencoagenda.nl/event/vamos-a-la-haya/
LOCATION:Theater De Nieuwe Regentes\, Weimarstraat 63\, Den Haag\, 2562 GR\, Nederland
CATEGORIES:Live Flamenco,Workshops
ATTACH;FMTTYPE=image/jpeg:https://www.flamencoagenda.nl/core/../wp-content/uploads/Vamos-a-La-Haya.jpg
END:VEVENT
BEGIN:VEVENT
DTSTART;TZID=Europe/Amsterdam:20151127T180000
DTEND;TZID=Europe/Amsterdam:20151127T235500
DTSTAMP:20260419T171032
CREATED:20150923T132452Z
LAST-MODIFIED:20150923T132452Z
UID:4721-1448647200-1448668500@www.flamencoagenda.nl
SUMMARY:Feria de Amsterdam
DESCRIPTION:Amsterdam\, Puerto Pata Negra – Gran Noche Sevillana met Sevillanas dansen\, tapas\, flamenco\, barbecue\, een Sevillaanse caseta\, live muziek van Coro del Campo\, Mario Gracia & Gil Lopez en uit Sevilla de formatie Chispazo. Reserveren via e-mail bij organisator gewenst.
URL:https://www.flamencoagenda.nl/event/feria-de-amsterdam-2/
LOCATION:Puerto Pata Negra\, Oostelijke Handelskade 999\, AMSTERDAM\, 1019 BW
CATEGORIES:Live Flamenco
ATTACH;FMTTYPE=image/jpeg:https://www.flamencoagenda.nl/core/../wp-content/uploads/feria-de-amsterdam1.jpg
ORGANIZER;CN="Feria de Amsterdam":MAILTO:feriatickets[at]gmail.com
END:VEVENT
BEGIN:VEVENT
DTSTART;TZID=Europe/Amsterdam:20151115T140000
DTEND;TZID=Europe/Amsterdam:20151115T170000
DTSTAMP:20260419T171032
CREATED:20150409T172736Z
LAST-MODIFIED:20150606T062548Z
UID:3246-1447596000-1447606800@www.flamencoagenda.nl
SUMMARY:Plaza flamenca
DESCRIPTION:Maastricht\, Auw Pastorie – Stichting Flamenco Limburg wil met het regelmatig terug kerende evenement Plaza Flamenca de gelegenheid bieden aan liefhebbers van flamenco en de Spaanse cultuur om elkaar te ontmoeten en te inspireren met o.a. flamencodans\, -muziek\, lezingen\, film\, reizen\, koken.De middag begint met kans om Sevillanas te oefenen van 14 tot 15 uur.
URL:https://www.flamencoagenda.nl/event/plaza-flamenca-2/
LOCATION:Auw Pastorie\, Kerkstraat 3\, Born\, 6121 LA
CATEGORIES:Live Flamenco
ATTACH;FMTTYPE=image/jpeg:https://www.flamencoagenda.nl/core/../wp-content/uploads/plaza-flamenca-limburg.jpg
ORGANIZER;CN="Flamenco Limburg":MAILTO:flamencolimburg[at]gmail.com
END:VEVENT
BEGIN:VEVENT
DTSTART;VALUE=DATE:20150912
DTEND;VALUE=DATE:20150913
DTSTAMP:20260419T171032
CREATED:20150705T152151Z
LAST-MODIFIED:20150705T152239Z
UID:3880-1442016000-1442102399@www.flamencoagenda.nl
SUMMARY:Feria de Veenendaal
DESCRIPTION:Veenendaal\, div. locaties – Een Spaanse feria in Veenendaal. Met tapas\, muziek\, sangria en flamencoworkshops en -optredens van Heleen Janssen van Casa Flamenco (Kambiz Afshari flamencogitaar). 14:30 – 15:30 uur workshop kennismaking flamencodans. 16:30 – 17:30 uur optreden. Zie voor het hele programma en aanmelding workshop via website organisator.
URL:https://www.flamencoagenda.nl/event/feria-de-veenendaal/
LOCATION:Onbenoemde locatie\, Veenendaal
CATEGORIES:Live Flamenco,Workshops
ATTACH;FMTTYPE=image/jpeg:https://www.flamencoagenda.nl/core/../wp-content/uploads/feria-de-veenendaal.jpg
END:VEVENT
BEGIN:VEVENT
DTSTART;TZID=Europe/Amsterdam:20150829T110000
DTEND;TZID=Europe/Amsterdam:20150829T170000
DTSTAMP:20260419T171032
CREATED:20150604T203228Z
LAST-MODIFIED:20150604T203245Z
UID:3646-1440846000-1440867600@www.flamencoagenda.nl
SUMMARY:Feria de Floriande
DESCRIPTION:Hoofddorp\, Genderenplein – Hele dag feria met tapas\, workshops en Spaanse drankjes. Van 11 tot 17 uur. Inclusief een workshop flamencodans van Pastora en een workshop Sevillanas dans van Susana Lizana. Het trio Taranga met zangeres Lola Peña Martos\, gitarist Piet van Steenis en percussionist Bart van Dalen verzorgt de live muziek \n  \n 
URL:https://www.flamencoagenda.nl/event/feria-de-floriande/
LOCATION:Feria de Floriande\, Genderenplein\, Hoofddorp\, 2134 DM
CATEGORIES:Live Flamenco,Workshops
ATTACH;FMTTYPE=image/jpeg:https://www.flamencoagenda.nl/core/../wp-content/uploads/feria-de-floriande.jpg
END:VEVENT
BEGIN:VEVENT
DTSTART;TZID=Europe/Amsterdam:20150627T110000
DTEND;TZID=Europe/Amsterdam:20150627T170000
DTSTAMP:20260419T171032
CREATED:20150626T131722Z
LAST-MODIFIED:20150626T131722Z
UID:3858-1435402800-1435424400@www.flamencoagenda.nl
SUMMARY:Spaanse dag
DESCRIPTION:Heemstede – Mundo Hispánico en kindvriendelijk restaurant Grut & Groot organiseren tijden “De Smaak van Heemstede” de Spaanse dag. De tuin van het restaurant wordt voor deze gelegenheid omgetoverd in een Spaanse patio vol met bloemen\, kleur\, muziek\, en gratis workshops voor kinderen en natuurlijk authentiek Spaans eten. Inclusief cursus Sevillanas dansen. \n  \n 
URL:https://www.flamencoagenda.nl/event/spaanse-dag/
LOCATION:Grut & Groot\, Raadhuisstraat 62\, Heemstede 
CATEGORIES:Live Flamenco,Workshops
ATTACH;FMTTYPE=image/jpeg:https://www.flamencoagenda.nl/core/../wp-content/uploads/spaanse-dag.jpg
END:VEVENT
BEGIN:VEVENT
DTSTART;VALUE=DATE:20150613
DTEND;VALUE=DATE:20150614
DTSTAMP:20260419T171032
CREATED:20150605T124254Z
LAST-MODIFIED:20150609T214035Z
UID:3685-1434153600-1434239999@www.flamencoagenda.nl
SUMMARY:Spaanse dag Haarlem
DESCRIPTION:Haarlem\, Hodshon House – hele dag Spaanse hapjes\, drankjes en workshops en demonstraties. In Zaal Andalusië een aantal flamenco evenementen. \nWorkshop Sevillanas en optreden Ingrid Lackroy Casa Sevillana om 12.00\, 16.00\, 19.30 uur. Om 18.30 en 20.30 uur is er ook een flamenco optreden van de groep ‘Haymah’ met Vicente José Santiago en Jur Vermijs (gitaar)\, Irene Gabarrón (fluit)\, Javier Infestas (cajon flamenco) en Carmen Buitenhuis (dans).
URL:https://www.flamencoagenda.nl/event/spaanse-dag-haarlem/
LOCATION:Hodshon House\, Spaarne 17\, Haarlem
CATEGORIES:Live Flamenco,Workshops
ATTACH;FMTTYPE=image/jpeg:https://www.flamencoagenda.nl/core/../wp-content/uploads/spaanse-dag-haarlem.jpg
END:VEVENT
END:VCALENDAR