BEGIN:VCALENDAR
VERSION:2.0
PRODID:-//flamencoagenda.nl - ECPv6.15.20//NONSGML v1.0//EN
CALSCALE:GREGORIAN
METHOD:PUBLISH
X-ORIGINAL-URL:https://www.flamencoagenda.nl
X-WR-CALDESC:Evenementen voor flamencoagenda.nl
REFRESH-INTERVAL;VALUE=DURATION:PT1H
X-Robots-Tag:noindex
X-PUBLISHED-TTL:PT1H
BEGIN:VTIMEZONE
TZID:Europe/Amsterdam
BEGIN:DAYLIGHT
TZOFFSETFROM:+0100
TZOFFSETTO:+0200
TZNAME:CEST
DTSTART:20140330T010000
END:DAYLIGHT
BEGIN:STANDARD
TZOFFSETFROM:+0200
TZOFFSETTO:+0100
TZNAME:CET
DTSTART:20141026T010000
END:STANDARD
BEGIN:DAYLIGHT
TZOFFSETFROM:+0100
TZOFFSETTO:+0200
TZNAME:CEST
DTSTART:20150329T010000
END:DAYLIGHT
BEGIN:STANDARD
TZOFFSETFROM:+0200
TZOFFSETTO:+0100
TZNAME:CET
DTSTART:20151025T010000
END:STANDARD
BEGIN:DAYLIGHT
TZOFFSETFROM:+0100
TZOFFSETTO:+0200
TZNAME:CEST
DTSTART:20160327T010000
END:DAYLIGHT
BEGIN:STANDARD
TZOFFSETFROM:+0200
TZOFFSETTO:+0100
TZNAME:CET
DTSTART:20161030T010000
END:STANDARD
BEGIN:DAYLIGHT
TZOFFSETFROM:+0100
TZOFFSETTO:+0200
TZNAME:CEST
DTSTART:20170326T010000
END:DAYLIGHT
BEGIN:STANDARD
TZOFFSETFROM:+0200
TZOFFSETTO:+0100
TZNAME:CET
DTSTART:20171029T010000
END:STANDARD
BEGIN:DAYLIGHT
TZOFFSETFROM:+0100
TZOFFSETTO:+0200
TZNAME:CEST
DTSTART:20180325T010000
END:DAYLIGHT
BEGIN:STANDARD
TZOFFSETFROM:+0200
TZOFFSETTO:+0100
TZNAME:CET
DTSTART:20181028T010000
END:STANDARD
BEGIN:DAYLIGHT
TZOFFSETFROM:+0100
TZOFFSETTO:+0200
TZNAME:CEST
DTSTART:20190331T010000
END:DAYLIGHT
BEGIN:STANDARD
TZOFFSETFROM:+0200
TZOFFSETTO:+0100
TZNAME:CET
DTSTART:20191027T010000
END:STANDARD
END:VTIMEZONE
BEGIN:VEVENT
DTSTART;TZID=Europe/Amsterdam:20181110T210000
DTEND;TZID=Europe/Amsterdam:20181110T210000
DTSTAMP:20260419T230601
CREATED:20181103T210312Z
LAST-MODIFIED:20181103T210431Z
UID:13760-1541883600-1541883600@www.flamencoagenda.nl
SUMMARY:Encuentros 'Tierradentro'
DESCRIPTION:Maaseik\, Danshuis Volmolen – ‘Tierradentro\, door Encuentros: Jessica Achten (dans) en Tijn van der Sanden (gitaar) met gastartiesten María Marín (zang)\, Anne Korff de Gidts (cello) en Claudio Spieler (percussie).  \n“Encuentros gaat op zoek naar geluiden\, gevoelens\, bewegingen en emoties die diep uit ons zelf komen om zo een glimp uit het binnenste van de aarde op te vangen. Wat gaat er schuil achter een lach? Wat ligt er onder de oppervlakte?”
URL:https://www.flamencoagenda.nl/event/encuentros-tierradentro/
LOCATION:Danshuis Volmolen\, Volmolenstraat 11\, Maaseik (Opoeteren)
CATEGORIES:Live Flamenco
ATTACH;FMTTYPE=image/jpeg:https://www.flamencoagenda.nl/core/../wp-content/uploads/Encuentros-Jessica-Achten.jpg
ORGANIZER;CN="Lene Vanderstegen":MAILTO:lenevandersteegen@telenet.be
END:VEVENT
BEGIN:VEVENT
DTSTART;TZID=Europe/Amsterdam:20170420T190000
DTEND;TZID=Europe/Amsterdam:20170420T213000
DTSTAMP:20260419T230601
CREATED:20170406T203431Z
LAST-MODIFIED:20170406T203431Z
UID:9666-1492714800-1492723800@www.flamencoagenda.nl
SUMMARY:Zang en ritme voor dansers
DESCRIPTION:Arnhem\, Theater de Leeuw – Workshop zang en ritme voor dansers in de stijl Bulerias por Fiesta door de flamencozangeres Yota Baron geschikt voor alle niveaus. “In deze workshop leer je het ritme van de bulerias\, letras om te zingen en een pataita (korte choreografie) om te dansen.”
URL:https://www.flamencoagenda.nl/event/zang-en-ritme-voor-dansers-2/
LOCATION:Theater De Leeuw\, Leeuwensteinplein 1\, Arnhem\, 6824 DA
CATEGORIES:Workshops
ATTACH;FMTTYPE=image/jpeg:https://www.flamencoagenda.nl/core/../wp-content/uploads/yota-baron-2.jpg
ORGANIZER;CN="Thessa Mobach":MAILTO:flamenco.arnhem@gmail.com
END:VEVENT
BEGIN:VEVENT
DTSTART;TZID=Europe/Amsterdam:20151106T193000
DTEND;TZID=Europe/Amsterdam:20151106T223000
DTSTAMP:20260419T230601
CREATED:20151014T173842Z
LAST-MODIFIED:20151015T082544Z
UID:4822-1446838200-1446849000@www.flamencoagenda.nl
SUMMARY:Inma\, Onno\, Ellen en Conchita @ La Buleria
DESCRIPTION:Amsterdam\, La Buleria – Live flamenco in tapasbar La Buleria. Dit keer met Inmaculada de la Huerta (zang)\, Onno Kramer (gitaar)\, Ellen van der Meulen (percussie) en Conchita Boon (dans).
URL:https://www.flamencoagenda.nl/event/inma-onno-ellen-en-conchita-la-buleria/
LOCATION:La Buleria\, Valentijnkade 34\, Amsterdam\, 1094 ST
CATEGORIES:Live Flamenco
ATTACH;FMTTYPE=image/jpeg:https://www.flamencoagenda.nl/core/../wp-content/uploads/Conchita-Onno-Ellen-foto-W-Schoo.jpg
END:VEVENT
END:VCALENDAR