BEGIN:VCALENDAR
VERSION:2.0
PRODID:-//flamencoagenda.nl - ECPv6.15.20//NONSGML v1.0//EN
CALSCALE:GREGORIAN
METHOD:PUBLISH
X-ORIGINAL-URL:https://www.flamencoagenda.nl
X-WR-CALDESC:Evenementen voor flamencoagenda.nl
REFRESH-INTERVAL;VALUE=DURATION:PT1H
X-Robots-Tag:noindex
X-PUBLISHED-TTL:PT1H
BEGIN:VTIMEZONE
TZID:Europe/Amsterdam
BEGIN:DAYLIGHT
TZOFFSETFROM:+0100
TZOFFSETTO:+0200
TZNAME:CEST
DTSTART:20160327T010000
END:DAYLIGHT
BEGIN:STANDARD
TZOFFSETFROM:+0200
TZOFFSETTO:+0100
TZNAME:CET
DTSTART:20161030T010000
END:STANDARD
BEGIN:DAYLIGHT
TZOFFSETFROM:+0100
TZOFFSETTO:+0200
TZNAME:CEST
DTSTART:20170326T010000
END:DAYLIGHT
BEGIN:STANDARD
TZOFFSETFROM:+0200
TZOFFSETTO:+0100
TZNAME:CET
DTSTART:20171029T010000
END:STANDARD
BEGIN:DAYLIGHT
TZOFFSETFROM:+0100
TZOFFSETTO:+0200
TZNAME:CEST
DTSTART:20180325T010000
END:DAYLIGHT
BEGIN:STANDARD
TZOFFSETFROM:+0200
TZOFFSETTO:+0100
TZNAME:CET
DTSTART:20181028T010000
END:STANDARD
END:VTIMEZONE
BEGIN:VEVENT
DTSTART;TZID=Europe/Amsterdam:20170524T170000
DTEND;TZID=Europe/Amsterdam:20170524T183000
DTSTAMP:20260419T190058
CREATED:20170430T190412Z
LAST-MODIFIED:20170430T190412Z
UID:9838-1495645200-1495650600@www.flamencoagenda.nl
SUMMARY:Zang\, gitaar\, compás
DESCRIPTION:Eindhoven\, Es – Tweedaagse workshop van flamencozangeres Yota Baron en flamencogitarist Tijn van der Sande. De workshop is bedoeld voor alle disciplines en niveaus: muzikanten\, dansers en flamencoliefhebbers. Er is les op woensdag 24 en donderdag 25 mei van 17.00-18.30 uur. \nPalo: Cantiñas de Pinini\nEr wordt behandeld: het compás van de Alegria\, met aandacht voor variaties\, remates en begeleiding van dans. Letras komen aan het bod en het zingen met de gitaar. \nfoto © Ginette Lavell
URL:https://www.flamencoagenda.nl/event/zang-gitaar-compas/
LOCATION:Es\, De Ruijterstraat 12\, Eindhoven\, 5612 GJ 
CATEGORIES:Workshops
ATTACH;FMTTYPE=image/jpeg:https://www.flamencoagenda.nl/core/../wp-content/uploads/Yota-Baron-Tijn-van-der-Sande-foto-Ginette-Lavell.jpg
ORGANIZER;CN="Tijn van der Sanden":MAILTO: tijnvandersanden@gmail.com
END:VEVENT
END:VCALENDAR