BEGIN:VCALENDAR
VERSION:2.0
PRODID:-//flamencoagenda.nl - ECPv6.15.20//NONSGML v1.0//EN
CALSCALE:GREGORIAN
METHOD:PUBLISH
X-WR-CALNAME:flamencoagenda.nl
X-ORIGINAL-URL:https://www.flamencoagenda.nl
X-WR-CALDESC:Evenementen voor flamencoagenda.nl
REFRESH-INTERVAL;VALUE=DURATION:PT1H
X-Robots-Tag:noindex
X-PUBLISHED-TTL:PT1H
BEGIN:VTIMEZONE
TZID:Europe/Amsterdam
BEGIN:DAYLIGHT
TZOFFSETFROM:+0100
TZOFFSETTO:+0200
TZNAME:CEST
DTSTART:20210328T010000
END:DAYLIGHT
BEGIN:STANDARD
TZOFFSETFROM:+0200
TZOFFSETTO:+0100
TZNAME:CET
DTSTART:20211031T010000
END:STANDARD
BEGIN:DAYLIGHT
TZOFFSETFROM:+0100
TZOFFSETTO:+0200
TZNAME:CEST
DTSTART:20220327T010000
END:DAYLIGHT
BEGIN:STANDARD
TZOFFSETFROM:+0200
TZOFFSETTO:+0100
TZNAME:CET
DTSTART:20221030T010000
END:STANDARD
BEGIN:DAYLIGHT
TZOFFSETFROM:+0100
TZOFFSETTO:+0200
TZNAME:CEST
DTSTART:20230326T010000
END:DAYLIGHT
BEGIN:STANDARD
TZOFFSETFROM:+0200
TZOFFSETTO:+0100
TZNAME:CET
DTSTART:20231029T010000
END:STANDARD
END:VTIMEZONE
BEGIN:VEVENT
DTSTART;TZID=Europe/Amsterdam:20221217T203000
DTEND;TZID=Europe/Amsterdam:20221217T203000
DTSTAMP:20260420T112714
CREATED:20221130T211838Z
LAST-MODIFIED:20221130T212140Z
UID:19805-1671309000-1671309000@www.flamencoagenda.nl
SUMMARY:BvR Flamenco Big Band
DESCRIPTION:Tilburg\, Paradox – Concert van de BvR Flamenco Big Band\, waar jazz- en flamenco muziek elkaar vinden. \nOver dit concert\n“Traditionele flamenco-elementen als de typische zangstijl\, de ritmische gitaar en de ophitsende handklappen gaan in The BvR Big Band samen met het geluid van een flexibele big band die hard swingt en veel ruimte geeft aan de solisten. ‘BvR’ staat voor Bernard van Rossum. Deze Nederlandse saxofonist\, componist\, arrangeur en bandleider stelde deze unieke bezetting van jazz- en flamenco muzikanten samen en stond met de groep inmiddels op tal van grote festivals.” \nArtiesten\nMaría Marín (vocals\, palmas)\, Arturo Ramón (famenco guitar)\, Jasper van Damme (altsaxfoon\, fluit)\, Bernard van Rossum (tenorsaxofoon)\, Jessie Breve (baritonsaxofoon\, basklarinet)\, Alvaro Artime (trompet)\, Bruno Calvo (trompet)\, Gidon Nunez Vas (trompet)\, Pablo Martinez (trombone)\, Oliver Emmitt (trombone)\, Xavi Torres (piano)\, Jort Terwijn (contrabas)\, Joan Terol (drums). \nKoop ticket
URL:https://www.flamencoagenda.nl/event/bvr-flamenco-big-band-4/
LOCATION:Paradox\, Telegraafstraat 62\, Tilburg\, 5038 BM 
CATEGORIES:Live & Workshops
ATTACH;FMTTYPE=image/png:https://www.flamencoagenda.nl/core/../wp-content/uploads/BvR-Flamenco-Big-Band-foto-Marjon-Broeks.png
END:VEVENT
END:VCALENDAR