BEGIN:VCALENDAR
VERSION:2.0
PRODID:-//flamencoagenda.nl - ECPv6.15.20//NONSGML v1.0//EN
CALSCALE:GREGORIAN
METHOD:PUBLISH
X-WR-CALNAME:flamencoagenda.nl
X-ORIGINAL-URL:https://www.flamencoagenda.nl
X-WR-CALDESC:Evenementen voor flamencoagenda.nl
REFRESH-INTERVAL;VALUE=DURATION:PT1H
X-Robots-Tag:noindex
X-PUBLISHED-TTL:PT1H
BEGIN:VTIMEZONE
TZID:Europe/Amsterdam
BEGIN:DAYLIGHT
TZOFFSETFROM:+0100
TZOFFSETTO:+0200
TZNAME:CEST
DTSTART:20170326T010000
END:DAYLIGHT
BEGIN:STANDARD
TZOFFSETFROM:+0200
TZOFFSETTO:+0100
TZNAME:CET
DTSTART:20171029T010000
END:STANDARD
BEGIN:DAYLIGHT
TZOFFSETFROM:+0100
TZOFFSETTO:+0200
TZNAME:CEST
DTSTART:20180325T010000
END:DAYLIGHT
BEGIN:STANDARD
TZOFFSETFROM:+0200
TZOFFSETTO:+0100
TZNAME:CET
DTSTART:20181028T010000
END:STANDARD
BEGIN:DAYLIGHT
TZOFFSETFROM:+0100
TZOFFSETTO:+0200
TZNAME:CEST
DTSTART:20190331T010000
END:DAYLIGHT
BEGIN:STANDARD
TZOFFSETFROM:+0200
TZOFFSETTO:+0100
TZNAME:CET
DTSTART:20191027T010000
END:STANDARD
END:VTIMEZONE
BEGIN:VEVENT
DTSTART;VALUE=DATE:20180526
DTEND;VALUE=DATE:20180528
DTSTAMP:20260425T134708
CREATED:20171104T215615Z
LAST-MODIFIED:20180329T125935Z
UID:11679-1527292800-1527465599@www.flamencoagenda.nl
SUMMARY:Feria Andaluza Bocadero
DESCRIPTION:Antwerpen. Waagnatie ‘Bocadero’ – Twee dagen lang feest in Spaanse sferen georganiseerd door Peña Al Andalus. Met flamenco\, Sevillanas en Spaanse gastronomie. De feria vindt plaats op zaterdag van 12.00 uur tot middernacht en op zondag van 12.00-22.00 uur. \nOver deze Feria\n“We nodigen je uit om te proeven van overheerlijke Spaanse lekkernijen en te genieten van de Spaanse muziek en dans. Verschillende dansverenigingen\, orkesten\, Dj’s en flamenco groepen maken van deze dag een uitzonderlijke gebeurtenis. Het spektakel van licht en kleur krijgt een extra dimensie door de typische fleurige flamenco klederdracht van de dames en de jeugd.Dans met ons mee op het ritme van Andalusië en ontdek de authentieke Spaanse cultuur in Antwerpen.” \n 
URL:https://www.flamencoagenda.nl/event/feria-andaluza-bocadero/
LOCATION:Waagnatie\,  Rijnkaai 150\, Antwerpen
CATEGORIES:Live Flamenco
ATTACH;FMTTYPE=image/jpeg:https://www.flamencoagenda.nl/core/../wp-content/uploads/Feria-Andaluza.jpg
ORGANIZER;CN="Pe%C3%B1a Al Andalus":MAILTO:info@alandalus.be
END:VEVENT
BEGIN:VEVENT
DTSTART;VALUE=DATE:20180526
DTEND;VALUE=DATE:20180527
DTSTAMP:20260425T134708
CREATED:20180402T162031Z
LAST-MODIFIED:20180402T162313Z
UID:12654-1527292800-1527379199@www.flamencoagenda.nl
SUMMARY:Workshop Solea & Tarantos Maria la Serrana
DESCRIPTION:Maaseik\, Danshuis Volmolen – Workshop voor diverse niveaus in de flamencostijlen Soleá en Tarantos. De lessen worden begeleid met live muziek van Luis Amador (gitaar) en ‘Pili’ (zang). Aan het einde van de workshop laten de leerlingen zien wat ze geleerd hebben. Informatie over niveaus en lestijden bij organisator Lene Vandersteegen.
URL:https://www.flamencoagenda.nl/event/workshop-solea-tarantos-maria-la-serrana/
LOCATION:Danshuis Volmolen\, Volmolenstraat 11\, Maaseik (Opoeteren)
CATEGORIES:Workshops
ATTACH;FMTTYPE=image/jpeg:https://www.flamencoagenda.nl/core/../wp-content/uploads/Maria-la-Serrana-6.jpg
ORGANIZER;CN="Lene Vanderstegen":MAILTO:lenevandersteegen@telenet.be
END:VEVENT
BEGIN:VEVENT
DTSTART;VALUE=DATE:20180525
DTEND;VALUE=DATE:20180527
DTSTAMP:20260425T134708
CREATED:20180403T122739Z
LAST-MODIFIED:20180414T204107Z
UID:12678-1527206400-1527379199@www.flamencoagenda.nl
SUMMARY:Cia Maria la Serrana @ Volmolen
DESCRIPTION:Maaseik\, Danshuis Volmolen – Live Flamenco met Maria la Serrana (dans)\, Luis Amador Piña  (gitaar) en María del Pilar ‘Pili’ Silva Campallo (zang).\nEr is een voorstelling op vrijdag 25 en zaterdag 26 mei\, beide om 21 uur.
URL:https://www.flamencoagenda.nl/event/cia-maria-la-serrana-volmolen/
LOCATION:Danshuis Volmolen\, Volmolenstraat 11\, Maaseik (Opoeteren)
CATEGORIES:Live Flamenco
ATTACH;FMTTYPE=image/jpeg:https://www.flamencoagenda.nl/core/../wp-content/uploads/Cia-Maria-la-Serrana-Pilli-Luis-1.jpg
ORGANIZER;CN="Lene Vanderstegen":MAILTO:lenevandersteegen@telenet.be
END:VEVENT
BEGIN:VEVENT
DTSTART;TZID=Europe/Amsterdam:20180524T200000
DTEND;TZID=Europe/Amsterdam:20180524T200000
DTSTAMP:20260425T134708
CREATED:20180513T202019Z
LAST-MODIFIED:20180513T202308Z
UID:12948-1527192000-1527192000@www.flamencoagenda.nl
SUMMARY:Kennismaking flamenco
DESCRIPTION:Wervershoofd\, Café Wervershoofd – Kennismakingsworkshop door Tina Castillo Autie.
URL:https://www.flamencoagenda.nl/event/kennismaking-flamenco-3/
LOCATION:Cafe Wervershoofd\, Dorpsstraat 76\, Wervershoofd
CATEGORIES:Workshops
ATTACH;FMTTYPE=image/jpeg:https://www.flamencoagenda.nl/core/../wp-content/uploads/Tina-Castilla-Autie.jpg
END:VEVENT
BEGIN:VEVENT
DTSTART;TZID=Europe/Amsterdam:20180523T190000
DTEND;TZID=Europe/Amsterdam:20180523T200000
DTSTAMP:20260425T134708
CREATED:20180507T204450Z
LAST-MODIFIED:20180507T204450Z
UID:12878-1527102000-1527105600@www.flamencoagenda.nl
SUMMARY:Opfriscursus Sevillanas
DESCRIPTION:Amsterdam\, Casa Sevillana – Workshop Sevillanas voor wie de kennis van de dans wil opfrissen door Janine Keijzer ‘La Nina’. Iedere week wordt een copla behandeld. \nLesschema\nWoensdag 23 en 30 mei\, 6 en 13 juni 19.00-20.00 uur.
URL:https://www.flamencoagenda.nl/event/opfriscursus-sevillanas-3/
LOCATION:Casa Sevillana\, Sloterdijkstraat 2\, AMSTERDAM\, 1013 LZ\, Nederland
CATEGORIES:Workshops
ATTACH;FMTTYPE=image/jpeg:https://www.flamencoagenda.nl/core/../wp-content/uploads/Janine-Keijzer-Sevillanas.jpg
ORGANIZER;CN="La Nina Janine Keijzer":MAILTO:info[at]lanina.net
END:VEVENT
BEGIN:VEVENT
DTSTART;TZID=Europe/Amsterdam:20180520T150000
DTEND;TZID=Europe/Amsterdam:20180520T150000
DTSTAMP:20260425T134708
CREATED:20180329T105918Z
LAST-MODIFIED:20180507T212326Z
UID:12603-1526828400-1526828400@www.flamencoagenda.nl
SUMMARY:Labryenco & Conchita
DESCRIPTION:Enkhuizen\, Drommedaris – Live flamenco van flamencoformatie Labryenco en danseres Conchita Boon. \nMet Alain Labrie (gitaar)\, Franklin Heiligers (fretloze bas)\, Antal Steixner (percussie)\, Jaro Stulrajter (viool)\, Falu (zang) en Conchita (dans).
URL:https://www.flamencoagenda.nl/event/labryenco-conchita/
LOCATION:De Drom\, Paktuinen 1\, Enkhuizen\, 1601 GD
CATEGORIES:Live Flamenco
ATTACH;FMTTYPE=image/jpeg:https://www.flamencoagenda.nl/core/../wp-content/uploads/labryenco-conchita.jpg
END:VEVENT
BEGIN:VEVENT
DTSTART;TZID=Europe/Amsterdam:20180519T203000
DTEND;TZID=Europe/Amsterdam:20180519T203000
DTSTAMP:20260425T134708
CREATED:20180513T200648Z
LAST-MODIFIED:20180513T200648Z
UID:12946-1526761800-1526761800@www.flamencoagenda.nl
SUMMARY:Jorinde & John Fillmore Co
DESCRIPTION:Antwerpen\, Salon El Corazón – Live flamenco met John Fillmore (gitaar)\, Franklin Heilijgers (fretloze basgitaar)\, Ron van Holland (percussie)\, Paul Weiling (sopraan saxofoon)\, Falu de Cádiz (zang en palmas) en Jorinde Cielen (dans).
URL:https://www.flamencoagenda.nl/event/jorinde-john-fillmore-co/
LOCATION:Salon El Corazon\, Gijselsstraat 22\, Borgerhout\, 2140\, België
CATEGORIES:Live Flamenco
ATTACH;FMTTYPE=image/jpeg:https://www.flamencoagenda.nl/core/../wp-content/uploads/jorinde-cielen-john-fillmore.jpg
END:VEVENT
BEGIN:VEVENT
DTSTART;TZID=Europe/Amsterdam:20180519T143000
DTEND;TZID=Europe/Amsterdam:20180519T160000
DTSTAMP:20260425T134708
CREATED:20180402T161747Z
LAST-MODIFIED:20180402T161906Z
UID:12651-1526740200-1526745600@www.flamencoagenda.nl
SUMMARY:Workshop dans beginners Lola La Jindra
DESCRIPTION:Maaseik\, Danshuis Volmolen–  Introductieworkshop voor volwassenen die kennis willen maken met flamenco. Er is les op zaterdag en zondag van 14.30-16.00 uur. Na de laatste les laten de leerlingen aan publiek zien wat ze geleerd hebben. Docent is Lola ‘La Jindra’.
URL:https://www.flamencoagenda.nl/event/workshop-dans-beginners-lola-la-jindra/
LOCATION:Danshuis Volmolen\, Volmolenstraat 11\, Maaseik (Opoeteren)
CATEGORIES:Workshops
ATTACH;FMTTYPE=image/jpeg:https://www.flamencoagenda.nl/core/../wp-content/uploads/Lola-la-Jindra1.jpg
ORGANIZER;CN="Lene Vanderstegen":MAILTO:lenevandersteegen@telenet.be
END:VEVENT
BEGIN:VEVENT
DTSTART;TZID=Europe/Amsterdam:20180519T130000
DTEND;TZID=Europe/Amsterdam:20180519T140000
DTSTAMP:20260425T134708
CREATED:20180402T161347Z
LAST-MODIFIED:20180402T161405Z
UID:12647-1526734800-1526738400@www.flamencoagenda.nl
SUMMARY:Weekendworkshop flamenco kinderen
DESCRIPTION:Maaseik\, Danshuis Volmolen – Weekendworkshop voor kinderen van 8 tot 12 jaar door docente Lola ‘La Jindra’. Onderwerp is ‘Basisgevoel & techniek’. Er is les op zaterdag en zondag van 13 tot 14 uur.
URL:https://www.flamencoagenda.nl/event/weekendworkshop-flamenco-kinderen/
LOCATION:Danshuis Volmolen\, Volmolenstraat 11\, Maaseik (Opoeteren)
CATEGORIES:Workshops
ATTACH;FMTTYPE=image/jpeg:https://www.flamencoagenda.nl/core/../wp-content/uploads/Kinderen-Lola-La-Jindra.jpg
ORGANIZER;CN="Lene Vanderstegen":MAILTO:lenevandersteegen@telenet.be
END:VEVENT
BEGIN:VEVENT
DTSTART;TZID=Europe/Amsterdam:20180518T203000
DTEND;TZID=Europe/Amsterdam:20180518T203000
DTSTAMP:20260425T134708
CREATED:20180426T211020Z
LAST-MODIFIED:20180426T211920Z
UID:12765-1526675400-1526675400@www.flamencoagenda.nl
SUMMARY:Jorinde & Fillmore & Co @ El Pub
DESCRIPTION:Den Haag\, De Nieuwe Regentes – Live flamenco voorstelling vanaf 20.30 uur (deuren open om 20.15 uur) met twee sets optreden en in de laatste set open podium m.m.v. de artiesten van de avond. Dit keer met John Fillmore  (gitaar)\, Franklin Heilijgers (fretloze basgitaar)\, Ron van Holland (percussie)\, Paul Weiling (sopraan saxofoon)\, Falu de Cádiz (zang en palmas) en Jorinde Cielen (dans). Online kaarten via webshop De Nieuwe Regentes tot 2 uur voor aanvang. Of aan de deur tegen een hogere prijs.\nEr is ongeveer om de week op vrijdag een ‘El Pub Flamenco’.
URL:https://www.flamencoagenda.nl/event/jorinde-fillmore-co-el-pub/
LOCATION:Theater De Nieuwe Regentes\, Weimarstraat 63\, Den Haag\, 2562 GR\, Nederland
CATEGORIES:Live Flamenco
ATTACH;FMTTYPE=image/jpeg:https://www.flamencoagenda.nl/core/../wp-content/uploads/jorinde-cielen-john-fillmore.jpg
END:VEVENT
BEGIN:VEVENT
DTSTART;TZID=Europe/Amsterdam:20180518T150000
DTEND;TZID=Europe/Amsterdam:20180518T150000
DTSTAMP:20260425T134708
CREATED:20180512T211858Z
LAST-MODIFIED:20180512T211858Z
UID:12909-1526655600-1526655600@www.flamencoagenda.nl
SUMMARY:Leerlingenvoorstelling Asinkopao
DESCRIPTION:Borgerhout\, t Werkhuys – Presentatie van de leerlingen van flamencoschool Asinkopao van Jorinde Cielen. Er zijn ook Spaanse drankjes en hapjes verkrijgbaar.
URL:https://www.flamencoagenda.nl/event/leerlingenvoorstelling-asinkopao-4/
LOCATION:Werkhuys\, Zegelstraat 13\, Borgerhout\, 2140\, België
CATEGORIES:Live Flamenco
ATTACH;FMTTYPE=image/jpeg:https://www.flamencoagenda.nl/core/../wp-content/uploads/Asinkopao.jpg
ORGANIZER;CN="Jorinde Cielen":MAILTO:info@flamencoantwerp.be
END:VEVENT
BEGIN:VEVENT
DTSTART;VALUE=DATE:20180518
DTEND;VALUE=DATE:20180520
DTSTAMP:20260425T134708
CREATED:20180403T122438Z
LAST-MODIFIED:20180414T204211Z
UID:12675-1526601600-1526774399@www.flamencoagenda.nl
SUMMARY:Lola la Jindra @ Volmolen
DESCRIPTION:Maaseik\, Danshuis Volmolen – Live flamenco met Lola La Jindra (dans)\, Antonio Paz (zang) en Raul Corredor (gitaar). Er is een voorstelling op vrijdag 18 en zaterdag 19 mei\, beide om 21 uur.
URL:https://www.flamencoagenda.nl/event/lola-la-jindra-volmolen/
LOCATION:Danshuis Volmolen\, Volmolenstraat 11\, Maaseik (Opoeteren)
CATEGORIES:Live Flamenco
ATTACH;FMTTYPE=image/jpeg:https://www.flamencoagenda.nl/core/../wp-content/uploads/Lola-La-Jindra-1.jpg
ORGANIZER;CN="Lene Vanderstegen":MAILTO:lenevandersteegen@telenet.be
END:VEVENT
BEGIN:VEVENT
DTSTART;TZID=Europe/Amsterdam:20180517T200000
DTEND;TZID=Europe/Amsterdam:20180517T200000
DTSTAMP:20260425T134708
CREATED:20180513T200305Z
LAST-MODIFIED:20180513T200305Z
UID:12944-1526587200-1526587200@www.flamencoagenda.nl
SUMMARY:Jorinde & John Fillmore Co @ Zeppos
DESCRIPTION:Amsterdam\, Kapitein Zeppos – Live flamenco met John Fillmore (gitaar)\, Franklin Heilijgers (fretloze basgitaar)\, Ron van Holland (percussie)\, Paul Weiling (sopraan saxofoon)\, Falu de Cádiz (zang en palmas) en Jorinde Cielen (dans).
URL:https://www.flamencoagenda.nl/event/jorinde-john-fillmore-co-zeppos/
LOCATION:Kapitein Zeppos\, Gebed Zonder End 5 \, Amsterdam\, 1012 HS
CATEGORIES:Live Flamenco
ATTACH;FMTTYPE=image/jpeg:https://www.flamencoagenda.nl/core/../wp-content/uploads/jorinde-cielen-john-fillmore.jpg
END:VEVENT
BEGIN:VEVENT
DTSTART;TZID=Europe/Amsterdam:20180517T200000
DTEND;TZID=Europe/Amsterdam:20180517T200000
DTSTAMP:20260425T134708
CREATED:20180217T182635Z
LAST-MODIFIED:20180217T182635Z
UID:12381-1526587200-1526587200@www.flamencoagenda.nl
SUMMARY:Mi Verdad Flamenca
DESCRIPTION:Antwerpen\, De Roma – Voorstelling van de Spaanse flamencozanger Esteban Murillo. De voorstelling bestaat uit een  muzikale interpretatie van de gedichten van Federico García Lorca en andere letras flamencas zijn geschreven door zijn Murillo’s grootvader Paco.\nMet: Esteban Murillo (zang)\, Marisol Valderrama (dans)\, Anthony Carruba ‘El Carru’ (gitaar)\, Silvano Macaluso (piano)\, Giacomo Aronica (bas en accordeon). \nOver Esteban Murillo\n“Op 21-jarige leeftijd is Esteban nu al een bijzonder originele stem in de flamencowereld. Hij zingt niet alleen\, maar vertelt ook een verhaal over de Spaanse geschiedenis en deelt zijn passie voor de Andalusische cultuur. En dit met veel intensiteit en authenticiteit. Ook muzikaal verrast hij\, want buiten de traditionele flamencogitaar en percussie-instrumenten neemt hij een piano\, basgitaar en accordeon mee op het podium.”
URL:https://www.flamencoagenda.nl/event/mi-verdad-flamenca/
LOCATION:De Roma\, Turnhoutsebaan 286\, Borgerhout\, 2140\, België
CATEGORIES:Live Flamenco
ATTACH;FMTTYPE=image/jpeg:https://www.flamencoagenda.nl/core/../wp-content/uploads/ESTEBAN-MURILLO-MARISOL-VALDERRAMA.jpg
END:VEVENT
BEGIN:VEVENT
DTSTART;TZID=Europe/Amsterdam:20180516T190000
DTEND;TZID=Europe/Amsterdam:20180516T200000
DTSTAMP:20260425T134708
CREATED:20180203T222317Z
LAST-MODIFIED:20180203T222317Z
UID:12284-1526497200-1526500800@www.flamencoagenda.nl
SUMMARY:WNSDG Workshop: Sevillanas
DESCRIPTION:Amsterdam\, Duende – Woensdagavondworkshop van flamencodanseres Kika. Iedere maand hebben de workshops een ander thema\, deze keer is het Sevillans. Er is les op 16\, 23 en 30 mei en 6 en 13 juni. \nOver deze workshop\n“In 5 lessen alle ‘coplas’ van de Sevillanas leren. Deze aanstekelijke paren-dans kun je overal en met iedereen dansen waar maar Sevillanas gedraaid of gespeeld wordt! Sevillanas is technisch niet moeilijk. Het is ontzettend gezellig en zo zijn de lessen zelf al een feestje! Je kunt je ook zonder partner inschrijven. Heren absoluut ook welkom!”
URL:https://www.flamencoagenda.nl/event/wnsdg-workshop-sevillanas/
LOCATION:Cafe Duende\, Lindengracht 62\, AMSTERDAM\, 1015KJ
CATEGORIES:Workshops
ATTACH;FMTTYPE=image/jpeg:https://www.flamencoagenda.nl/core/../wp-content/uploads/Kika-beginners-flamenco-workshop.jpg
ORGANIZER;CN="Harriet IJssel de Schepper 'Kika'":MAILTO:kika@flamenkika.com
END:VEVENT
BEGIN:VEVENT
DTSTART;TZID=Europe/Amsterdam:20180516T140000
DTEND;TZID=Europe/Amsterdam:20180516T150000
DTSTAMP:20260425T134708
CREATED:20180402T161129Z
LAST-MODIFIED:20180402T161129Z
UID:12644-1526479200-1526482800@www.flamencoagenda.nl
SUMMARY:Woensdagworkshop flamenco kinderen
DESCRIPTION:Maaseik\, Danshuis Volmolen – Workshop van 5 lessen voor kinderen vanaf 8 jaar door flamencodanseres Selene Anneroza Driessen.\nEr is les op woensdag van 14 tot 15 uur. De eerste les is op 16 mei\, de laatste op 13 juni.
URL:https://www.flamencoagenda.nl/event/woensdagworkshop-flamenco-kinderen/
LOCATION:Danshuis Volmolen\, Volmolenstraat 11\, Maaseik (Opoeteren)
CATEGORIES:Workshops
ATTACH;FMTTYPE=image/jpeg:https://www.flamencoagenda.nl/core/../wp-content/uploads/Kinderen-Selena-Anneroza.jpg
ORGANIZER;CN="Lene Vanderstegen":MAILTO:lenevandersteegen@telenet.be
END:VEVENT
BEGIN:VEVENT
DTSTART;TZID=Europe/Amsterdam:20180513T150000
DTEND;TZID=Europe/Amsterdam:20180513T150000
DTSTAMP:20260425T134708
CREATED:20180426T222853Z
LAST-MODIFIED:20180426T223015Z
UID:12775-1526223600-1526223600@www.flamencoagenda.nl
SUMMARY:Flor de lis
DESCRIPTION:Enschede\, Vestzaktheater – Flamenco van Natasja La Valetta (zang) en Bart Guichelaar-Villerius (flamencogitaar).
URL:https://www.flamencoagenda.nl/event/flor-de-lis-2/
LOCATION:Vestzaktheater\, Walstraat 35\, Enschede\, 7511 GG
CATEGORIES:Live Flamenco
ATTACH;FMTTYPE=image/jpeg:https://www.flamencoagenda.nl/core/../wp-content/uploads/flor-de-lis-1.jpg
END:VEVENT
BEGIN:VEVENT
DTSTART;TZID=Europe/Amsterdam:20180512T203000
DTEND;TZID=Europe/Amsterdam:20180512T203000
DTSTAMP:20260425T134708
CREATED:20180426T221012Z
LAST-MODIFIED:20180426T221012Z
UID:12771-1526157000-1526157000@www.flamencoagenda.nl
SUMMARY:La Penumbra
DESCRIPTION:Amsterdam\, Teato Munganga – La Penumbra is een voorstelling waarin flamencogroep A Dónde Vas en strijkersensemble Quintessences een fusion aangaan.  \nA Dónde Vas is: Onno Kramer (flamencogitaar)\, Ellen van der Meulen (percussie)\, Inmaculada de la Huerta (zang)\, André Schoorlemmer (elektrische gitaar en mandoline) Karin Dieters (palmas) en Conchita Boon (dans). Quintessences is: Maria Sofia Espiga (altviool)\, Michael Becker (cello).
URL:https://www.flamencoagenda.nl/event/la-penumbra-2/
LOCATION:Munganga\, Schinkelhavenstraat 27\, Amsterdam\, 1075VP
CATEGORIES:Live Flamenco
ATTACH;FMTTYPE=image/jpeg:https://www.flamencoagenda.nl/core/../wp-content/uploads/La-Penumbra.jpg
END:VEVENT
BEGIN:VEVENT
DTSTART;VALUE=DATE:20180512
DTEND;VALUE=DATE:20180513
DTSTAMP:20260425T134708
CREATED:20180203T210259Z
LAST-MODIFIED:20180203T210259Z
UID:12261-1526083200-1526169599@www.flamencoagenda.nl
SUMMARY:Spaanse avond
DESCRIPTION:Amsterdam\, Meevaart – Maandelijkse Spaanse avond met live flamencozang\, dans en gitaar. Informatie over programmering\, aanvangstijd en reservering via info@yotabaron.gr\nPoster door Froso Tourna
URL:https://www.flamencoagenda.nl/event/spaanse-avond-7/
LOCATION:De Meevaart\, Balistraat 48A\, Amsterdam
CATEGORIES:Live Flamenco
ATTACH;FMTTYPE=image/jpeg:https://www.flamencoagenda.nl/core/../wp-content/uploads/spaanse-dag-in-de-meevaart.jpeg
ORGANIZER;CN="Yota Baron":MAILTO:hello@yotabaronproductions.com
END:VEVENT
BEGIN:VEVENT
DTSTART;VALUE=DATE:20180511
DTEND;VALUE=DATE:20180512
DTSTAMP:20260425T134708
CREATED:20180107T160036Z
LAST-MODIFIED:20180109T150916Z
UID:12033-1525996800-1526083199@www.flamencoagenda.nl
SUMMARY:Andrés Marín (dansproject Lleno de Flamenco)
DESCRIPTION:Amsterdam – Uitgebreide workshop van de vernieuwende flamencodansmeester Andrés Marín in de opmaat naar de 25ste Lleno de Flamenco. Andrés Marín heeft wereldwijd flamenco een ander gezicht gegeven en is ook voor de flamencoscene in Nederland de afgelopen 25 jaar een belangrijke inspiratiebron geweest.  \nLeerlingen van het vergevorderd/semi-prof niveau maken (als zij dat willen) kans om geselecteerd te worden voor het voorprogramma van de avondvoorstelling tijdens de komende jubileumeditie van de Lleno de Flamenco (programmering nog niet bekend).\nLeerlingen van het intermedio niveau maken kans geselecteerd te worden voor de openingsvoorstelling van het middagprogramma (als ze dat willen) van de Lleno de Flamenco.  \nLesdata: Vrijdag\, zaterdag en zondag 11\, 12\, 13 & 18\, 19 en 20 mei.\nRepetities en technieklessen voor alle niveaus: maandag t/m donderdag 14 t/m 17 mei (avond). \n– Basico niveau: compás & technieklessen\n– Intermedio niveau: Caña en/of Seguiriyas\n– Vergevorderd/ prof. niveaus: Caña en/of Seguiriyas \nOnder voorbehoud van wijzigingen door organisator (terremoto.nl). Neem voor de details contact op met info@terremoto.nl
URL:https://www.flamencoagenda.nl/event/andres-marin-dansproject-lleno-de-flamenco/
CATEGORIES:Workshops
ATTACH;FMTTYPE=image/jpeg:https://www.flamencoagenda.nl/core/../wp-content/uploads/andres-marin.jpg
ORGANIZER;CN="Terremoto":MAILTO:info@terremoto.nl
END:VEVENT
BEGIN:VEVENT
DTSTART;TZID=Europe/Amsterdam:20180506T210000
DTEND;TZID=Europe/Amsterdam:20180506T210000
DTSTAMP:20260425T134708
CREATED:20171224T225732Z
LAST-MODIFIED:20171224T225818Z
UID:12001-1525640400-1525640400@www.flamencoagenda.nl
SUMMARY:Flamenco @ Parazzar
DESCRIPTION:Brugge\, Soulbar Parrazar – Live flamenco met Yurentz Bermudez\, Elena La Grulla (dans)\, José Ligero (zang) en Antonio Segura (gitaar).
URL:https://www.flamencoagenda.nl/event/flamenco-parazzar/
LOCATION:Soulbar Parazzar\, Torhoutse steenweg 10\, Brugge\, 8000
CATEGORIES:Live Flamenco
ATTACH;FMTTYPE=image/jpeg:https://www.flamencoagenda.nl/core/../wp-content/uploads/Yurentz-Bermudez-Elena-la-Grulla.jpg
END:VEVENT
BEGIN:VEVENT
DTSTART;TZID=Europe/Amsterdam:20180506T180000
DTEND;TZID=Europe/Amsterdam:20180506T180000
DTSTAMP:20260425T134708
CREATED:20180114T122019Z
LAST-MODIFIED:20180114T122019Z
UID:12097-1525629600-1525629600@www.flamencoagenda.nl
SUMMARY:Peña de Amsterdam
DESCRIPTION:Amsterdam\, Tapasbar Duende – Peña met open podium\, vrij sevillanas dansen en speciale evenementen. Aanmelden open podium: info@terremoto.nl. De peña is meestal op de eerste zondag van de maand. \nHet programma is (globaal): (*) let op\, de tijden willen nog wel eens verschuiven bij dit evenement.\n18.00 uur BAILAR SEVILLANAS\n19.00 uur PEÑA FLAMENCA | OPEN PODIUM\n20.15 uur ‘JUERGA’ por Tangos\, Bulerías …  \nOnder voorbehoud van wijzigingen door organisator (terremoto.nl).
URL:https://www.flamencoagenda.nl/event/pena-de-amsterdam-33/
LOCATION:Cafe Duende\, Lindengracht 62\, AMSTERDAM\, 1015KJ
CATEGORIES:Live Flamenco
ATTACH;FMTTYPE=image/jpeg:https://www.flamencoagenda.nl/core/../wp-content/uploads/amsterdam-pena-foto-ginette-lavell-1.jpg
ORGANIZER;CN="Terremoto":MAILTO:info@terremoto.nl
END:VEVENT
BEGIN:VEVENT
DTSTART;TZID=Europe/Amsterdam:20180506T160000
DTEND;TZID=Europe/Amsterdam:20180506T160000
DTSTAMP:20260425T134708
CREATED:20180429T151229Z
LAST-MODIFIED:20180429T151229Z
UID:12840-1525622400-1525622400@www.flamencoagenda.nl
SUMMARY:Vicente\, Irene & Estaban @ Los Canasteros
DESCRIPTION:Rotterdam\, Folkhouse Matrix – Live flamenco in nieuwe flamenco tablao Los Canasteros. Dit keer met Vicente Santiago (gitaar)\, Irene Alvarez (dans) en Esteban Murillo (zang). Reserveren via: tablaoflamencoloscanasteros@gmail.com
URL:https://www.flamencoagenda.nl/event/vicente-irene-estaban-los-canasteros/
LOCATION:Folkhouse Matrix\, Mauritsstraat 16\, Rotterdam\, 3012 CJ
CATEGORIES:Live Flamenco
ATTACH;FMTTYPE=image/jpeg:https://www.flamencoagenda.nl/core/../wp-content/uploads/Vicente-Irene-Esteban-Canasteros.jpg
ORGANIZER;CN="Tablao Flamenco Los Canasteros":MAILTO:tablaoflamencoloscanasteros@gmail.com
END:VEVENT
BEGIN:VEVENT
DTSTART;TZID=Europe/Amsterdam:20180506T130000
DTEND;TZID=Europe/Amsterdam:20180506T163000
DTSTAMP:20260425T134708
CREATED:20180318T141208Z
LAST-MODIFIED:20180318T141208Z
UID:12493-1525611600-1525624200@www.flamencoagenda.nl
SUMMARY:Bulerias Special (dansworkshop)
DESCRIPTION:Mortsel\, Kaleidoscoop – Een hele dag buleriasles gericht op zo snel mogelijk zelf dansen en samen muziek maken. De lessen zijn onder leiding van Ana Llanes (gevorderden) en Martine Haesen (beginners).  \nEr is les van 13 tot 16.30 uur met een pauze van 14.30 tot 15.00 uur.
URL:https://www.flamencoagenda.nl/event/bulerias-special-dansworkshop/
LOCATION:Kaleidoscoop\, Molenstraat 50\, Mortsel\, 2640\, België
CATEGORIES:Workshops
ATTACH;FMTTYPE=image/jpeg:https://www.flamencoagenda.nl/core/../wp-content/uploads/ana-llanes-1.jpg
ORGANIZER;CN="Martine Haesen":MAILTO:info@labonanza.be
END:VEVENT
BEGIN:VEVENT
DTSTART;TZID=Europe/Amsterdam:20180506T110000
DTEND;TZID=Europe/Amsterdam:20180506T170000
DTSTAMP:20260425T134708
CREATED:20180329T132903Z
LAST-MODIFIED:20180329T132903Z
UID:12632-1525604400-1525626000@www.flamencoagenda.nl
SUMMARY:Moda Flamenca Dag
DESCRIPTION:Antwerpen\, Peña Al Andalus – Verkoop van nieuwe en tweedehands flamenco kleding en accessoires.
URL:https://www.flamencoagenda.nl/event/moda-flamenca-dag-3/
LOCATION:Peña al Andalus\, Vorstermanstraat 1\, ANTWERPEN\, Antwerpen\, 2000\, België
CATEGORIES:Live Flamenco
ATTACH;FMTTYPE=image/jpeg:https://www.flamencoagenda.nl/core/../wp-content/uploads/moda-flamenca-dag-peña-al-andalus.jpg
ORGANIZER;CN="Pe%C3%B1a Al Andalus":MAILTO:info@alandalus.be
END:VEVENT
BEGIN:VEVENT
DTSTART;VALUE=DATE:20180506
DTEND;VALUE=DATE:20180507
DTSTAMP:20260425T134708
CREATED:20180403T122148Z
LAST-MODIFIED:20180403T122148Z
UID:12672-1525564800-1525651199@www.flamencoagenda.nl
SUMMARY:Workshop Sevillanas voor bata de cola
DESCRIPTION:Maaseik\, Danshuis Volmolen – Les van flamencodanseres Selene Anneroza Driessen op verschillende niveaus. \nProgramma\n12.00-13.00 uur\, eerste copla (beginners\, minimale ervaring bata de cola)\n13.15-14.15 uur\, tweede copla (half gevorderden\, minimaal 1 jaar bata de cola-ervaring)\n14.30-15.30 uur\, derde copla (gevorderden\, ervaren bata de cola-dansers)\n15.45-16.45 uur\, vierde copla (gevorderden\, ervaren bata de cola-dansers)\nToonmoment voor publiek rond 17.30 uur.
URL:https://www.flamencoagenda.nl/event/workshop-sevillanas-voor-bata-de-cola/
LOCATION:Danshuis Volmolen\, Volmolenstraat 11\, Maaseik (Opoeteren)
CATEGORIES:Workshops
ATTACH;FMTTYPE=image/jpeg:https://www.flamencoagenda.nl/core/../wp-content/uploads/Sevillana-Bata-de-Cola-Selene-Annaroza.jpg
ORGANIZER;CN="Lene Vanderstegen":MAILTO:lenevandersteegen@telenet.be
END:VEVENT
BEGIN:VEVENT
DTSTART;TZID=Europe/Amsterdam:20180505T203000
DTEND;TZID=Europe/Amsterdam:20180505T203000
DTSTAMP:20260425T134708
CREATED:20180318T144133Z
LAST-MODIFIED:20180318T152223Z
UID:12509-1525552200-1525552200@www.flamencoagenda.nl
SUMMARY:BVR Flamenco Big Band
DESCRIPTION:Amsterdam\, Bimhuis – Concert van de 21-koppige bigband onder leiding van Bernard van Rossum en met medewerking van verschillende flamencoartiesten. De BVR Flamenco Big Band won onder meer awards van MeerJazz en Keep en Eye The Records. \nMet medewerking van: Irene Alvarez (dans)\, Maria Marin (zang)\, Edsart Udo de Haes (gitaar) en Ruven Rupic (cajon en percussie). \nFoto boven: Marion Broeks \nBekijk de foto’s die Ginette Lavell maakte van een eerder optreden van de BVR Flamenco Bigband in het Bimhuis:\n[slideshow_deploy id=’3507′]
URL:https://www.flamencoagenda.nl/event/bvr-flamenco-big-band-3/
LOCATION:Bimhuis\, Piet Heinkade 3\, Amsterdam\, 1019 BR
CATEGORIES:Live Flamenco
ATTACH;FMTTYPE=image/jpeg:https://www.flamencoagenda.nl/core/../wp-content/uploads/BVR-foto-Marion-Broeks.jpg
END:VEVENT
BEGIN:VEVENT
DTSTART;TZID=Europe/Amsterdam:20180505T152000
DTEND;TZID=Europe/Amsterdam:20180505T160500
DTSTAMP:20260425T134709
CREATED:20180502T200435Z
LAST-MODIFIED:20180502T200534Z
UID:12863-1525533600-1525536300@www.flamencoagenda.nl
SUMMARY:Bevrijdingsdansfestival Sevillanas
DESCRIPTION:Museumplein\, Amsterdam – Van 14 tot 20 uur vindt het Bevrijdingsdansfestival plaats met allerlei verschillende soorten dans. Om 15.20 uur is het de beurt aan Coro del Campo met Sevillanas. Er wordt ook een workshop gegeven. Iedereen wordt opgeroepen mee te dansen.
URL:https://www.flamencoagenda.nl/event/bevrijdingsdansfestival-sevillanas/
LOCATION:Museumplein\, Museumplein\, Amsterdam
CATEGORIES:Live Flamenco
ATTACH;FMTTYPE=image/jpeg:https://www.flamencoagenda.nl/core/../wp-content/uploads/bevrijdingsdans-1.jpg
END:VEVENT
BEGIN:VEVENT
DTSTART;VALUE=DATE:20180505
DTEND;VALUE=DATE:20180506
DTSTAMP:20260425T134709
CREATED:20180413T221318Z
LAST-MODIFIED:20180413T221318Z
UID:12739-1525478400-1525564799@www.flamencoagenda.nl
SUMMARY:Yúrentz Bermúdez & Elena La Grulla (dans)
DESCRIPTION:Brussel\, Casa Veronica – Dubbelworkshop van flamencodansers Yúrentz Bermúdez & Elena La Grulla. \nZaterdag 5 & zondag 6 mei\n11.00-12.30 beginners: Tientos\n12.30-14.00 uur medium: Soleá por Bulerias
URL:https://www.flamencoagenda.nl/event/yurentz-bermudez-elena-la-grulla-dans/
LOCATION:Casa Veronica\, Avenue Capart 13\, Brussel\, 1090\, België
CATEGORIES:Workshops
ATTACH;FMTTYPE=image/jpeg:https://www.flamencoagenda.nl/core/../wp-content/uploads/elena-la-grulla-yurentz.jpg
END:VEVENT
BEGIN:VEVENT
DTSTART;VALUE=DATE:20180505
DTEND;VALUE=DATE:20180506
DTSTAMP:20260425T134709
CREATED:20180402T163751Z
LAST-MODIFIED:20180402T163811Z
UID:12668-1525478400-1525564799@www.flamencoagenda.nl
SUMMARY:Algo Así (workshop dans en zang)
DESCRIPTION:Maaseik\, Danshuis Volmolen – Workshop van de formatie Algo Así. Het is mogelijk de lessen te combineren of los te volgen.\nDans 12.00-14.00 uur. Door flamencodanseres María Penders.\nZang: 15.00-17.00 uur. Door flamencozangeres Erminia Fernández Córdoba.\nJeroen Melkert (flamencogitaar) zal de workshop muzikaal begeleiden. \nInformatie over palo en niveau bij organisator Lene Vandersteegen.
URL:https://www.flamencoagenda.nl/event/algo-asi-workshop-dans-en-zang/
LOCATION:Danshuis Volmolen\, Volmolenstraat 11\, Maaseik (Opoeteren)
CATEGORIES:Workshops
ATTACH;FMTTYPE=image/jpeg:https://www.flamencoagenda.nl/core/../wp-content/uploads/Workshop-Algo-Asi.jpg
ORGANIZER;CN="Lene Vanderstegen":MAILTO:lenevandersteegen@telenet.be
END:VEVENT
END:VCALENDAR