BEGIN:VCALENDAR
VERSION:2.0
PRODID:-//flamencoagenda.nl - ECPv6.15.20//NONSGML v1.0//EN
CALSCALE:GREGORIAN
METHOD:PUBLISH
X-ORIGINAL-URL:https://www.flamencoagenda.nl
X-WR-CALDESC:Evenementen voor flamencoagenda.nl
REFRESH-INTERVAL;VALUE=DURATION:PT1H
X-Robots-Tag:noindex
X-PUBLISHED-TTL:PT1H
BEGIN:VTIMEZONE
TZID:Europe/Amsterdam
BEGIN:DAYLIGHT
TZOFFSETFROM:+0100
TZOFFSETTO:+0200
TZNAME:CEST
DTSTART:20180325T010000
END:DAYLIGHT
BEGIN:STANDARD
TZOFFSETFROM:+0200
TZOFFSETTO:+0100
TZNAME:CET
DTSTART:20181028T010000
END:STANDARD
BEGIN:DAYLIGHT
TZOFFSETFROM:+0100
TZOFFSETTO:+0200
TZNAME:CEST
DTSTART:20190331T010000
END:DAYLIGHT
BEGIN:STANDARD
TZOFFSETFROM:+0200
TZOFFSETTO:+0100
TZNAME:CET
DTSTART:20191027T010000
END:STANDARD
BEGIN:DAYLIGHT
TZOFFSETFROM:+0100
TZOFFSETTO:+0200
TZNAME:CEST
DTSTART:20200329T010000
END:DAYLIGHT
BEGIN:STANDARD
TZOFFSETFROM:+0200
TZOFFSETTO:+0100
TZNAME:CET
DTSTART:20201025T010000
END:STANDARD
END:VTIMEZONE
BEGIN:VEVENT
DTSTART;TZID=Europe/Amsterdam:20190929T160000
DTEND;TZID=Europe/Amsterdam:20190929T160000
DTSTAMP:20260424T164530
CREATED:20190708T125642Z
LAST-MODIFIED:20190708T125642Z
UID:15626-1569772800-1569772800@www.flamencoagenda.nl
SUMMARY:Federico Ordoñez 'INpuro'
DESCRIPTION:Nijmegen\, LUX 7 – Voorstelling van flamencodanser Féderico Ordoñez. Met: Esteban Murillo (flamencozang) en Anthony Carruba (gitaar en compositie). \nOver deze voorstelling\n“Met INPuro zet Féderico de pure flamenco centraal en verweeft dit met zijn eigen persoonlijkheid. Het woord puur is altijd subjectief in de flamencowereld. Voor Féderico gaat het vooral om het respecteren van de overlevering van de zang en met zijn persoonlijke ideeën en visies zijn omgeving te creëren.”
URL:https://www.flamencoagenda.nl/event/federico-ordonez-inpuro-2/
LOCATION:LUX Marienburg\, Mariënburg 38-39\, Nijmegen\, 6511 PS
CATEGORIES:Live Flamenco
ATTACH;FMTTYPE=image/jpeg:https://www.flamencoagenda.nl/core/../wp-content/uploads/Federico_Ordonez_-_IN-PURO.jpg
END:VEVENT
BEGIN:VEVENT
DTSTART;TZID=Europe/Amsterdam:20190929T170000
DTEND;TZID=Europe/Amsterdam:20190929T170000
DTSTAMP:20260424T164530
CREATED:20190906T171751Z
LAST-MODIFIED:20190906T171751Z
UID:16079-1569776400-1569776400@www.flamencoagenda.nl
SUMMARY:La Granaina @ Duende
DESCRIPTION:Amsterdam\, Tapasbar Duende – Live flamenco met Maria Cortes ‘La Granaina’ (dans) en Vincente Santiago (gitaar). \nTickets aan de bar
URL:https://www.flamencoagenda.nl/event/la-granaina-duende/
LOCATION:Cafe Duende\, Lindengracht 62\, AMSTERDAM\, 1015KJ
CATEGORIES:Live Flamenco
ATTACH;FMTTYPE=image/png:https://www.flamencoagenda.nl/core/../wp-content/uploads/La-Granaina.png
ORGANIZER;CN="Duende Amsterdam":MAILTO:reserveren@cafe-duende.nl
END:VEVENT
BEGIN:VEVENT
DTSTART;TZID=Europe/Amsterdam:20191001T123000
DTEND;TZID=Europe/Amsterdam:20191001T123000
DTSTAMP:20260424T164530
CREATED:20190927T192309Z
LAST-MODIFIED:20190927T192309Z
UID:16223-1569933000-1569933000@www.flamencoagenda.nl
SUMMARY:Globus Ensemble @ Van Houtenkerk
DESCRIPTION:Weesp\, Van Houtenkerk – ‘Dikke Jas Concert’ van Globus Ensemble\, een muziekgezelschap met wortels in Spanje en Nederland. De muziek is componeerd door de oprichter Christiaan de Jong.  \n“Verrassende flamenco nuevo\, hedendaagse jazz\, neo brok en vrije improvisatie versmelten. Maripepa Contreras: hobo\, Johan v.d. Linden op saxofoons en Christiaan de Jong op versterkte klassieke gitaar en dwarsfluit.”
URL:https://www.flamencoagenda.nl/event/globus-ensemble-van-houtenkerk/
LOCATION:Van Houtenkerk\, Oudegracht 69\, Weesp
CATEGORIES:Live Flamenco
ATTACH;FMTTYPE=image/jpeg:https://www.flamencoagenda.nl/core/../wp-content/uploads/ChristiaandeJonggitaar.jpg
END:VEVENT
BEGIN:VEVENT
DTSTART;TZID=Europe/Amsterdam:20191002T190000
DTEND;TZID=Europe/Amsterdam:20191002T210000
DTSTAMP:20260424T164530
CREATED:20190905T201609Z
LAST-MODIFIED:20190905T201609Z
UID:15996-1570042800-1570050000@www.flamencoagenda.nl
SUMMARY:Flamencokoor Amsterdam Maria Marin
DESCRIPTION:Amsterdam\, Q Factory – De Spaanse flamencozangeres en klassieke gitarist Maria Marin brengt haar flamencokoor naar Amsterdam. Wie enige zangervaring heeft\, is welkom om onder haar leiding de typische flamencozangen te leren. Er is ook plaats voor gitaristen (maximaal 3) die de te behandelen palo’s beheersen. \nDe lessen zijn voor basico (met zangervaring) en intermedio niveau. Maria kan advies geven over het niveau. \nIn het 1e blok worden diverse Palo’s behandeld\, zoals: Colombiana\, Tanguillo\, Tangos\, Fandangos\, Sevillanas e.a. Maria bereidt het werkmateriaal voor en laat deelnemers nog weten\, waar ze mee gaat starten. Na inschrijving worden de Letras gemaild. \nMaria Marin begeleidt zelf haar lessen op gitaar. \n1e blok: 2-16-30 /10\, 13-27/11\, 11/12 2019\nOp woensdagavond: 19.00 – 21.00 uur \n2e blok: januari\, februari\, maart 2020 | start 15 januari\n3e blok: april \, mei \, juni 2020 \n– Onder voorbehoud van wijzigingen door organisator Terremoto.nl –
URL:https://www.flamencoagenda.nl/event/flamencokoor-amsterdam-maria-marin/
LOCATION:Q Factory\, Atlantisplein 1\, Amsterdam\, 1093 NE
CATEGORIES:Workshops
ATTACH;FMTTYPE=image/jpeg:https://www.flamencoagenda.nl/core/../wp-content/uploads/maria-marin.jpg
ORGANIZER;CN="Terremoto":MAILTO:info@terremoto.nl
END:VEVENT
BEGIN:VEVENT
DTSTART;TZID=Europe/Amsterdam:20191002T201500
DTEND;TZID=Europe/Amsterdam:20191002T201500
DTSTAMP:20260424T164530
CREATED:20190927T203246Z
LAST-MODIFIED:20190927T203246Z
UID:16233-1570047300-1570047300@www.flamencoagenda.nl
SUMMARY:Cie 111 @ De Warande
DESCRIPTION:Turnhout\, De Warande – Moderne theater-/flamencovoorstelling ‘Questcequetudeviens?’ van danseres Stéphanie Fuster\, gitarist José Sanchez en flamencozanger Alberto Garcia (Cie 111) \nOver deze voorstelling\n“‘Questcequetudeviens?’ is een openhartige zoektocht naar de ziel van flamenco\, waarbij regisseur Aurélien Bory de clichés van het flamencogenre flink afstoft. Het resultaat is een krachtige solo die je op een andere manier naar flamenco laat kijken.”
URL:https://www.flamencoagenda.nl/event/cie-111-de-warande/
LOCATION:De Warande\, Warandestraat 42\, Turnhout\, 2300\, België
CATEGORIES:Live Flamenco
ATTACH;FMTTYPE=image/png:https://www.flamencoagenda.nl/core/../wp-content/uploads/Cie111.png
END:VEVENT
BEGIN:VEVENT
DTSTART;VALUE=DATE:20191005
DTEND;VALUE=DATE:20191006
DTSTAMP:20260424T164530
CREATED:20190819T172107Z
LAST-MODIFIED:20190819T172107Z
UID:15951-1570233600-1570319999@www.flamencoagenda.nl
SUMMARY:Opening seizoen Peña Al Andalus
DESCRIPTION:Antwerpen\, Peña Al Andalus – Feestelijke opening van het nieuwe flamencoseizoen. Met optreden van Nina Pérez en La Lara. Gratis glas sangria\, de keuken (met tapas) is geopend.
URL:https://www.flamencoagenda.nl/event/opening-seizoen-pena-al-andalus/
LOCATION:Peña al Andalus\, Vorstermanstraat 1\, ANTWERPEN\, Antwerpen\, 2000\, België
CATEGORIES:Live Flamenco
ATTACH;FMTTYPE=image/jpeg:https://www.flamencoagenda.nl/core/../wp-content/uploads/Ana-Nina-Lara-Al-Andalus.jpg
ORGANIZER;CN="Pe%C3%B1a Al Andalus":MAILTO:info@alandalus.be
END:VEVENT
BEGIN:VEVENT
DTSTART;VALUE=DATE:20191005
DTEND;VALUE=DATE:20191006
DTSTAMP:20260424T164530
CREATED:20191004T170843Z
LAST-MODIFIED:20191004T171044Z
UID:16306-1570233600-1570319999@www.flamencoagenda.nl
SUMMARY:Flamenco @ Maastunnel
DESCRIPTION:Rotterdam\, Maastunnel – Feestelijke opening van de Maastunnel met veel verschillende acts\, waaronder moderne dans van LT dans en flamencodans van Karin Eij om 16 uur bij Podium Zuid en 17 uur bij Podium Noord (mmv Pacific Enterprises Unlimited). Bekijk hier het hele programma: www.maastunnel.nl/nieuws/feestelijke-opening-op- 5-oktober-bekijk-hier-het-programma
URL:https://www.flamencoagenda.nl/event/flamenco-maastunnel/
LOCATION:Maastunnel\, Maastunnel\, Rotterdam
CATEGORIES:Live Flamenco
ATTACH;FMTTYPE=image/jpeg:https://www.flamencoagenda.nl/core/../wp-content/uploads/Karin-Eij-foto-M-Ederveen-200-x-300.jpg
END:VEVENT
BEGIN:VEVENT
DTSTART;VALUE=DATE:20191006
DTEND;VALUE=DATE:20191007
DTSTAMP:20260424T164530
CREATED:20190626T222524Z
LAST-MODIFIED:20190626T222634Z
UID:15452-1570320000-1570406399@www.flamencoagenda.nl
SUMMARY:Clase Abierta Irene Álvarez
DESCRIPTION:Gent\, Danshuis de Ingang – Serie flamencodanslessen door flamencodanseres Irene Álvarez. De lessen zijn voor iedereen die meer dan 1 jaar ervaring heeft en zijn gericht op persoonlijke ontwikkeling in flamencodans. Ook toeschouwers kunnen zich inschrijven. \nDe lessen zijn op zondag van 6 oktober t/m 15 december van 21.00-21.30 uur. \nOver deze lessen\n“Deze klas is bedoeld voor mensen die graag deskundige feedback krijgen of willen gecoacht worden als ze bijvoorbeeld zelf een flamencostuk gemaakt hebben/ aan het maken zijn of vragen hebben over een specifieke flamencotechniek. Er wordt aandacht besteed aan alle aspecten en je kan worden begeleid door een gitarist.\nDe klas is ook open voor mensen die geïnteresseerd zijn om te leren hoe je een choreografie bouwt\, waar je moet op letten\, waar de pijnpuntjes zijn\, enz… Je kan als actieve toeschouwer deelnemen\, eventueel de Palmas mee klappen. Wil je als toeschouwer inschrijven vermeld dan in het opmerkingsveld “toeschouwer”. Elke deelnemer krijgt een half uur ‘coaching’ van Irene. Zijn er meerdere deelnemers die hun stuk willen brengen dan wordt het tijdstip afgesproken. Er kan interactie zijn tussen de deelnemers\, ze kunnen elkaars publiek zijn of elkaar begeleiden met Palmas\, vragen stellen … “
URL:https://www.flamencoagenda.nl/event/clase-abierta-irene-alvarez/
LOCATION:Danshuis De Ingang\, Hurstweg 8\, Gent\, 9000\, België
CATEGORIES:Workshops
ATTACH;FMTTYPE=image/jpeg:https://www.flamencoagenda.nl/core/../wp-content/uploads/Irene-Alvarez-1.jpg
ORGANIZER;CN="Danshuis De Ingang":MAILTO:info@de-ingang.be
END:VEVENT
BEGIN:VEVENT
DTSTART;TZID=Europe/Amsterdam:20191006T110000
DTEND;TZID=Europe/Amsterdam:20191006T123000
DTSTAMP:20260424T164530
CREATED:20190906T102114Z
LAST-MODIFIED:20190906T141230Z
UID:16032-1570359600-1570365000@www.flamencoagenda.nl
SUMMARY:Theorie & ritmestructuren flamenco
DESCRIPTION:Antwerpen\, Peña Al Andalus – Workshop theorie en inzicht in de ritmestructuren van flamenco door Ana Ramón. Er is les op zondag 6 & 27 oktober en 1 december van 11.00-12.30 uur. \n– info en inschrijving via info@alandalus.be –
URL:https://www.flamencoagenda.nl/event/theorie-ritmestructuren-flamenco/
LOCATION:Peña al Andalus\, Vorstermanstraat 1\, ANTWERPEN\, Antwerpen\, 2000\, België
CATEGORIES:Workshops
ATTACH;FMTTYPE=image/jpeg:https://www.flamencoagenda.nl/core/../wp-content/uploads/ana-ramon-al-andalus.jpg
ORGANIZER;CN="Pe%C3%B1a Al Andalus":MAILTO:info@alandalus.be
END:VEVENT
BEGIN:VEVENT
DTSTART;TZID=Europe/Amsterdam:20191006T130000
DTEND;TZID=Europe/Amsterdam:20191006T143000
DTSTAMP:20260424T164530
CREATED:20190906T101829Z
LAST-MODIFIED:20190906T141207Z
UID:16030-1570366800-1570372200@www.flamencoagenda.nl
SUMMARY:Variaties Bata de Cola Nina Pérez
DESCRIPTION:Antwerpen\, Peña Al Andalus – Workshop techniek en variaties met de Bata de Cola door Nina Pérez. Er is les op zondag 6 & 27 oktober en 1 december van 13.00-14.30 uur. \n– info en inschrijving via info@alandalus.be –
URL:https://www.flamencoagenda.nl/event/variaties-bata-de-cola-nina-perez/
LOCATION:Peña al Andalus\, Vorstermanstraat 1\, ANTWERPEN\, Antwerpen\, 2000\, België
CATEGORIES:Workshops
ATTACH;FMTTYPE=image/jpeg:https://www.flamencoagenda.nl/core/../wp-content/uploads/nina-perez-bata-de-cola.jpg
ORGANIZER;CN="Pe%C3%B1a Al Andalus":MAILTO:info@alandalus.be
END:VEVENT
BEGIN:VEVENT
DTSTART;TZID=Europe/Amsterdam:20191006T180000
DTEND;TZID=Europe/Amsterdam:20191006T200000
DTSTAMP:20260424T164530
CREATED:20190927T143821Z
LAST-MODIFIED:20190927T144003Z
UID:16218-1570384800-1570392000@www.flamencoagenda.nl
SUMMARY:Claudia Karapanou @ Duende
DESCRIPTION:Amsterdam\, Tapas bar Duende – Live flamenco met Claudia Karapanou (dans)\, Yota Baron (zang) en Lucas Arango (gitaar). Kaarten aan de kassa en via Yota Baron.
URL:https://www.flamencoagenda.nl/event/claudia-karapanou-duende/
LOCATION:Cafe Duende\, Lindengracht 62\, AMSTERDAM\, 1015KJ
CATEGORIES:Live Flamenco
ATTACH;FMTTYPE=image/png:https://www.flamencoagenda.nl/core/../wp-content/uploads/Claudia-Karapanou.png
ORGANIZER;CN="Yota Baron":MAILTO:hello@yotabaronproductions.com
END:VEVENT
BEGIN:VEVENT
DTSTART;TZID=Europe/Amsterdam:20191006T193000
DTEND;TZID=Europe/Amsterdam:20191006T193000
DTSTAMP:20260424T164530
CREATED:20191004T171902Z
LAST-MODIFIED:20191004T171902Z
UID:16315-1570390200-1570390200@www.flamencoagenda.nl
SUMMARY:Flamenco @ Popei
DESCRIPTION:Popei\, Eindhoven – Live flamenco met Jessica Achten (dans)\, Juan Peñas (zang) en Tijn van der Sanden (gitaar). Vanaf 17 uur worden er tapas geserveerd\, het optreden begint om 19.30 uur.
URL:https://www.flamencoagenda.nl/event/flamenco-popei-2/
LOCATION:Popei\, Klokgebouw 300\, Eindhoven \, 5617 AD
CATEGORIES:Live Flamenco
ATTACH;FMTTYPE=image/jpeg:https://www.flamencoagenda.nl/core/../wp-content/uploads/Popei-Jessica-Achten-foto-Jan-Slieker.jpg
END:VEVENT
BEGIN:VEVENT
DTSTART;TZID=Europe/Amsterdam:20191008T100000
DTEND;TZID=Europe/Amsterdam:20191008T160000
DTSTAMP:20260424T164530
CREATED:20190927T200001Z
LAST-MODIFIED:20190927T200001Z
UID:16227-1570528800-1570550400@www.flamencoagenda.nl
SUMMARY:Showcase La Barraca
DESCRIPTION:Sint-Niklaas\, Casino – Showcase van verschillende podiumkunstenpromotors\, waaronder de bekende flamenco-agent La Barraca. Te zien zijn onder meer flamencogitarist Myrddin De Cauter\, flamenco/Indiaase muziek crossover Antifona met Pilar Ogalla (dans)\, Carmen Fernandez (zang) en Alexander Gavilan (flamencogitaar) (zie foto) en de rumba flamenca groep Rumbaritas. De voorstellingen zijn tussen 10 en 16 uur\, aanmelden bij info@la-barraca.be
URL:https://www.flamencoagenda.nl/event/showcase-la-barraca/
LOCATION:Casino Sint-Niklaas\, Stationsstraat 104\, Sint-Niklaas
CATEGORIES:Live Flamenco
ATTACH;FMTTYPE=image/png:https://www.flamencoagenda.nl/core/../wp-content/uploads/Antifona-La-Barraca.png
END:VEVENT
BEGIN:VEVENT
DTSTART;VALUE=DATE:20191011
DTEND;VALUE=DATE:20191012
DTSTAMP:20260424T164530
CREATED:20190907T162650Z
LAST-MODIFIED:20190907T162650Z
UID:16155-1570752000-1570838399@www.flamencoagenda.nl
SUMMARY:Flamencogitaar Yorgos Valiris
DESCRIPTION:Amsterdam\, Casa Sevillana – Weekendworkshop flamencogitaar door flamencogitarist Yorgos Valiris op intermedio niveau. Palo: Solea por Buleria. Er is les op vrijdagavond 11 oktober en zaterdag- en zondagmiddag 12 en 13 oktober. \nFoto: Ginette Lavell \n\n\nOnder voorbehoud van wijzigingen door organisator terremoto.nl
URL:https://www.flamencoagenda.nl/event/flamencogitaar-yorgos-valiris-2/
LOCATION:Casa Sevillana\, Sloterdijkstraat 2\, AMSTERDAM\, 1013 LZ\, Nederland
CATEGORIES:Workshops
ATTACH;FMTTYPE=image/jpeg:https://www.flamencoagenda.nl/core/../wp-content/uploads/yorgos-valiris-foto-ginette-lavell.jpg
ORGANIZER;CN="Terremoto":MAILTO:info@terremoto.nl
END:VEVENT
BEGIN:VEVENT
DTSTART;TZID=Europe/Amsterdam:20191011T201500
DTEND;TZID=Europe/Amsterdam:20191011T201500
DTSTAMP:20260424T164530
CREATED:20190930T161716Z
LAST-MODIFIED:20190930T161716Z
UID:16283-1570824900-1570824900@www.flamencoagenda.nl
SUMMARY:El Pub XL: cd presentatie Arturo Ramón
DESCRIPTION:Den Haag\, De Nieuwe Regentes – Een speciale editie van de tweewekelijkse El Pub Flamenco. Dit keer is de flamencoavond in de grote zaal om officieel de nieuwe cd van flamencogitarist Arturo Ramón te presenteren.\nMet: Arturo Ramón (gitaar)\, Erminia Fernández Córdoba (zang\, palmas)\,\nUdo Demandt (percussie)\, Remko de Landmeter (dwarsfluit) en Irene Álvarez (dans\, palmas). \nDe titel van het album is ‘Contrastes’. Hierover zegt hij: ‘“Als ik nadenk over wat mij in de muziek nu eigenlijk het meeste boeit\, kom ik tot de conclusie dat contrasten belangrijk voor me zijn. Ze kunnen extreem zijn\, maar het zijn juist de kleine contrasten die me aantrekken in het leven en dus ook in de muziek. Wanneer je vreugde of verdriet net kan raden bij een acteur of als een dissonant of een hoge noot net die rilling teweegbrengt.” \nFoto: Hessel Waalewijn
URL:https://www.flamencoagenda.nl/event/el-pub-xl-cd-presentatie-arturo-ramon/
LOCATION:Theater De Nieuwe Regentes\, Weimarstraat 63\, Den Haag\, 2562 GR\, Nederland
CATEGORIES:Live Flamenco
ATTACH;FMTTYPE=image/jpeg:https://www.flamencoagenda.nl/core/../wp-content/uploads/Arturo-Ramon-Contrastes.jpg
END:VEVENT
BEGIN:VEVENT
DTSTART;TZID=Europe/Amsterdam:20191011T221500
DTEND;TZID=Europe/Amsterdam:20191011T233000
DTSTAMP:20260424T164530
CREATED:20190707T132705Z
LAST-MODIFIED:20190709T211803Z
UID:15562-1570832100-1570836600@www.flamencoagenda.nl
SUMMARY:Spanish Soul Flamenco Club Jeff Heijne Mauro Cottone
DESCRIPTION:Amsterdam\, De Duif – Concert van flamencogitarist Jeff Heijne en contrabassist Mauro Cottone in het kader van het Pianoduofestival. Dit optreden hoort bij het voorafgaande Spanish Soul Tapasconcert maar is met een apart kaartje ook los te bezoeken. Kijk voor informatie op de website van de organisator.
URL:https://www.flamencoagenda.nl/event/spanish-soul-flamenco-club-jeff-heijne-mauro-cottone/
LOCATION:De Duif\, Prinsengracht 756\, Amsterdam\, 1017 LD
CATEGORIES:Live Flamenco
ATTACH;FMTTYPE=image/png:https://www.flamencoagenda.nl/core/../wp-content/uploads/Mauro-Cottone-Jeff-Heijne.png
END:VEVENT
BEGIN:VEVENT
DTSTART;TZID=Europe/Amsterdam:20191012T190000
DTEND;TZID=Europe/Amsterdam:20191012T190000
DTSTAMP:20260424T164530
CREATED:20190819T172329Z
LAST-MODIFIED:20190819T172415Z
UID:15953-1570906800-1570906800@www.flamencoagenda.nl
SUMMARY:Tapas & Flamenco: Compañia Al Andalus
DESCRIPTION:Antwerpen\, Peña Al Andalus – Spaans eten en flamencodansoptreden. De keuken opent om 19.00 uur\, het optreden begint om 21.30 uur. Dit keer met dansgroep Compañia Al Andalus.
URL:https://www.flamencoagenda.nl/event/tapas-flamenco-compania-al-andalus/
LOCATION:Peña al Andalus\, Vorstermanstraat 1\, ANTWERPEN\, Antwerpen\, 2000\, België
CATEGORIES:Live Flamenco
ATTACH;FMTTYPE=image/jpeg:https://www.flamencoagenda.nl/core/../wp-content/uploads/fiesta-flamenca-pena-al-andalus.jpg
ORGANIZER;CN="Pe%C3%B1a Al Andalus":MAILTO:info@alandalus.be
END:VEVENT
BEGIN:VEVENT
DTSTART;TZID=Europe/Amsterdam:20191013T190000
DTEND;TZID=Europe/Amsterdam:20191013T190000
DTSTAMP:20260424T164530
CREATED:20190327T230345Z
LAST-MODIFIED:20190929T195623Z
UID:15067-1570993200-1570993200@www.flamencoagenda.nl
SUMMARY:Peña de Amsterdam
DESCRIPTION:Amsterdam\, Tapasbar Duende – Peña met open podium\, vrij sevillanas dansen en speciale evenementen. Aanmelden open podium: info@terremoto.nl. De peña is meestal op de eerste zondag van de maand (deze maand dus niet). \nHet programma is (globaal): (*) let op\, de tijden willen nog wel eens verschuiven bij dit evenement.\n19.00 uur BAILAR SEVILLANAS\n20.00 uur PEÑA FLAMENCA | OPEN PODIUM\, ‘JUERGA’ por Tangos\, Bulerías … \nOnder voorbehoud van wijzigingen door organisator (terremoto.nl).
URL:https://www.flamencoagenda.nl/event/pena-de-amsterdam-47/
LOCATION:Cafe Duende\, Lindengracht 62\, AMSTERDAM\, 1015KJ
CATEGORIES:Live Flamenco
ATTACH;FMTTYPE=image/jpeg:https://www.flamencoagenda.nl/core/../wp-content/uploads/amsterdam-pena-foto-ginette-lavell-1.jpg
ORGANIZER;CN="Terremoto":MAILTO:info@terremoto.nl
END:VEVENT
BEGIN:VEVENT
DTSTART;VALUE=DATE:20191018
DTEND;VALUE=DATE:20191019
DTSTAMP:20260424T164530
CREATED:20190525T201232Z
LAST-MODIFIED:20190930T143815Z
UID:15386-1571356800-1571443199@www.flamencoagenda.nl
SUMMARY:Ursula Lopez (flamencodans)
DESCRIPTION:Amsterdam\, Q Factory – Driedaagse workshop van de uit Spanje afkomstige flamencodanser Ursula Lopez in de flamencostijlen Farruca (intermedio)\, Martinete-Serrana (avanzado) en Caña met Bata de Cola en Manton (met ervaring). Er is les op 18\, 19 en 20 oktober. \nEvenement onder voorbehoud van wijzigingen door organisator (terremoto.nl)
URL:https://www.flamencoagenda.nl/event/ursula-lopez-flamencodans/
LOCATION:Q Factory\, Atlantisplein 1\, Amsterdam\, 1093 NE
CATEGORIES:Workshops
ATTACH;FMTTYPE=image/jpeg:https://www.flamencoagenda.nl/core/../wp-content/uploads/ursula-lopez.jpg
ORGANIZER;CN="Terremoto":MAILTO:info@terremoto.nl
END:VEVENT
BEGIN:VEVENT
DTSTART;TZID=Europe/Amsterdam:20191018T201500
DTEND;TZID=Europe/Amsterdam:20191018T201500
DTSTAMP:20260424T164530
CREATED:20191004T180600Z
LAST-MODIFIED:20191004T180837Z
UID:16323-1571429700-1571429700@www.flamencoagenda.nl
SUMMARY:De Règâhs Top 20
DESCRIPTION:Den Haag\, Diligentia – Live concert van Haagsche ‘100% flamingo’ groep De Règâhs. \nOver deze voorstelling\n“Regelmatig komt uit het publiek een verzoekje voor een bepaald nummer. Ook de Règâhs moeten na inmiddels 8 volledige cd’s\, lastige keuzes maken. Met deze ‘De Règâhs TOP 20’ worden de verzoekjes zoveel mogelijk meegenomen bij de samenstelling van de set-lijsten. Maar uiteindelijk bepaalt de groep zelf welke pareltjes veel te lang verborgen zijn gebleven en weer nieuwe glans moeten krijgen. Zeker nu de band versterkt is met meester-gipsygitarist Roy de Rijke!” \nFoto: ©Zout Fotografie (Rein Rijke)
URL:https://www.flamencoagenda.nl/event/de-regahs-top-20/
LOCATION:Diligentia\, Lange Voorhout 5\, Den Haag\, 2514 EA\, Nederland
CATEGORIES:Live Flamenco
ATTACH;FMTTYPE=image/jpeg:https://www.flamencoagenda.nl/core/../wp-content/uploads/De_Regahs_Zout_Fotografie.jpg
END:VEVENT
BEGIN:VEVENT
DTSTART;VALUE=DATE:20191019
DTEND;VALUE=DATE:20191020
DTSTAMP:20260424T164530
CREATED:20190929T132923Z
LAST-MODIFIED:20190929T132923Z
UID:16245-1571443200-1571529599@www.flamencoagenda.nl
SUMMARY:FlamencoFamily Pop-Up store
DESCRIPTION:Amsterdam\, Chassé Studio – Pop-Up store van FlamencoFamily met eco-vriendelijke flamencogeïnspireerde mode (geen dansschoenen). De ‘winkel’ is geopend op zaterdag 19 en zondag 20 oktober van 11 tot 16 uur.
URL:https://www.flamencoagenda.nl/event/flamencofamily-pop-up-store/
LOCATION:Chassé Dance studios\, Chassestraat 64\, Amsterdam\, 1057 JJ
CATEGORIES:Live Flamenco
ATTACH;FMTTYPE=image/png:https://www.flamencoagenda.nl/core/../wp-content/uploads/FlamencoFamily.png
ORGANIZER;CN="Flamenco Amsterdam":MAILTO:flamencoamsterdam[at]gmail.com
END:VEVENT
BEGIN:VEVENT
DTSTART;TZID=Europe/Amsterdam:20191019T190000
DTEND;TZID=Europe/Amsterdam:20191019T190000
DTSTAMP:20260424T164530
CREATED:20190819T172556Z
LAST-MODIFIED:20190819T172556Z
UID:15955-1571511600-1571511600@www.flamencoagenda.nl
SUMMARY:Noche de Gambas y Calamares a volonté
DESCRIPTION:Antwerpen\, Peña Al Andalus – Speciaal uitgebreid Spaans buffet ‘Gambas y Calamares a volonté’ met flamencodans van Ana Ramon\, Nina Pérez en La Lara. Reserveren verplicht.
URL:https://www.flamencoagenda.nl/event/noche-de-gambas-y-calamares-a-volonte-3/
LOCATION:Peña al Andalus\, Vorstermanstraat 1\, ANTWERPEN\, Antwerpen\, 2000\, België
CATEGORIES:Live Flamenco
ATTACH;FMTTYPE=image/jpeg:https://www.flamencoagenda.nl/core/../wp-content/uploads/Noche-de-gambas.jpg
ORGANIZER;CN="Pe%C3%B1a Al Andalus":MAILTO:info@alandalus.be
END:VEVENT
BEGIN:VEVENT
DTSTART;TZID=Europe/Amsterdam:20191019T190000
DTEND;TZID=Europe/Amsterdam:20191019T190000
DTSTAMP:20260424T164530
CREATED:20190906T164902Z
LAST-MODIFIED:20190906T164902Z
UID:16060-1571511600-1571511600@www.flamencoagenda.nl
SUMMARY:Eugenia Fernandez @ Casa Veronica
DESCRIPTION:Brussel\, Casa Veronica – ‘Tablao flamenco’ met Eugene Fernandez (dans)\, Laura Caballo (zang) en Patricio Grande (gitaar).
URL:https://www.flamencoagenda.nl/event/eugenia-fernandez-casa-veronica/
LOCATION:Casa Veronica\, Avenue Capart 13\, Brussel\, 1090\, België
CATEGORIES:Live Flamenco
ATTACH;FMTTYPE=image/png:https://www.flamencoagenda.nl/core/../wp-content/uploads/Eugenia-Laura-Patricio-Casa-Veronica.png
ORGANIZER;CN="Casa Veronica":MAILTO:contact.casa.veronica@gmail.com
END:VEVENT
BEGIN:VEVENT
DTSTART;VALUE=DATE:20191020
DTEND;VALUE=DATE:20191021
DTSTAMP:20260424T164530
CREATED:20190906T101603Z
LAST-MODIFIED:20190906T141141Z
UID:16028-1571529600-1571615999@www.flamencoagenda.nl
SUMMARY:Castagnetten Ana Ramón
DESCRIPTION:Antwerpen\, Peña Al Andalus – Workshop castagnetten van Ana Ramón. Er is les op zondag 20 oktober\, 24 november en 15 december. \nBeginners: 11.00-12.30 uur\nNiveau 2: 12.45-14.15 uur\nNiveau 3: 14.30-16.00 uur \n– info en inschrijving via info@alandalus.be –
URL:https://www.flamencoagenda.nl/event/castagnetten-ana-ramon-6/
LOCATION:Peña al Andalus\, Vorstermanstraat 1\, ANTWERPEN\, Antwerpen\, 2000\, België
CATEGORIES:Workshops
ATTACH;FMTTYPE=image/jpeg:https://www.flamencoagenda.nl/core/../wp-content/uploads/Ana-Ramon-castagnetten.jpeg
ORGANIZER;CN="Pe%C3%B1a Al Andalus":MAILTO:info@alandalus.be
END:VEVENT
BEGIN:VEVENT
DTSTART;TZID=Europe/Amsterdam:20191025T200000
DTEND;TZID=Europe/Amsterdam:20191025T200000
DTSTAMP:20260424T164530
CREATED:20191023T181622Z
LAST-MODIFIED:20191023T181622Z
UID:16490-1572033600-1572033600@www.flamencoagenda.nl
SUMMARY:Flamenco Tablao Art Base
DESCRIPTION:Brussel\, Art Base – Live flamenco met Antonio Segura (gitaar)\, Jose Ligero (zang)\, Pedro Cano Montiel (cajon) en Elena La Grulla (dans).
URL:https://www.flamencoagenda.nl/event/flamenco-tablao-art-base/
LOCATION:Art Base\, Rue des Sables\, Brussel\, 1000\, België
CATEGORIES:Live Flamenco
ATTACH;FMTTYPE=image/jpeg:https://www.flamencoagenda.nl/core/../wp-content/uploads/Elena-la-Grulla-1.jpg
END:VEVENT
BEGIN:VEVENT
DTSTART;TZID=Europe/Amsterdam:20191025T200000
DTEND;TZID=Europe/Amsterdam:20191025T200000
DTSTAMP:20260424T164530
CREATED:20191025T125139Z
LAST-MODIFIED:20191025T125139Z
UID:16583-1572033600-1572033600@www.flamencoagenda.nl
SUMMARY:ConAlma @ eLe
DESCRIPTION:Utrecht\, Tapasrestaurant eLe – Live muziek van duo ConAlma. \nOver deze voorstelling\n“De kunst van expressie en gevoel laat twee zielen samen vibreren op het podium. Broer en zus\, twee stemmen en een gitaar verenigd door een passie. Van Spanje tot Nederland zingen zij met ziel van flamenco\, reggaepop tot Catalaanse rumba.”
URL:https://www.flamencoagenda.nl/event/conalma-ele/
LOCATION:eLe Tapas\, Oudegracht aan de Werf 211\, UTRECHT\, 3511 NG\, Nederland
CATEGORIES:Live Flamenco
ATTACH;FMTTYPE=image/jpeg:https://www.flamencoagenda.nl/core/../wp-content/uploads/ConAlma1.jpg
END:VEVENT
BEGIN:VEVENT
DTSTART;TZID=Europe/Amsterdam:20191025T203000
DTEND;TZID=Europe/Amsterdam:20191025T203000
DTSTAMP:20260424T164530
CREATED:20190927T141830Z
LAST-MODIFIED:20190927T143100Z
UID:16214-1572035400-1572035400@www.flamencoagenda.nl
SUMMARY:Labryenco & Conchita @ Munganga
DESCRIPTION:Amsterdam\, Casa Munganga – Live flamenco van de formatie Labryenco met als gastartiest flamencodanseres Conchita Boon.
URL:https://www.flamencoagenda.nl/event/labryenco-conchita-munganga/
LOCATION:Munganga\, Schinkelhavenstraat 27\, Amsterdam\, 1075VP
CATEGORIES:Live Flamenco
ATTACH;FMTTYPE=image/png:https://www.flamencoagenda.nl/core/../wp-content/uploads/conchita-labryenco.png
END:VEVENT
BEGIN:VEVENT
DTSTART;TZID=Europe/Amsterdam:20191025T203000
DTEND;TZID=Europe/Amsterdam:20191025T233000
DTSTAMP:20260424T164530
CREATED:20191022T204516Z
LAST-MODIFIED:20191023T172711Z
UID:16438-1572035400-1572046200@www.flamencoagenda.nl
SUMMARY:Tablao Flamenco Irene Alvarez
DESCRIPTION:Gent\, Trefpunt – Iedere laatste vrijdag van de maand live flamenco in Trefpunt\, georganiseerd door ‘Peña Flamenca La Solea’. Dit keer met Irene Alvarez (dans)\, Erminia Fernandez Cordoba (zang) en Alexander Gavilan (gitaar). Tickets aan de kassa.
URL:https://www.flamencoagenda.nl/event/tablao-flamenco-irene-alvarez/
LOCATION:Trefpunt\, Walter de Buckplein 5\, Gent\, 9000\, België
CATEGORIES:Live Flamenco
ATTACH;FMTTYPE=image/png:https://www.flamencoagenda.nl/core/../wp-content/uploads/Irene-Alvarez.png
END:VEVENT
BEGIN:VEVENT
DTSTART;VALUE=DATE:20191026
DTEND;VALUE=DATE:20191027
DTSTAMP:20260424T164530
CREATED:20191004T173837Z
LAST-MODIFIED:20191004T173837Z
UID:16321-1572048000-1572134399@www.flamencoagenda.nl
SUMMARY:BVR Flamenco Big Band @ Wanderlust
DESCRIPTION:Den Haag\, Zuiderstrandtheater – BVR Flamenco Big Band is te gast op het Wanderlust Festival\, “een muzikale ontdekkingsreis in en om het Zuiderstrandtheater die alle zintuigen prikkelt”. Geprogrammeerd zijn: Residentie Orkest Den Haag\, Spark\, Caravan\, Farid Sheek\, Ardemus Quartet\, YSA\, Kalpana\, DJ Stanley en dus de BVR Flamenco Big Band. \nFoto: Marjon Broeks.
URL:https://www.flamencoagenda.nl/event/bvr-flamenco-big-band-wanderlust/
LOCATION:Zuiderstrandtheater\, Houtrustweg 505\, SCHEVENINGEN HAVEN\, 2583 ER
CATEGORIES:Live Flamenco
ATTACH;FMTTYPE=image/jpeg:https://www.flamencoagenda.nl/core/../wp-content/uploads/BVR-foto-Marion-Broeks.jpg
END:VEVENT
BEGIN:VEVENT
DTSTART;TZID=Europe/Amsterdam:20191026T190000
DTEND;TZID=Europe/Amsterdam:20191026T190000
DTSTAMP:20260424T164530
CREATED:20190819T172932Z
LAST-MODIFIED:20190819T172932Z
UID:15957-1572116400-1572116400@www.flamencoagenda.nl
SUMMARY:Tapas & Flamenco: Jovenes Flamencos
DESCRIPTION:Antwerpen\, Peña Al Andalus – Spaans eten en flamencodansoptreden. De keuken opent om 19.00 uur\, het optreden begint om 21.30 uur. Dit keer met dansgroep Jovenes Flamencos.
URL:https://www.flamencoagenda.nl/event/tapas-flamenco-jovenes-flamencos/
LOCATION:Peña al Andalus\, Vorstermanstraat 1\, ANTWERPEN\, Antwerpen\, 2000\, België
CATEGORIES:Live Flamenco
ATTACH;FMTTYPE=image/jpeg:https://www.flamencoagenda.nl/core/../wp-content/uploads/Jovenes-Flamencos-Pena-Al-Andalus.jpeg
ORGANIZER;CN="Pe%C3%B1a Al Andalus":MAILTO:info@alandalus.be
END:VEVENT
END:VCALENDAR