BEGIN:VCALENDAR
VERSION:2.0
PRODID:-//flamencoagenda.nl - ECPv6.15.20//NONSGML v1.0//EN
CALSCALE:GREGORIAN
METHOD:PUBLISH
X-WR-CALNAME:flamencoagenda.nl
X-ORIGINAL-URL:https://www.flamencoagenda.nl
X-WR-CALDESC:Evenementen voor flamencoagenda.nl
REFRESH-INTERVAL;VALUE=DURATION:PT1H
X-Robots-Tag:noindex
X-PUBLISHED-TTL:PT1H
BEGIN:VTIMEZONE
TZID:Europe/Amsterdam
BEGIN:DAYLIGHT
TZOFFSETFROM:+0100
TZOFFSETTO:+0200
TZNAME:CEST
DTSTART:20170326T010000
END:DAYLIGHT
BEGIN:STANDARD
TZOFFSETFROM:+0200
TZOFFSETTO:+0100
TZNAME:CET
DTSTART:20171029T010000
END:STANDARD
BEGIN:DAYLIGHT
TZOFFSETFROM:+0100
TZOFFSETTO:+0200
TZNAME:CEST
DTSTART:20180325T010000
END:DAYLIGHT
BEGIN:STANDARD
TZOFFSETFROM:+0200
TZOFFSETTO:+0100
TZNAME:CET
DTSTART:20181028T010000
END:STANDARD
BEGIN:DAYLIGHT
TZOFFSETFROM:+0100
TZOFFSETTO:+0200
TZNAME:CEST
DTSTART:20190331T010000
END:DAYLIGHT
BEGIN:STANDARD
TZOFFSETFROM:+0200
TZOFFSETTO:+0100
TZNAME:CET
DTSTART:20191027T010000
END:STANDARD
END:VTIMEZONE
BEGIN:VEVENT
DTSTART;TZID=Europe/Amsterdam:20181102T203000
DTEND;TZID=Europe/Amsterdam:20181102T203000
DTSTAMP:20260424T182718
CREATED:20181102T193035Z
LAST-MODIFIED:20181109T001101Z
UID:13567-1541190600-1541190600@www.flamencoagenda.nl
SUMMARY:El Pub Flamenco
DESCRIPTION:Den Haag\, De Nieuwe Regentes – Live flamenco voorstelling vanaf 20.30 uur (deuren open om 20.15 uur) met twee sets optreden en in de laatste set open podium m.m.v. de artiesten van de avond. De artiesten van deze editie worden nog bekend gemaakt. \nKaarten zijn tot 2 uur voor aanvang via de webshop van De Nieuwe Regentes verkrijgbaar\, of aan de deur tegen een hogere prijs. Er is (ongeveer) om de week op vrijdag een ‘El Pub Flamenco’.
URL:https://www.flamencoagenda.nl/event/el-pub-flamenco-47/
LOCATION:Theater De Nieuwe Regentes\, Weimarstraat 63\, Den Haag\, 2562 GR\, Nederland
CATEGORIES:Live Flamenco
ATTACH;FMTTYPE=image/jpeg:https://www.flamencoagenda.nl/core/../wp-content/uploads/el-pub-flamenco-3.jpg
END:VEVENT
BEGIN:VEVENT
DTSTART;TZID=Europe/Amsterdam:20181102T203000
DTEND;TZID=Europe/Amsterdam:20181102T203000
DTSTAMP:20260424T182718
CREATED:20180429T104958Z
LAST-MODIFIED:20180429T104958Z
UID:12793-1541190600-1541190600@www.flamencoagenda.nl
SUMMARY:Los Hombros de Hércules
DESCRIPTION:Leeuwarden\, De Neushoorn – Live flamenco met Juan José Amador en Pepe de Pura (zang)\, Luis Amador (gitaar)\, María ‘La Serrana’ (dans) en special guest danser Antonio Moreno ‘Polito’. Bij deze voorstelling treedt ook gastdanseres Ilona Alí op. \nFoto: Caró Design.
URL:https://www.flamencoagenda.nl/event/los-hombros-de-hercules-3/
LOCATION:De Neushoorn\, Ruiterkwartier 41\, Leeuwarden\, 8911 BP
CATEGORIES:Live Flamenco
ATTACH;FMTTYPE=image/jpeg:https://www.flamencoagenda.nl/core/../wp-content/uploads/Los-Hombros-de-Hercules-Caro-Design.jpg
END:VEVENT
BEGIN:VEVENT
DTSTART;VALUE=DATE:20181102
DTEND;VALUE=DATE:20181103
DTSTAMP:20260424T182718
CREATED:20181009T220655Z
LAST-MODIFIED:20181009T220655Z
UID:13742-1541116800-1541203199@www.flamencoagenda.nl
SUMMARY:Joselito Fernandez Vargas (dans)
DESCRIPTION:Brussel\, Casa Veronica – Weekendworkshop van de Spaanse flamencodanser Joselito Fernandez Vargas op twee niveaus: beginners/intermediate & gevorderd. Er is les op vrijdagavond en zaterdag- en zondagmiddag\, van 2 t/m 4 november.
URL:https://www.flamencoagenda.nl/event/joselito-fernandez-vargas-dans/
LOCATION:Casa Veronica\, Avenue Capart 13\, Brussel\, 1090\, België
CATEGORIES:Workshops
ATTACH;FMTTYPE=image/jpeg:https://www.flamencoagenda.nl/core/../wp-content/uploads/Joselito-Fernandez-Vargas.jpg
ORGANIZER;CN="Casa Veronica":MAILTO:contact.casa.veronica@gmail.com
END:VEVENT
BEGIN:VEVENT
DTSTART;VALUE=DATE:20181101
DTEND;VALUE=DATE:20181102
DTSTAMP:20260424T182718
CREATED:20180429T103651Z
LAST-MODIFIED:20180429T104226Z
UID:12787-1541030400-1541116799@www.flamencoagenda.nl
SUMMARY:Los Hombros de Hércules
DESCRIPTION:Kerkrade\, Parkstad Limburg Theater – Live flamenco met Juan José Amador en Pepe de Pura (zang)\, Luis Amador (gitaar)\, María ‘La Serrana’ (dans) en special guest danser Antonio Moreno ‘Polito’. Bij deze voorstelling treedt ook gastdanseres Marta Flendrig op. \nFoto: Caró Design.
URL:https://www.flamencoagenda.nl/event/los-hombros-de-hercules-2/
LOCATION:Kerkrade Parkstad Limburg Theaters\, Theaterplein 30\, Kerkrade\, 6461 DR
CATEGORIES:Live Flamenco
ATTACH;FMTTYPE=image/jpeg:https://www.flamencoagenda.nl/core/../wp-content/uploads/Los-Hombros-de-Hercules-Caro-Design.jpg
END:VEVENT
BEGIN:VEVENT
DTSTART;VALUE=DATE:20181029
DTEND;VALUE=DATE:20181030
DTSTAMP:20260424T182718
CREATED:20180903T191458Z
LAST-MODIFIED:20180903T191458Z
UID:13638-1540771200-1540857599@www.flamencoagenda.nl
SUMMARY:Workshops cajón & flamenco zang
DESCRIPTION:Antwerpen\, Peña Al Andalus – Twee driedaagse workshops: cajón door Ramón Leon (gitaarbegeleiding door Rafael Sanchez) en een workshop Flamenco leren zingen door Antonio Paz. Er is les van maandag 29 t/m woensdag 31 oktober.
URL:https://www.flamencoagenda.nl/event/workshops-cajon-flamenco-zang/
LOCATION:Peña al Andalus\, Vorstermanstraat 1\, ANTWERPEN\, Antwerpen\, 2000\, België
CATEGORIES:Workshops
ATTACH;FMTTYPE=image/jpeg:https://www.flamencoagenda.nl/core/../wp-content/uploads/ramon-leon-antonio-paz-rafael-sanchez.jpg
ORGANIZER;CN="Pe%C3%B1a Al Andalus":MAILTO:info@alandalus.be
END:VEVENT
BEGIN:VEVENT
DTSTART;TZID=Europe/Amsterdam:20181028T170000
DTEND;TZID=Europe/Amsterdam:20181028T170000
DTSTAMP:20260424T182718
CREATED:20180818T205822Z
LAST-MODIFIED:20180818T205822Z
UID:13483-1540746000-1540746000@www.flamencoagenda.nl
SUMMARY:Antje\, Falu & Jurgen @ Duende
DESCRIPTION:Amsterdam\, Tapasbar Duende – Live flamenco in de zaal van tapas restaurant Duende in de Amsterdamse Jordaan. Dit keer met Antje Herber (dans)\, El Falu de Cadiz (zang) & Jurgen Rijkers (gitaar). Tickets aan de bar.
URL:https://www.flamencoagenda.nl/event/antje-falu-jurgen-duende/
LOCATION:Cafe Duende\, Lindengracht 62\, AMSTERDAM\, 1015KJ
CATEGORIES:Live Flamenco
ATTACH;FMTTYPE=image/jpeg:https://www.flamencoagenda.nl/core/../wp-content/uploads/antje.jpg
END:VEVENT
BEGIN:VEVENT
DTSTART;TZID=Europe/Amsterdam:20181027T213000
DTEND;TZID=Europe/Amsterdam:20181027T213000
DTSTAMP:20260424T182718
CREATED:20180903T153836Z
LAST-MODIFIED:20180903T153836Z
UID:13610-1540675800-1540675800@www.flamencoagenda.nl
SUMMARY:Tapas & Flamenco: Aires del Sur
DESCRIPTION:Antwerpen\, Peña Al Andalus – Spaans eten en flamencodansoptreden. De keuken opent om 19.00 uur\, het optreden begint om 21.30 uur. Dit keer met dansgroep Aires del Sur.
URL:https://www.flamencoagenda.nl/event/tapas-flamenco-aires-del-sur-5/
LOCATION:Peña al Andalus\, Vorstermanstraat 1\, ANTWERPEN\, Antwerpen\, 2000\, België
CATEGORIES:Live Flamenco
ATTACH;FMTTYPE=image/jpeg:https://www.flamencoagenda.nl/core/../wp-content/uploads/Aires-del-Sur-Al-Andalus.jpg
ORGANIZER;CN="Pe%C3%B1a Al Andalus":MAILTO:info@alandalus.be
END:VEVENT
BEGIN:VEVENT
DTSTART;TZID=Europe/Amsterdam:20181027T200000
DTEND;TZID=Europe/Amsterdam:20181027T200000
DTSTAMP:20260424T182718
CREATED:20181009T214318Z
LAST-MODIFIED:20181009T214318Z
UID:13737-1540670400-1540670400@www.flamencoagenda.nl
SUMMARY:Flamenco en Vivo: Jessica Kaibali & Jessica Achten
DESCRIPTION:Amsterdam\, Casa Munganga – Maandelijkse flamencoavond ‘Flamenco en Vivo’ in Teatro Munganga. Met dit keer: Jessica Kaibali & Jessica Achten (dans)\, Yota Baron (zang)\, Yorgos Valiris (gitaar) en Juri Kuefner (percussie).
URL:https://www.flamencoagenda.nl/event/flamenco-en-vivo-jessica-kaibali-jessica-achten/
LOCATION:Teatro Munganga\, Schinkelhavenstraat 27 hs\, Amsterdam\, 1075 VP
CATEGORIES:Live Flamenco
ATTACH;FMTTYPE=image/jpeg:https://www.flamencoagenda.nl/core/../wp-content/uploads/Jessica-Kaibali-Jessica-Achten.jpg
ORGANIZER;CN="Yota Baron":MAILTO:hello@yotabaronproductions.com
END:VEVENT
BEGIN:VEVENT
DTSTART;VALUE=DATE:20181027
DTEND;VALUE=DATE:20181028
DTSTAMP:20260424T182718
CREATED:20180820T204645Z
LAST-MODIFIED:20180820T204645Z
UID:13540-1540598400-1540684799@www.flamencoagenda.nl
SUMMARY:Noche Flamenca @ Popei
DESCRIPTION:Popei\, Eindhoven – Live flamenco met Jessica Achten en Gabriella Hanzi (dans)\, Falu de Cadiz (zang) en Tijn van der Sanden (gitaar). Vanaf 17 uur worden er tapas geserveerd\, het optreden begint om 19.30 uur.
URL:https://www.flamencoagenda.nl/event/noche-flamenca-popei-7/
LOCATION:Popei\, Klokgebouw 300\, Eindhoven \, 5617 AD
CATEGORIES:Live Flamenco
ATTACH;FMTTYPE=image/jpeg:https://www.flamencoagenda.nl/core/../wp-content/uploads/Popei-Jessica-Achten-foto-Jan-Slieker.jpg
ORGANIZER;CN="Jessica Achten":MAILTO: jessica.achten[at]gmail.com
END:VEVENT
BEGIN:VEVENT
DTSTART;VALUE=DATE:20181027
DTEND;VALUE=DATE:20181028
DTSTAMP:20260424T182718
CREATED:20180715T221326Z
LAST-MODIFIED:20180715T223217Z
UID:13163-1540598400-1540684799@www.flamencoagenda.nl
SUMMARY:Alfonsa Losa (dans)
DESCRIPTION:Amsterdam\, Q Factory – Weekendworkshop van de uit Spanje afkomstige flamencodanser Alfonso Losa. Er is les op zaterdag 27 en zondag 28 oktober. \nMedio bajo (tangos): zaterdag 17.00-19.00 uur\, zondag 11.00-13.00 uur\nMedio alto (bulerias): zaterdag 19.00-21.00 uur\, zondag 13.00-15.00 uur
URL:https://www.flamencoagenda.nl/event/alfonsa-losa-dans/
LOCATION:Q Factory\, Atlantisplein 1\, Amsterdam\, 1093 NE
CATEGORIES:Workshops
ATTACH;FMTTYPE=image/jpeg:https://www.flamencoagenda.nl/core/../wp-content/uploads/Alfonso-Losa.jpg
ORGANIZER;CN="Flamencoworkshop":MAILTO:flamencoworkshop@outlook.com
END:VEVENT
BEGIN:VEVENT
DTSTART;TZID=Europe/Amsterdam:20181026T200000
DTEND;TZID=Europe/Amsterdam:20181026T200000
DTSTAMP:20260424T182718
CREATED:20180820T213644Z
LAST-MODIFIED:20180820T213644Z
UID:13550-1540584000-1540584000@www.flamencoagenda.nl
SUMMARY:Oleo Trio & Kuky Santiago & Antonio Paz
DESCRIPTION:Brussel\, Moliere Theater – ‘Noche flamenco’ met de flamencojazz formatie Oleo Trio met Antonio Segura (flamencogitaar)\, Serge Dacosse (bas) en Francios Taillefer (percussie) en gastartiesten Kuky Santiago (dans) en Antonio Paz (zang).
URL:https://www.flamencoagenda.nl/event/oleo-trio-kuky-santiago-antonio-paz/
LOCATION:Moliere Theater\, Bolwerksquare 3\, Elsene\, 1050\, België
CATEGORIES:Live Flamenco
ATTACH;FMTTYPE=image/jpeg:https://www.flamencoagenda.nl/core/../wp-content/uploads/Oleo-Kuky-Santiago.jpg
END:VEVENT
BEGIN:VEVENT
DTSTART;TZID=Europe/Amsterdam:20181021T110000
DTEND;TZID=Europe/Amsterdam:20181021T110000
DTSTAMP:20260424T182718
CREATED:20181009T215255Z
LAST-MODIFIED:20181009T215327Z
UID:13740-1540119600-1540119600@www.flamencoagenda.nl
SUMMARY:Kinderflamenco Pastora
DESCRIPTION:Amsterdam\, Teatro Munganga – Voorstelling voor kinderen door flamencodanseres Pastora. \nOver deze voorstelling\n“Hoor je de wind? Hoor je de waaier openen? Hoor je de castagnetten? Hoor je de blote voeten? Hoor je handen klappen? Hoor je hakken met spijkers? En hoor nu die gitaar!!! In de korte kindervoorstelling van Pastora Flamenco maken de kinderen kennis met de prachtige flamenco en aan het eind gaan kinderen en ouders ook zelf de vloer op…”
URL:https://www.flamencoagenda.nl/event/kinderflamenco-pastora/
LOCATION:Teatro Munganga\, Schinkelhavenstraat 27 hs\, Amsterdam\, 1075 VP
CATEGORIES:Live Flamenco
ATTACH;FMTTYPE=image/jpeg:https://www.flamencoagenda.nl/core/../wp-content/uploads/Pastora-kinderen.jpg
END:VEVENT
BEGIN:VEVENT
DTSTART;VALUE=DATE:20181021
DTEND;VALUE=DATE:20181022
DTSTAMP:20260424T182718
CREATED:20180903T183109Z
LAST-MODIFIED:20180907T213631Z
UID:13628-1540080000-1540166399@www.flamencoagenda.nl
SUMMARY:Bata de Cola techniek Nina Pérez
DESCRIPTION:Antwerpen\, Peña Al Andalus – Workshop danstechniek Bata de Cola (jurk met sleep). Docent is flamencodanseres Nina Pérez. Er is les op zondag 21 oktober en 25 november van 14.30-16.00 uur.
URL:https://www.flamencoagenda.nl/event/bata-de-cola-techniek-nina-perez/
LOCATION:Peña al Andalus\, Vorstermanstraat 1\, ANTWERPEN\, Antwerpen\, 2000\, België
CATEGORIES:Workshops
ATTACH;FMTTYPE=image/jpeg:https://www.flamencoagenda.nl/core/../wp-content/uploads/nina-perez-bata-de-cola.jpg
ORGANIZER;CN="Pe%C3%B1a Al Andalus":MAILTO:info@alandalus.be
END:VEVENT
BEGIN:VEVENT
DTSTART;VALUE=DATE:20181021
DTEND;VALUE=DATE:20181022
DTSTAMP:20260424T182718
CREATED:20180903T182536Z
LAST-MODIFIED:20180907T213505Z
UID:13626-1540080000-1540166399@www.flamencoagenda.nl
SUMMARY:Castagnetten Ana Ramón
DESCRIPTION:Antwerpen\, Peña Al Andalus – Workshop castagnetten door flamencodanseres Ana Ramón. Er is les op zondag 21 oktober en zondag 25 november.
URL:https://www.flamencoagenda.nl/event/castagnetten-ana-ramon-3/
LOCATION:Peña al Andalus\, Vorstermanstraat 1\, ANTWERPEN\, Antwerpen\, 2000\, België
CATEGORIES:Workshops
ATTACH;FMTTYPE=image/jpeg:https://www.flamencoagenda.nl/core/../wp-content/uploads/Ana-Ramon-castagnetten.jpeg
ORGANIZER;CN="Pe%C3%B1a Al Andalus":MAILTO:info@alandalus.be
END:VEVENT
BEGIN:VEVENT
DTSTART;VALUE=DATE:20181021
DTEND;VALUE=DATE:20181022
DTSTAMP:20260424T182718
CREATED:20180818T205431Z
LAST-MODIFIED:20181009T212123Z
UID:13480-1540080000-1540166399@www.flamencoagenda.nl
SUMMARY:Bahari Flamenco Arabe @ Duende
DESCRIPTION:Amsterdam\, Tapasbar Duende – Live flamenco in de zaal van tapas restaurant Duende in de Amsterdamse Jordaan. Dit keer met Bahari Flamenco Arabe. Met Yota Baron (flamencozang)\, Anastassia Zachariadou (Qanun/Fuit/Arabische zang)\, Panos Kartimpelis (flamencogitaar).\nVan 14.30 tot 17.00 uur is er een workshop van Anastassia Zaschariadou getiteld: “Turkish and Arabic Maquam” Tickets via info@yotabaron.gr of aan de kassa. \nOver dit concert\n“Flamenco is a kind of music originating from the southern part of Spain\, Andalusia. There\, the existing local music Andaluz\, rich in elements of baroque\, basque as well as Arabic and Byzantine music\, was united with the gypsy culture and was born what we know today as flamenco. Rhythms of Africa and twelve meters\, the polyphonic harmony of Europe alongside the so contrasting monophonic musical heritage of the Arabs\, united and formed the basis for the creation of this distinctive musical tradition expressing the joy of life\, love\, sadness of death\, separation\, the difficult life of mines\, the persecution suffered by gypsies\, rural life\, and so on.\nFlamenco\, rich in emotions and musical motifs\, has evolved to this day without deviating from its roots. In 2010\, UNESCO included Flamenco on the World Heritage Site.”
URL:https://www.flamencoagenda.nl/event/bahari-flamenco-arabe-duende/
LOCATION:Cafe Duende\, Lindengracht 62\, AMSTERDAM\, 1015KJ
CATEGORIES:Live Flamenco,Workshops
ATTACH;FMTTYPE=image/jpeg:https://www.flamencoagenda.nl/core/../wp-content/uploads/Bahari-Flamenco-Arabe.jpg
ORGANIZER;CN="Yota Baron":MAILTO:hello@yotabaronproductions.com
END:VEVENT
BEGIN:VEVENT
DTSTART;TZID=Europe/Amsterdam:20181020T213000
DTEND;TZID=Europe/Amsterdam:20181020T213000
DTSTAMP:20260424T182718
CREATED:20180903T153610Z
LAST-MODIFIED:20180903T153610Z
UID:13608-1540071000-1540071000@www.flamencoagenda.nl
SUMMARY:Noche de Gambas y Calamares a volonté
DESCRIPTION:Antwerpen\, Peña Al Andalus – Spaans buffet ‘Noche de Gambas y Calamares a volonté’ met flamencodans van Ana Ramon\, Nina Pérez en La Lara. Reserveren verplicht.
URL:https://www.flamencoagenda.nl/event/noche-de-gambas-y-calamares-a-volonte/
LOCATION:Peña al Andalus\, Vorstermanstraat 1\, ANTWERPEN\, Antwerpen\, 2000\, België
CATEGORIES:Live Flamenco
ATTACH;FMTTYPE=image/jpeg:https://www.flamencoagenda.nl/core/../wp-content/uploads/Noche-de-gambas.jpg
ORGANIZER;CN="Pe%C3%B1a Al Andalus":MAILTO:info@alandalus.be
END:VEVENT
BEGIN:VEVENT
DTSTART;TZID=Europe/Amsterdam:20181020T210000
DTEND;TZID=Europe/Amsterdam:20181020T210000
DTSTAMP:20260424T182718
CREATED:20181018T211211Z
LAST-MODIFIED:20181018T211211Z
UID:13752-1540069200-1540069200@www.flamencoagenda.nl
SUMMARY:Saïdjah la Zambra ‘Soy Mujer’
DESCRIPTION:Maaseik\, Danshuis Volmolen – Live flamenco met Saïdjah la Zambra (dans)\, Antonio Paz en Esteban Murillo (zang) en José=Luís Dominguez (gitaar). \nOver Saïdjah la Zambra\n“Saïdjah la Zambra kreeg de muziek met de paplepel in. Moeder Geneviève Galo is flamencodanseres. De flamenco was in haar kinder- en jeugdjaren al een manier van leven. Het groeide uit tot een passie. Na haar middelbare studies trok ze naar Sevilla om haar liefde voor de dans verder uit te diepen. Ze studeerde er aan alle toonaangevende flamencoscholen en stond op prestigieuze podia met heel wat bekende artiesten.“
URL:https://www.flamencoagenda.nl/event/saidjah-la-zambra-soy-mujer/
LOCATION:Danshuis Volmolen\, Volmolenstraat 11\, Maaseik (Opoeteren)
CATEGORIES:Live Flamenco
ATTACH;FMTTYPE=image/jpeg:https://www.flamencoagenda.nl/core/../wp-content/uploads/saidjah-galo-5.jpg
END:VEVENT
BEGIN:VEVENT
DTSTART;TZID=Europe/Amsterdam:20181020T190000
DTEND;TZID=Europe/Amsterdam:20181020T190000
DTSTAMP:20260424T182718
CREATED:20180813T210733Z
LAST-MODIFIED:20180813T210733Z
UID:13403-1540062000-1540062000@www.flamencoagenda.nl
SUMMARY:Elena la Grulla @ Casa Veronica
DESCRIPTION:Brussel\, Casa Veronica – ‘Tablao flamenco’ met Elena la Grulla (dans)\, Jose Ligero (zang) en Antonio Segura (gitaar).
URL:https://www.flamencoagenda.nl/event/elena-la-grulla-casa-veronica/
LOCATION:Casa Veronica\, Avenue Capart 13\, Brussel\, 1090\, België
CATEGORIES:Live Flamenco
ATTACH;FMTTYPE=image/jpeg:https://www.flamencoagenda.nl/core/../wp-content/uploads/Elena-La-Grulla-Casa-Veronica.jpg
ORGANIZER;CN="Casa Veronica":MAILTO:contact.casa.veronica@gmail.com
END:VEVENT
BEGIN:VEVENT
DTSTART;VALUE=DATE:20181020
DTEND;VALUE=DATE:20181021
DTSTAMP:20260424T182718
CREATED:20181018T211400Z
LAST-MODIFIED:20181018T211400Z
UID:13754-1539993600-1540079999@www.flamencoagenda.nl
SUMMARY:Workshop Caña (dans) Saïdjah la Zambra
DESCRIPTION:Maaseik\, Danshuis Volmolen – Tweedaagse workshop flamencodans van Saïdjah la Zambra. Er is les op zaterdag 20 oktober van 13.00-14.30 uur en zondag 21 oktober van 15.00-16.30 uur.\nOp zondag is er om 16.30 uur een toonmoment voor publiek waarin de dansers laten zien wat ze geleerd hebben.
URL:https://www.flamencoagenda.nl/event/workshop-cana-dans-saidjah-la-zambra/
LOCATION:Danshuis Volmolen\, Volmolenstraat 11\, Maaseik (Opoeteren)
CATEGORIES:Workshops
ATTACH;FMTTYPE=image/jpeg:https://www.flamencoagenda.nl/core/../wp-content/uploads/Saidjah-Galo-Bata-de-cola.jpg
END:VEVENT
BEGIN:VEVENT
DTSTART;VALUE=DATE:20181020
DTEND;VALUE=DATE:20181021
DTSTAMP:20260424T182718
CREATED:20181009T221412Z
LAST-MODIFIED:20181009T221412Z
UID:13745-1539993600-1540079999@www.flamencoagenda.nl
SUMMARY:Elena La Grulla (dans)
DESCRIPTION:Brussel\, Casa Veronica – Eendaagse workshop flamencodans door Elena La Grulla. Er is les op twee niveaus: absolute beginners (Tangos) & intermediate (Bulerias). De les wordt op flamencogitaar begeleid door Fabricio Rodriguez
URL:https://www.flamencoagenda.nl/event/elena-la-grulla-dans-3/
LOCATION:Casa Veronica\, Avenue Capart 13\, Brussel\, 1090\, België
CATEGORIES:Workshops
ATTACH;FMTTYPE=image/jpeg:https://www.flamencoagenda.nl/core/../wp-content/uploads/Elena-la-Grulla-2.jpg
END:VEVENT
BEGIN:VEVENT
DTSTART;TZID=Europe/Amsterdam:20181019T210000
DTEND;TZID=Europe/Amsterdam:20181019T210000
DTSTAMP:20260424T182718
CREATED:20181018T211540Z
LAST-MODIFIED:20181018T211540Z
UID:13756-1539982800-1539982800@www.flamencoagenda.nl
SUMMARY:Lezing ‘Flamenco\, echte liefde’
DESCRIPTION:Maaseik\, Danshuis Volmolen – Lezing van flamencodanseres  Saïdjah la Zambra.  \n“Kennismaken met flamenco of meer weten over de achtergronden? Wilt u op een actieve manier van een voorstelling kunnen genieten of overweegt u zelf met flamenco te beginnen? Saïdjah geeft een prima inleiding\, opwarming en begeleiding. Ze schenkt aandacht aan de evolutie\, de structuur en de techniek van de dans en waar die thuishoort in de flamencocultuur.” \nOver Saïdjah la Zambra\n“Saïdjah studeerde aan alle toonaangevende flamencoscholen en stond op prestigieuze podia met heel wat bekende artiesten. Ze was te zien in de film Dance the world. Samen met Huib Billiet Adriaansen schreef ze het boek Flamenco – Handleiding voor dansers en liefhebbers.”
URL:https://www.flamencoagenda.nl/event/lezing-flamenco-echte-liefde/
LOCATION:Danshuis Volmolen\, Volmolenstraat 11\, Maaseik (Opoeteren)
CATEGORIES:Workshops
ATTACH;FMTTYPE=image/jpeg:https://www.flamencoagenda.nl/core/../wp-content/uploads/saidjah-galo.jpeg
END:VEVENT
BEGIN:VEVENT
DTSTART;TZID=Europe/Amsterdam:20181019T203000
DTEND;TZID=Europe/Amsterdam:20181019T203000
DTSTAMP:20260424T182718
CREATED:20180822T213844Z
LAST-MODIFIED:20180822T213844Z
UID:13561-1539981000-1539981000@www.flamencoagenda.nl
SUMMARY:El Pub Flamenco
DESCRIPTION:Den Haag\, De Nieuwe Regentes – Live flamenco voorstelling vanaf 20.30 uur (deuren open om 20.15 uur) met twee sets optreden en in de laatste set open podium m.m.v. de artiesten van de avond. De artiesten van deze editie worden nog bekend gemaakt.  \nKaarten zijn tot 2 uur voor aanvang via de webshop van De Nieuwe Regentes verkrijgbaar\, of aan de deur tegen een hogere prijs. Er is (ongeveer) om de week op vrijdag een ‘El Pub Flamenco’.
URL:https://www.flamencoagenda.nl/event/el-pub-flamenco-44/
LOCATION:Theater De Nieuwe Regentes\, Weimarstraat 63\, Den Haag\, 2562 GR\, Nederland
CATEGORIES:Live Flamenco
ATTACH;FMTTYPE=image/jpeg:https://www.flamencoagenda.nl/core/../wp-content/uploads/el-pub-flamenco-3.jpg
END:VEVENT
BEGIN:VEVENT
DTSTART;VALUE=DATE:20181014
DTEND;VALUE=DATE:20181015
DTSTAMP:20260424T182718
CREATED:20180903T183743Z
LAST-MODIFIED:20180903T183743Z
UID:13631-1539475200-1539561599@www.flamencoagenda.nl
SUMMARY:Ritmestructuur flamenco
DESCRIPTION:Antwerpen\, Peña Al Andalus – Workshop theorie en inzicht in de ritmestructuren van flamenco door Ana Ramón. Er is les op zondag 14 oktober en zondag 2 december van 11.00-12.30 uur.
URL:https://www.flamencoagenda.nl/event/ritmestructuur-flamenco/
LOCATION:Peña al Andalus\, Vorstermanstraat 1\, ANTWERPEN\, Antwerpen\, 2000\, België
CATEGORIES:Workshops
ATTACH;FMTTYPE=image/jpeg:https://www.flamencoagenda.nl/core/../wp-content/uploads/ana-ramon-al-andalus.jpg
ORGANIZER;CN="Pe%C3%B1a Al Andalus":MAILTO:info@alandalus.be
END:VEVENT
BEGIN:VEVENT
DTSTART;TZID=Europe/Amsterdam:20181013T213000
DTEND;TZID=Europe/Amsterdam:20181013T213000
DTSTAMP:20260424T182718
CREATED:20180903T153330Z
LAST-MODIFIED:20180903T153330Z
UID:13606-1539466200-1539466200@www.flamencoagenda.nl
SUMMARY:Tapas & Flamenco: Corazón Flamenco
DESCRIPTION:Antwerpen\, Peña Al Andalus – Spaans eten en flamencodansoptreden. De keuken opent om 19.00 uur\, het optreden begint om 21.30 uur. Dit keer met dansgroep Corazón Flamenco.
URL:https://www.flamencoagenda.nl/event/tapas-flamenco-corazon-flamenco-9/
LOCATION:Peña al Andalus\, Vorstermanstraat 1\, ANTWERPEN\, Antwerpen\, 2000\, België
CATEGORIES:Live Flamenco
ATTACH;FMTTYPE=image/jpeg:https://www.flamencoagenda.nl/core/../wp-content/uploads/Corazon-flamenco.jpg
ORGANIZER;CN="Pe%C3%B1a Al Andalus":MAILTO:info@alandalus.be
END:VEVENT
BEGIN:VEVENT
DTSTART;VALUE=DATE:20181012
DTEND;VALUE=DATE:20181013
DTSTAMP:20260424T182718
CREATED:20180523T204447Z
LAST-MODIFIED:20180827T174423Z
UID:12986-1539302400-1539388799@www.flamencoagenda.nl
SUMMARY:Rafaela Carrasco (dans)
DESCRIPTION:Amsterdam\, Q Factory – Workshop flamencodans door de Spaanse flamencodanseres Rafaela Carrasco. Er is les op vrijdag 12\, zaterdag 13 en zondag 14 oktober. Basico: Tangos\, intemedio: Tientos\, avanzado: Solea & manton. \nOnder voorbehoud van wijzigingen door organisator (terremoto.nl) \nFoto: ©Minna Hatinen
URL:https://www.flamencoagenda.nl/event/rafaela-carrasco-dans/
LOCATION:Q Factory\, Atlantisplein 1\, Amsterdam\, 1093 NE
CATEGORIES:Workshops
ATTACH;FMTTYPE=image/jpeg:https://www.flamencoagenda.nl/core/../wp-content/uploads/Rafaela-Carrasco-Foto-Minna-Hatinen.jpg
ORGANIZER;CN="Terremoto":MAILTO:info@terremoto.nl
END:VEVENT
BEGIN:VEVENT
DTSTART;TZID=Europe/Amsterdam:20181006T220000
DTEND;TZID=Europe/Amsterdam:20181006T220000
DTSTAMP:20260424T182718
CREATED:20180818T204442Z
LAST-MODIFIED:20180818T204442Z
UID:13478-1538863200-1538863200@www.flamencoagenda.nl
SUMMARY:John Fillmore Quartet @ Duende
DESCRIPTION:Amsterdam\, Tapasbar Duende – Live flamenco in de zaal van tapas restaurant Duende in de Amsterdamse Jordaan. Dit keer met het John Fillmore Quartet: John Fillmore (flamenco gitaar)\, Franklin Heilijgers (bas)\, Ron van Holland (percussie) en Paul Weiling (sax). Aanvangstijd onder voorbehoud\, check vooraf bij de locatie.
URL:https://www.flamencoagenda.nl/event/john-fillmore-quartet-duende/
LOCATION:Cafe Duende\, Lindengracht 62\, AMSTERDAM\, 1015KJ
CATEGORIES:Live Flamenco
ATTACH;FMTTYPE=image/jpeg:https://www.flamencoagenda.nl/core/../wp-content/uploads/john-fillmore-quartet-1.jpg
END:VEVENT
BEGIN:VEVENT
DTSTART;TZID=Europe/Amsterdam:20181006T213000
DTEND;TZID=Europe/Amsterdam:20181006T213000
DTSTAMP:20260424T182718
CREATED:20180903T153051Z
LAST-MODIFIED:20180903T153051Z
UID:13604-1538861400-1538861400@www.flamencoagenda.nl
SUMMARY:Tapas & Flamenco: Herencia Flamenca
DESCRIPTION:Antwerpen\, Peña Al Andalus – Spaans eten en flamencodansoptreden. De keuken opent om 19.00 uur\, het optreden begint om 21.30 uur. Dit keer met dansgroep Herencia Flamenca (Ana Ramón en Nina Pérez).
URL:https://www.flamencoagenda.nl/event/tapas-flamenco-herencia-flamenca-4/
LOCATION:Peña al Andalus\, Vorstermanstraat 1\, ANTWERPEN\, Antwerpen\, 2000\, België
CATEGORIES:Live Flamenco
ATTACH;FMTTYPE=image/jpeg:https://www.flamencoagenda.nl/core/../wp-content/uploads/herencia-flamenca1.jpg
ORGANIZER;CN="Pe%C3%B1a Al Andalus":MAILTO:info@alandalus.be
END:VEVENT
BEGIN:VEVENT
DTSTART;TZID=Europe/Amsterdam:20181005T203000
DTEND;TZID=Europe/Amsterdam:20181005T203000
DTSTAMP:20260424T182718
CREATED:20180822T213720Z
LAST-MODIFIED:20180822T214406Z
UID:13559-1538771400-1538771400@www.flamencoagenda.nl
SUMMARY:El Pub Flamenco
DESCRIPTION:Den Haag\, De Nieuwe Regentes – Live flamenco voorstelling vanaf 20.30 uur (deuren open om 20.15 uur) met twee sets optreden en in de laatste set open podium m.m.v. de artiesten van de avond. De artiesten van deze editie worden nog bekend gemaakt.  \nKaarten zijn tot 2 uur voor aanvang via de webshop van De Nieuwe Regentes verkrijgbaar\, of aan de deur tegen een hogere prijs. Er is (ongeveer) om de week op vrijdag een ‘El Pub Flamenco’.
URL:https://www.flamencoagenda.nl/event/el-pub-flamenco-43/
LOCATION:Theater De Nieuwe Regentes\, Weimarstraat 63\, Den Haag\, 2562 GR\, Nederland
CATEGORIES:Live Flamenco
ATTACH;FMTTYPE=image/jpeg:https://www.flamencoagenda.nl/core/../wp-content/uploads/el-pub-flamenco-3.jpg
END:VEVENT
BEGIN:VEVENT
DTSTART;TZID=Europe/Amsterdam:20181005T170000
DTEND;TZID=Europe/Amsterdam:20181005T220000
DTSTAMP:20260424T182718
CREATED:20180818T213059Z
LAST-MODIFIED:20180818T213059Z
UID:13490-1538758800-1538776800@www.flamencoagenda.nl
SUMMARY:Peña de Amsterdam
DESCRIPTION:Amsterdam\, Tapasbar Duende – Iedere eerste zondagmiddag van de maand: peña met open podium\, vrij sevillanas dansen en speciale evenementen\, zoals coachingslessen van artiesten. Aanmelden open podium: info@terremoto.nl.  \n17.30 Sevillanas dansen\n19.00 Open podium\n20.30 – 22.00 ‘Juerga’ por tangos\, bulerias etc. \nAanvangstijd onder voorbehoud van wijzigingen door organisator (terremoto.nl). \nFoto Ginette Lavell
URL:https://www.flamencoagenda.nl/event/pena-de-amsterdam-36/
LOCATION:Cafe Duende\, Lindengracht 62\, AMSTERDAM\, 1015KJ
CATEGORIES:Live Flamenco
ATTACH;FMTTYPE=image/jpeg:https://www.flamencoagenda.nl/core/../wp-content/uploads/amsterdam-pena-foto-ginette-lavell-1.jpg
ORGANIZER;CN="Terremoto":MAILTO:info@terremoto.nl
END:VEVENT
BEGIN:VEVENT
DTSTART;TZID=Europe/Amsterdam:20181001T200000
DTEND;TZID=Europe/Amsterdam:20181001T213000
DTSTAMP:20260424T182718
CREATED:20180818T201642Z
LAST-MODIFIED:20180822T095601Z
UID:13471-1538424000-1538429400@www.flamencoagenda.nl
SUMMARY:Flamenco en Vivo: Pastora & Fanie
DESCRIPTION:Amsterdam\, Teatro Munganga – Maandelijkse flamencoavond ‘Flamenco en Vivo’ in Teatro Munganga. Met dit keer: Pastora en Fanie Demesticha (dans)\, Yota Baron (zang)\, David Rey Delgado (gitaar)\, Juri Kuefner (percussie). \n 
URL:https://www.flamencoagenda.nl/event/flamenco-en-vivo-pastora-fanie/
LOCATION:Teatro Munganga\, Schinkelhavenstraat 27 hs\, Amsterdam\, 1075 VP
CATEGORIES:Live Flamenco
ATTACH;FMTTYPE=image/jpeg:https://www.flamencoagenda.nl/core/../wp-content/uploads/Pastora-Fanie-Demesticha.jpg
ORGANIZER;CN="Yota Baron":MAILTO:hello@yotabaronproductions.com
END:VEVENT
END:VCALENDAR