BEGIN:VCALENDAR
VERSION:2.0
PRODID:-//flamencoagenda.nl - ECPv6.15.20//NONSGML v1.0//EN
CALSCALE:GREGORIAN
METHOD:PUBLISH
X-ORIGINAL-URL:https://www.flamencoagenda.nl
X-WR-CALDESC:Evenementen voor flamencoagenda.nl
REFRESH-INTERVAL;VALUE=DURATION:PT1H
X-Robots-Tag:noindex
X-PUBLISHED-TTL:PT1H
BEGIN:VTIMEZONE
TZID:Europe/Amsterdam
BEGIN:DAYLIGHT
TZOFFSETFROM:+0100
TZOFFSETTO:+0200
TZNAME:CEST
DTSTART:20180325T010000
END:DAYLIGHT
BEGIN:STANDARD
TZOFFSETFROM:+0200
TZOFFSETTO:+0100
TZNAME:CET
DTSTART:20181028T010000
END:STANDARD
BEGIN:DAYLIGHT
TZOFFSETFROM:+0100
TZOFFSETTO:+0200
TZNAME:CEST
DTSTART:20190331T010000
END:DAYLIGHT
BEGIN:STANDARD
TZOFFSETFROM:+0200
TZOFFSETTO:+0100
TZNAME:CET
DTSTART:20191027T010000
END:STANDARD
BEGIN:DAYLIGHT
TZOFFSETFROM:+0100
TZOFFSETTO:+0200
TZNAME:CEST
DTSTART:20200329T010000
END:DAYLIGHT
BEGIN:STANDARD
TZOFFSETFROM:+0200
TZOFFSETTO:+0100
TZNAME:CET
DTSTART:20201025T010000
END:STANDARD
END:VTIMEZONE
BEGIN:VEVENT
DTSTART;TZID=Europe/Amsterdam:20190725T144500
DTEND;TZID=Europe/Amsterdam:20190725T144500
DTSTAMP:20260420T094721
CREATED:20190718T162108Z
LAST-MODIFIED:20190718T162516Z
UID:15803-1564065900-1564065900@www.flamencoagenda.nl
SUMMARY:Trio Flamenco @ Sint Jozef
DESCRIPTION:Gent\, WZC Sint Jozef – Optreden van Trio Flamenco met Emre El Turco (gitaar)\, Esteban Murillo (zang)\, Manou Selhorst (dans) in het kader van de Gentse Feesten.
URL:https://www.flamencoagenda.nl/event/trio-flamenco-sint-jozef/
LOCATION:WZC Sint Jozef\, Molenaarsstraat 34\, Gent\, 9000
CATEGORIES:Live Flamenco
ATTACH;FMTTYPE=image/jpeg:https://www.flamencoagenda.nl/core/../wp-content/uploads/Manou-Selhorst.jpeg
END:VEVENT
BEGIN:VEVENT
DTSTART;VALUE=DATE:20190726
DTEND;VALUE=DATE:20190727
DTSTAMP:20260420T094721
CREATED:20190213T223046Z
LAST-MODIFIED:20190214T103432Z
UID:14671-1564099200-1564185599@www.flamencoagenda.nl
SUMMARY:Cristina Hall (dans)
DESCRIPTION:Amsterdam – Tweedaagse workshop van de uit Spanje afkomstige danseres Cristina Hall. Er is les op vrijdag 26 en zondag 28 juli.  \nBasico (>3\,5 jr.): Alegrias\nMiddenniveau (>6 jr.): Seguiriyas \nEvenement onder voorbehoud van wijzigingen door organisator (terremoto.nl)
URL:https://www.flamencoagenda.nl/event/cristina-hall-dans-2/
CATEGORIES:Workshops
ATTACH;FMTTYPE=image/jpeg:https://www.flamencoagenda.nl/core/../wp-content/uploads/cristina-hall.jpg
ORGANIZER;CN="Terremoto":MAILTO:info@terremoto.nl
END:VEVENT
BEGIN:VEVENT
DTSTART;VALUE=DATE:20190726
DTEND;VALUE=DATE:20190727
DTSTAMP:20260420T094721
CREATED:20190525T194956Z
LAST-MODIFIED:20190525T195019Z
UID:15378-1564099200-1564185599@www.flamencoagenda.nl
SUMMARY:Cristina Hall (flamencodans)
DESCRIPTION:Amsterdam\, Studio 95 – Tweedaagse workshop van flamencodanseres Christina Hall in de flamencostijlen Alegria (basico) en Seguiriya (gevorderd). Er is les op vrijdag 26 en zondag 28 juli.  \nEvenement onder voorbehoud van wijzigingen door organisator (terremoto.nl)
URL:https://www.flamencoagenda.nl/event/cristina-hall-flamencodans/
LOCATION:Studio 95\, Tussen de Bogen 95\, Amsterdam\, 1013 JB
CATEGORIES:Workshops
ATTACH;FMTTYPE=image/jpeg:https://www.flamencoagenda.nl/core/../wp-content/uploads/cristina-hall.jpg
ORGANIZER;CN="Terremoto":MAILTO:info@terremoto.nl
END:VEVENT
BEGIN:VEVENT
DTSTART;TZID=Europe/Amsterdam:20190726T143000
DTEND;TZID=Europe/Amsterdam:20190726T143000
DTSTAMP:20260420T094721
CREATED:20190718T162321Z
LAST-MODIFIED:20190718T162321Z
UID:15806-1564151400-1564151400@www.flamencoagenda.nl
SUMMARY:Trio Flamenco @ Home Claire
DESCRIPTION:Gent\, WZC Home Claire – Optreden van Trio Flamenco met Emre El Turco (gitaar)\, Esteban Murillo (zang)\, Manou Selhorst (dans) in het kader van de Gentse Feesten.
URL:https://www.flamencoagenda.nl/event/trio-flamenco-home-claire/
LOCATION:WZC Home Claire\, Jan Delvinlaan 70\, Gent\, 9000
CATEGORIES:Live Flamenco
ATTACH;FMTTYPE=image/jpeg:https://www.flamencoagenda.nl/core/../wp-content/uploads/Manou-Selhorst.jpeg
END:VEVENT
BEGIN:VEVENT
DTSTART;TZID=Europe/Amsterdam:20190726T190000
DTEND;TZID=Europe/Amsterdam:20190726T200000
DTSTAMP:20260420T094721
CREATED:20190708T141311Z
LAST-MODIFIED:20190708T141341Z
UID:15634-1564167600-1564171200@www.flamencoagenda.nl
SUMMARY:Proefles flamenco
DESCRIPTION:Rotterdam\, Dansstudio La Barre – Gratis proefles flamenco voor beginners door flamencodanseres Liliana Hernandez. Er wordt een uur les gegeven in de flamencostijl ‘Tangos’.
URL:https://www.flamencoagenda.nl/event/proefles-flamenco-2/
LOCATION:Dansstudio La Barre\, Kortekade 63A\, Rotterdam\, 3062 GN
CATEGORIES:Workshops
ATTACH;FMTTYPE=image/png:https://www.flamencoagenda.nl/core/../wp-content/uploads/Lilian-Hernandez-Islas.png
ORGANIZER;CN="Liliana Hernandez":MAILTO:islaslili@hotmail.com
END:VEVENT
BEGIN:VEVENT
DTSTART;TZID=Europe/Amsterdam:20190726T210000
DTEND;TZID=Europe/Amsterdam:20190726T210000
DTSTAMP:20260420T094721
CREATED:20190708T115532Z
LAST-MODIFIED:20190708T115532Z
UID:15613-1564174800-1564174800@www.flamencoagenda.nl
SUMMARY:Mala Sangre & Thomas Oliemans
DESCRIPTION:Delft\, Markt – ‘Dille & Kamille Markconcert’ waarin bariton Thomas Oliemans de dialoog aangaat met flamencoformatie Mala Sangre. Met: Mala Sangre\, flamencogroep; Thomas Oliemans\, bariton; Kyril Zlotnikov\, cello; Floris Mijnders\, cello; Ying Lai Green\, contrabas; Jeanette Landré\, fluit.
URL:https://www.flamencoagenda.nl/event/mala-sangre-thomas-oliemans/
LOCATION:Markt Delft\, Markt\, Delft
CATEGORIES:Live Flamenco
ATTACH;FMTTYPE=image/jpeg:https://www.flamencoagenda.nl/core/../wp-content/uploads/mala-sangre.jpg
END:VEVENT
BEGIN:VEVENT
DTSTART;VALUE=DATE:20190727
DTEND;VALUE=DATE:20190728
DTSTAMP:20260420T094721
CREATED:20190403T203956Z
LAST-MODIFIED:20190403T203956Z
UID:15138-1564185600-1564271999@www.flamencoagenda.nl
SUMMARY:Flamencoreis Frankrijk Maison Nueve
DESCRIPTION:Antran\, La Maison Nueve – Flamencoreis: week met flamencoworkshops zang\, dans\, gitaar\, percussie en dru yoga. Verblijf is (op het terrein) van een landgoed. De reis is van 27 juli t/m 3 augustus. \nJe kan de dag beginnen met dru yoga gegeven door Marleen van Haasdrecht. Jorien Maters geeft de flamencodanslessen. Er zijn gitaarlesssen van Bart Guichelaar-Villerius en zanglessen van Natasja Valletta. De palmas en cajonlessen worden door Jorien\, Bart en Natasja gezamenlijk gegegeven. De week wordt afgesloten met een optreden van alle disciplines samen. Verder zijn er excursies\, een peña en is een avond aan het kampvuur.
URL:https://www.flamencoagenda.nl/event/flamencoreis-frankrijk-maison-nueve-2/
LOCATION:Landgoed La Maison Nueve\, D75A\, Antran\, 86100
CATEGORIES:Workshops
ATTACH;FMTTYPE=image/png:https://www.flamencoagenda.nl/core/../wp-content/uploads/Flamenco-Frankrijk-Maison-Nueve.png
ORGANIZER;CN="Born to Dance Flamencoreis":MAILTO:marleen.v.haastrecht@gmail.com
END:VEVENT
BEGIN:VEVENT
DTSTART;VALUE=DATE:20190727
DTEND;VALUE=DATE:20190728
DTSTAMP:20260420T094721
CREATED:20190628T220303Z
LAST-MODIFIED:20190628T220303Z
UID:15473-1564185600-1564271999@www.flamencoagenda.nl
SUMMARY:Zomerworkshop Bulerias
DESCRIPTION:Den Haag\, Zeeheldentheater – Zaterdag 27 en zondag 28 juli Bulerias les van de in Sevilla gevestigde Marga Perez. Er is les van 11.00-13.00 uur.
URL:https://www.flamencoagenda.nl/event/zomerworkshop-bulerias/
LOCATION:Zeeheldentheater\, Trompstraat 342\, Den Haag
CATEGORIES:Workshops
ATTACH;FMTTYPE=image/jpeg:https://www.flamencoagenda.nl/core/../wp-content/uploads/marga-perez-flamenco.jpg
ORGANIZER;CN="Flamenco Underground":MAILTO:info[at]flamenco-underground.nl
END:VEVENT
BEGIN:VEVENT
DTSTART;TZID=Europe/Amsterdam:20190727T120000
DTEND;TZID=Europe/Amsterdam:20190727T140000
DTSTAMP:20260420T094721
CREATED:20190701T142842Z
LAST-MODIFIED:20190701T142842Z
UID:15503-1564228800-1564236000@www.flamencoagenda.nl
SUMMARY:Sevillanas Flamencas Tamar Porcelijn
DESCRIPTION:Amsterdam\, Studio Porcelijn – Workshop improvisatie in Sevillanas. “Door middel van improvisatie en verassende variaties leer je hoe je de vertrouwde sevillanas-structuur kunt gebruiken om het flamenco-beest in jezelf te bevrijden. Jouw sevillanas zullen nooit meer hetzelfde zijn…”
URL:https://www.flamencoagenda.nl/event/sevillanas-flamencas-tamar-porcelijn/
LOCATION:Studio Porcelijn\, Van Ostadestraat 482\, Amsterdam\, 1074 XE
CATEGORIES:Workshops
ATTACH;FMTTYPE=image/jpeg:https://www.flamencoagenda.nl/core/../wp-content/uploads/tamar-porcelijn-tientos.jpg
ORGANIZER;CN="Tamar Porcelijn":MAILTO:tamar5@me.com
END:VEVENT
BEGIN:VEVENT
DTSTART;TZID=Europe/Amsterdam:20190727T203000
DTEND;TZID=Europe/Amsterdam:20190727T203000
DTSTAMP:20260420T094721
CREATED:20190216T233717Z
LAST-MODIFIED:20190216T233717Z
UID:14719-1564259400-1564259400@www.flamencoagenda.nl
SUMMARY:Noche de Flamenco
DESCRIPTION:Openluchttheater Valkenburg – Vierde editie van de jaarlijkse Noche de Flamenco in het Openluchttheater Valkenburg. Op het programma staan optredens van Labryénco (feat. Falu de Cadiz (zang) en Conchita Boon (dans) en Tiempos Nuevos feat. Cristina Hall (dans) \nLabryenco\nAlain Labrie: gitaar/composities\nFranklin Heijligers : (fretloze) bas\nFalu de Cadiz : zang\nAntal Steixner: percussion\nJaro Stuhlrajter: viool\nConchita Boon: dans \nTiempos Nuevos\n“Gitarist Edsart Udo de Haes van Tiempos Nuevos wordt door velen gezien als de allerbeste in Nederland. Samen met de uitermate bezielde en getalenteerde zangeres/gitariste Maria Marín gaat hij op zoek naar flamenco zonder grenzen en clichés. Danseres Cristina Hall (Spanje) sluit perfect aan bij hun gedachtegoed. Tiempos Nuevos wordt gecompleteerd door de fenomenale drummer Jamie Peet.”
URL:https://www.flamencoagenda.nl/event/noche-de-flamenco-28/
LOCATION:Openluchttheater Valkenburg\, Plenkertstraat 51A\, Valkenburg\, 6301 GL
CATEGORIES:Live Flamenco
ATTACH;FMTTYPE=image/jpeg:https://www.flamencoagenda.nl/core/../wp-content/uploads/Noche-de-Flamenco-Cristina-Hall.jpg
END:VEVENT
BEGIN:VEVENT
DTSTART;TZID=Europe/Amsterdam:20190727T210000
DTEND;TZID=Europe/Amsterdam:20190727T210000
DTSTAMP:20260420T094721
CREATED:20190714T181233Z
LAST-MODIFIED:20190714T181233Z
UID:15720-1564261200-1564261200@www.flamencoagenda.nl
SUMMARY:Elena & Tamara @ La Pequeña Bodega
DESCRIPTION:Sint-Idesbald\, La Pequeña Bodega – Live flamenco met danseressen Elena La Grulla en Tamara Dewispelaere.
URL:https://www.flamencoagenda.nl/event/elena-tamara-la-pequena-bodega/
LOCATION:La Pequeña Bodega\, Zeedijk 33\, Sint-Idesbald\, 8670
CATEGORIES:Live Flamenco
ATTACH;FMTTYPE=image/jpeg:https://www.flamencoagenda.nl/core/../wp-content/uploads/Elena-la-Grulla-2.jpg
END:VEVENT
BEGIN:VEVENT
DTSTART;TZID=Europe/Amsterdam:20190728T123000
DTEND;TZID=Europe/Amsterdam:20190728T134500
DTSTAMP:20260420T094721
CREATED:20190701T141909Z
LAST-MODIFIED:20190701T141909Z
UID:15492-1564317000-1564321500@www.flamencoagenda.nl
SUMMARY:Danstechniek Tamar Porcelijn
DESCRIPTION:Amsterdam\, Studio Porcelijn – Techniekles flamencodans door Tamar Porcelijn. Er zijn lessen op zondag 14\, 21 en 28 juli en op 4 en 11 augustus van 12.30-13.45 uur. Het is mogelijk om de lessen los te volgen.
URL:https://www.flamencoagenda.nl/event/danstechniek-tamar-porcelijn-3/
LOCATION:Studio Porcelijn\, Van Ostadestraat 482\, Amsterdam\, 1074 XE
CATEGORIES:Workshops
ATTACH;FMTTYPE=image/jpeg:https://www.flamencoagenda.nl/core/../wp-content/uploads/tamar-porcelijn-in-hermitage.jpg
END:VEVENT
BEGIN:VEVENT
DTSTART;VALUE=DATE:20190730
DTEND;VALUE=DATE:20190731
DTSTAMP:20260420T094721
CREATED:20190628T214759Z
LAST-MODIFIED:20190628T214759Z
UID:15463-1564444800-1564531199@www.flamencoagenda.nl
SUMMARY:Lunar zomerlessen Tangos
DESCRIPTION:Duerne (Antwerpen)\, Zaal Polaris – Zomerlessen flamenco van Tamara Dewispelaere (Flamencoschool Lunar). Dinsdag 30 juli en donderdag 1 augustus: Tangos. Er is les van 19.45-21.00 uur.
URL:https://www.flamencoagenda.nl/event/lunar-zomerlessen-tangos/
LOCATION:Zaal Polaris\, Herentalsebaan 111\, Deurne\, 2100\, België
CATEGORIES:Workshops
ATTACH;FMTTYPE=image/jpeg:https://www.flamencoagenda.nl/core/../wp-content/uploads/Flamenco-Lunar-Antwerpen.jpg
ORGANIZER;CN="Flamenco Lunar":MAILTO:vzwlunar@gmail.com
END:VEVENT
BEGIN:VEVENT
DTSTART;TZID=Europe/Amsterdam:20190731T193000
DTEND;TZID=Europe/Amsterdam:20190731T220000
DTSTAMP:20260420T094721
CREATED:20190714T201010Z
LAST-MODIFIED:20190714T201103Z
UID:15739-1564601400-1564610400@www.flamencoagenda.nl
SUMMARY:Theresa y Timen
DESCRIPTION:Gees\, Beelden in Gees – Live flamenco van Theresa (zang) en Timen (gitaar).
URL:https://www.flamencoagenda.nl/event/theresa-y-timen-4/
LOCATION:Beelden in Gees\, Schaapveensweg 16\, Gees\, 7863 TE
ATTACH;FMTTYPE=image/png:https://www.flamencoagenda.nl/core/../wp-content/uploads/Theresa-y-Timen.png
END:VEVENT
BEGIN:VEVENT
DTSTART;TZID=Europe/Amsterdam:20190802T210000
DTEND;TZID=Europe/Amsterdam:20190802T210000
DTSTAMP:20260420T094721
CREATED:20190714T185404Z
LAST-MODIFIED:20190714T185404Z
UID:15722-1564779600-1564779600@www.flamencoagenda.nl
SUMMARY:Manou & Burak @ La Pequeña Bodega
DESCRIPTION:Sint-Idesbald\, La Pequeña Bodega – Live flamenco met Manou Selhorst (dans) en Burak Balci (gitaar).
URL:https://www.flamencoagenda.nl/event/manou-burak-la-bodega/
LOCATION:La Pequeña Bodega\, Zeedijk 33\, Sint-Idesbald\, 8670
CATEGORIES:Live Flamenco
ATTACH;FMTTYPE=image/jpeg:https://www.flamencoagenda.nl/core/../wp-content/uploads/Manou-Selhorst.jpeg
END:VEVENT
BEGIN:VEVENT
DTSTART;TZID=Europe/Amsterdam:20190804T123000
DTEND;TZID=Europe/Amsterdam:20190804T134500
DTSTAMP:20260420T094721
CREATED:20190701T142013Z
LAST-MODIFIED:20190701T142013Z
UID:15494-1564921800-1564926300@www.flamencoagenda.nl
SUMMARY:Danstechniek Tamar Porcelijn
DESCRIPTION:Amsterdam\, Studio Porcelijn – Techniekles flamencodans door Tamar Porcelijn. Er zijn lessen op zondag 14\, 21 en 28 juli en op 4 en 11 augustus van 12.30-13.45 uur. Het is mogelijk om de lessen los te volgen.
URL:https://www.flamencoagenda.nl/event/danstechniek-tamar-porcelijn-4/
LOCATION:Studio Porcelijn\, Van Ostadestraat 482\, Amsterdam\, 1074 XE
CATEGORIES:Workshops
ATTACH;FMTTYPE=image/jpeg:https://www.flamencoagenda.nl/core/../wp-content/uploads/tamar-porcelijn-in-hermitage.jpg
ORGANIZER;CN="Tamar Porcelijn":MAILTO:tamar5@me.com
END:VEVENT
BEGIN:VEVENT
DTSTART;TZID=Europe/Amsterdam:20190804T173000
DTEND;TZID=Europe/Amsterdam:20190804T173000
DTSTAMP:20260420T094721
CREATED:20190327T225852Z
LAST-MODIFIED:20190327T225852Z
UID:15063-1564939800-1564939800@www.flamencoagenda.nl
SUMMARY:Peña de Amsterdam
DESCRIPTION:Amsterdam\, Tapasbar Duende – Peña met open podium\, vrij sevillanas dansen en speciale evenementen. Aanmelden open podium: info@terremoto.nl. De peña is meestal op de eerste zondag van de maand. \nHet programma is (globaal): (*) let op\, de tijden willen nog wel eens verschuiven bij dit evenement.\n17.30 uur BAILAR SEVILLANAS\n19.15 uur PEÑA FLAMENCA | OPEN PODIUM\n20.45 uur ‘JUERGA’ por Tangos\, Bulerías … \nOnder voorbehoud van wijzigingen door organisator (terremoto.nl).
URL:https://www.flamencoagenda.nl/event/pena-de-amsterdam-45/
LOCATION:Cafe Duende\, Lindengracht 62\, AMSTERDAM\, 1015KJ
CATEGORIES:Live Flamenco
ATTACH;FMTTYPE=image/jpeg:https://www.flamencoagenda.nl/core/../wp-content/uploads/amsterdam-pena-foto-ginette-lavell-1.jpg
ORGANIZER;CN="Terremoto":MAILTO:info@terremoto.nl
END:VEVENT
BEGIN:VEVENT
DTSTART;VALUE=DATE:20190810
DTEND;VALUE=DATE:20190811
DTSTAMP:20260420T094721
CREATED:20190417T104013Z
LAST-MODIFIED:20190930T145327Z
UID:15185-1565395200-1565481599@www.flamencoagenda.nl
SUMMARY:'Por Fiesta' reis Duitsland
DESCRIPTION:Tacken\, Duitsland – Een week lang op flamencovakantie met dans-\, gitaar-\, zang-\, cajón- en palmaslessen. De locatie is een tot ‘flamencovakantieoord’ verbouwde boerderij gerund door de Berlijnse flamencodanser Guido ‘El Tallo’. De lessen worden gegeven door danseres/zangeres Antje Herber\, gitarist Jürgen Rijkers en percussionist Juri Kuefner met als speciale gast Juan Cárdenas uit Sevilla (zang). De reis is van 10 t/m 17 augustus \nOver deze reis\n“In onze dans/gitaar/zang/cajón/palmaslessen zullen de verschillen in niveaus vervagen! Het accent komt in deze lessen te liggen op het SAMENSPEL en de INTERACTIE tussen zang\, gitaar\, dans en percussie. We leren mooi repertoire\, tools en tricks die je gelijk kan toepassen en je zal het gevoel krijgen dat werkelijk IEDEREEN kan meedoen en bijdragen aan het maken van deze fantastische\, magische muziek. We zullen\, net als de gitanos in Spanje\, als één grote Familia zijn!”
URL:https://www.flamencoagenda.nl/event/por-fiesta-reis-duitsland/
LOCATION:Flamenco Tacken\, Tacken\, Groß Pankow\, 19348\, Duitsland
CATEGORIES:Workshops
ATTACH;FMTTYPE=image/png:https://www.flamencoagenda.nl/core/../wp-content/uploads/Flamencovakantie-Duitsland.png
END:VEVENT
BEGIN:VEVENT
DTSTART;TZID=Europe/Amsterdam:20190810T210000
DTEND;TZID=Europe/Amsterdam:20190810T210000
DTSTAMP:20260420T094721
CREATED:20190714T190300Z
LAST-MODIFIED:20190714T190300Z
UID:15725-1565470800-1565470800@www.flamencoagenda.nl
SUMMARY:Myrddin & Imre @ La Pequeña Bodega
DESCRIPTION:Sint-Idesbald\, La Pequeña Bodega – Live flamenco Myrddin De Cauter (gitaar) en Imre de Cauter (Cello). \nFoto: Melinalida
URL:https://www.flamencoagenda.nl/event/myrddin-imre-la-pequena-bodega/
LOCATION:La Pequeña Bodega\, Zeedijk 33\, Sint-Idesbald\, 8670
CATEGORIES:Live Flamenco
ATTACH;FMTTYPE=image/jpeg:https://www.flamencoagenda.nl/core/../wp-content/uploads/Myrdinn-de-Cauter-Imre-de-Cauter-foto-Melinalida.jpg
END:VEVENT
BEGIN:VEVENT
DTSTART;TZID=Europe/Amsterdam:20190811T123000
DTEND;TZID=Europe/Amsterdam:20190811T134500
DTSTAMP:20260420T094721
CREATED:20190701T142113Z
LAST-MODIFIED:20190701T142113Z
UID:15496-1565526600-1565531100@www.flamencoagenda.nl
SUMMARY:Danstechniek Tamar Porcelijn
DESCRIPTION:Amsterdam\, Studio Porcelijn – Techniekles flamencodans door Tamar Porcelijn. Er zijn lessen op zondag 14\, 21 en 28 juli en op 4 en 11 augustus van 12.30-13.45 uur. Het is mogelijk om de lessen los te volgen.
URL:https://www.flamencoagenda.nl/event/danstechniek-tamar-porcelijn-5/
LOCATION:Studio Porcelijn\, Van Ostadestraat 482\, Amsterdam\, 1074 XE
CATEGORIES:Workshops
ATTACH;FMTTYPE=image/jpeg:https://www.flamencoagenda.nl/core/../wp-content/uploads/tamar-porcelijn-1.jpg
ORGANIZER;CN="Tamar Porcelijn":MAILTO:tamar5@me.com
END:VEVENT
BEGIN:VEVENT
DTSTART;TZID=Europe/Amsterdam:20190811T170000
DTEND;TZID=Europe/Amsterdam:20190811T190000
DTSTAMP:20260420T094721
CREATED:20190701T142645Z
LAST-MODIFIED:20190701T142645Z
UID:15501-1565542800-1565550000@www.flamencoagenda.nl
SUMMARY:Dans-analyse Tamar Porcelijn
DESCRIPTION:Amsterdam\, Studio Porcelijn – Workshop analyse van flamencodans door Tamar Porcelijn. “Hoe is een traditionele flamencodans opgebouwd? Hoe heten de verschillende bouwstenen en hoe herken je ze? Als je dat eenmaal weet\, kun je beter zien welke keuzes een danser maakt en welk effect die keuzes hebben. Aan de hand van videobeelden oefenen we het herkennen en benoemen van de verschillende onderdelen van een flamencodans.”
URL:https://www.flamencoagenda.nl/event/dans-analyse-tamar-porcelijn/
LOCATION:Studio Porcelijn\, Van Ostadestraat 482\, Amsterdam\, 1074 XE
CATEGORIES:Workshops
ATTACH;FMTTYPE=image/jpeg:https://www.flamencoagenda.nl/core/../wp-content/uploads/tamar-porcelijn-bata-de-cola-foto-peter-buitelaar.jpg
END:VEVENT
BEGIN:VEVENT
DTSTART;VALUE=DATE:20190813
DTEND;VALUE=DATE:20190814
DTSTAMP:20260420T094721
CREATED:20190707T123235Z
LAST-MODIFIED:20190707T123422Z
UID:15538-1565654400-1565740799@www.flamencoagenda.nl
SUMMARY:Jeff Heijne @ Grachtenfestival
DESCRIPTION:Amsterdam\, Rijpenhofje – Serie van drie solo concerten van flamencogitarist Jeff Heijne georganiseerd door het Grachtenfestival. De concerten worden gegeven op het Rijpenhofje\, in het kader van de Concertwandeling. \nEr is een concert om 13.30 uur\, 14.00 uur en 14.30 uur. \nFoto: Xandra van Rossum
URL:https://www.flamencoagenda.nl/event/jeff-heijne-grachtenfestival/
LOCATION:Rijpenhofje\, Rozengracht 116-138\, Amsterdam
CATEGORIES:Live Flamenco
ATTACH;FMTTYPE=image/jpeg:https://www.flamencoagenda.nl/core/../wp-content/uploads/Jeff_Heijne-foto-Xandra_van_Rossem.jpg
END:VEVENT
BEGIN:VEVENT
DTSTART;TZID=Europe/Amsterdam:20190816T100000
DTEND;TZID=Europe/Amsterdam:20190816T100000
DTSTAMP:20260420T094721
CREATED:20190707T123851Z
LAST-MODIFIED:20190707T123851Z
UID:15543-1565949600-1565949600@www.flamencoagenda.nl
SUMMARY:Ontbijtconcert Jeff Heijne & Giuseppe Campisi
DESCRIPTION:Amsterdam\, Expocafe Zamen – Ontbijtconcert van flamencogitarist Jeff Heijne en contrabassist Giuseppe Campisi in het kader van het Grachtenfestival. \nOver dit concert\n“Het optreden Reflejos del Alma zal verzorgd worden door twee talentvolle jonge musici die elkaar hebben gevonden in de flamenco-\, klassieke- en jazz muziek. Het duo bestaat uit Jeff Heijne (flamencogitaar) en Giuseppe Campisi (contrabas). De muziek is gecomponeerd en/of gearrangeerd door Jeff in een unieke stijl\, die omschreven kan worden als gepassioneerd en emotioneel. Het uitgangspunt van zijn composities is om de klankwereld van de flamenco uit te breiden met de intimiteit en fijngevoeligheid van de klassieke muziek en de thematische manier van componeren uit de jazz. Ook is de jazz terug te horen in de gebruikte harmonieën.” \nFoto: Melle Meijvogel
URL:https://www.flamencoagenda.nl/event/ontbijtconcert-jeff-heijne-giuseppe-campisi/
LOCATION:Expocafe Zamen\, Zamenhofstraat 150\, Amsterdam\, 1022 AG
CATEGORIES:Live Flamenco
ATTACH;FMTTYPE=image/png:https://www.flamencoagenda.nl/core/../wp-content/uploads/Jeff-Heijne-Grachtenfestival-foto-Melle_Meivogel.png
END:VEVENT
BEGIN:VEVENT
DTSTART;VALUE=DATE:20190817
DTEND;VALUE=DATE:20190818
DTSTAMP:20260420T094721
CREATED:20190707T124523Z
LAST-MODIFIED:20190707T124523Z
UID:15547-1566000000-1566086399@www.flamencoagenda.nl
SUMMARY:Jeff & Conchita @ De Groene Afslag
DESCRIPTION:Laren\, De Groene Afslag – Twee kinderconcerten van Jeff Heijne (flamencogitaar) en Conchita Boon (flamencodans) in het kader van Junior Grachtenfestival in de Gooi- en Vechtstreek. Er is een optreden om 11 uur en om 13 uur. \nFoto: Ginette Lavell
URL:https://www.flamencoagenda.nl/event/jeff-conchita-de-groene-afslag/
LOCATION:De Groene Afslag\, Amersfoortsestraatweg 117\, Laren\, 1251 AV
CATEGORIES:Live Flamenco
ATTACH;FMTTYPE=image/jpeg:https://www.flamencoagenda.nl/core/../wp-content/uploads/conchita-boon-en-jeff-heijne.jpg
END:VEVENT
BEGIN:VEVENT
DTSTART;TZID=Europe/Amsterdam:20190817T160000
DTEND;TZID=Europe/Amsterdam:20190817T160000
DTSTAMP:20260420T094721
CREATED:20190707T125217Z
LAST-MODIFIED:20190707T125440Z
UID:15550-1566057600-1566057600@www.flamencoagenda.nl
SUMMARY:Jeff & Mascha @ De Groene Afslag
DESCRIPTION:Laren\, De Groene Afslag – Concert van flamencogitarist Jeff Heijne en cellist Mascha van Nieuwkerk. \nOver dit concert\n“Mascha van Nieuwkerk en Jeff Heijne spelen hun nieuwe programma: ‘Between Us’. Een programma waarbij de twee totaal verschillende muzikale achtergronden van deze twee topmusici samenkomen. Van Nieuwkerk is een klassiek geschoold cellist en Heijne een flamencogitarist. Deze twee werelden komen samen in dit wervelende concert\, waarbij eigen werk van Heijne wordt gecombineerd met grote klassieke werken van Bartok en Fauré.”
URL:https://www.flamencoagenda.nl/event/jeff-mascha-de-groene-afslag/
LOCATION:De Groene Afslag\, Amersfoortsestraatweg 117\, Laren\, 1251 AV
CATEGORIES:Live Flamenco
ATTACH;FMTTYPE=image/png:https://www.flamencoagenda.nl/core/../wp-content/uploads/Mascha-Jeff.png
END:VEVENT
BEGIN:VEVENT
DTSTART;TZID=Europe/Amsterdam:20190817T210000
DTEND;TZID=Europe/Amsterdam:20190817T210000
DTSTAMP:20260420T094721
CREATED:20190714T190448Z
LAST-MODIFIED:20190714T190448Z
UID:15728-1566075600-1566075600@www.flamencoagenda.nl
SUMMARY:Irene & Alexander @ La Pequeña Bodega
DESCRIPTION:Sint-Idesbald\, La Pequeña Bodega – Live flamenco met Irene Alvarez (zang en dans) en Alexander Gavilan (gitaar).
URL:https://www.flamencoagenda.nl/event/irene-alexander-la-pequena-bodega/
LOCATION:La Pequeña Bodega\, Zeedijk 33\, Sint-Idesbald\, 8670
CATEGORIES:Live Flamenco
ATTACH;FMTTYPE=image/jpeg:https://www.flamencoagenda.nl/core/../wp-content/uploads/Irene-Alvarez-1.jpg
END:VEVENT
BEGIN:VEVENT
DTSTART;VALUE=DATE:20190823
DTEND;VALUE=DATE:20190824
DTSTAMP:20260420T094721
CREATED:20190525T195737Z
LAST-MODIFIED:20190525T195737Z
UID:15381-1566518400-1566604799@www.flamencoagenda.nl
SUMMARY:Alicia Marquez (flamencodans)
DESCRIPTION:Amsterdam\, Q Factory – Driedaagse workshop van de uit Spanje afkomstige flamencodanseres Alicia Marquez in de flamencostijlen Tangos (basico)\, Caña (gevorderd) en Bata de Cola – Cantiñas (ervaring vereist). Er is les op 23\, 24 en 25 augustus. \nEvenement onder voorbehoud van wijzigingen door organisator (terremoto.nl) \nFoto: Ana Palma
URL:https://www.flamencoagenda.nl/event/alicia-marquez-flamencodans/
LOCATION:Q Factory\, Atlantisplein 1\, Amsterdam\, 1093 NE
CATEGORIES:Workshops
ATTACH;FMTTYPE=image/jpeg:https://www.flamencoagenda.nl/core/../wp-content/uploads/Alicia-Marquez-flamenco-foto-Ana-Palma.jpg
ORGANIZER;CN="Terremoto":MAILTO:info@terremoto.nl
END:VEVENT
BEGIN:VEVENT
DTSTART;VALUE=DATE:20190823
DTEND;VALUE=DATE:20190824
DTSTAMP:20260420T094721
CREATED:20190525T200644Z
LAST-MODIFIED:20190525T200644Z
UID:15383-1566518400-1566604799@www.flamencoagenda.nl
SUMMARY:Ramon Martinez (flamencodans)
DESCRIPTION:Amsterdam\, Studio 95 – Driedaagse workshop van de uit Spanje afkomstige flamencodanser Ramon Martinez in de flamencostijlen Tangos (basico) en Bulerias (intermedio bajo). Er is les op 23\, 24 en 25 augustus. \nEvenement onder voorbehoud van wijzigingen door organisator (terremoto.nl)
URL:https://www.flamencoagenda.nl/event/ramon-martinez-flamencodans/
LOCATION:Studio 95\, Tussen de Bogen 95\, Amsterdam\, 1013 JB
CATEGORIES:Workshops
ATTACH;FMTTYPE=image/jpeg:https://www.flamencoagenda.nl/core/../wp-content/uploads/RAMON-MARTINEZ.jpg
ORGANIZER;CN="Terremoto":MAILTO:info@terremoto.nl
END:VEVENT
BEGIN:VEVENT
DTSTART;TZID=Europe/Amsterdam:20190825T120000
DTEND;TZID=Europe/Amsterdam:20190825T120000
DTSTAMP:20260420T094721
CREATED:20190709T212337Z
LAST-MODIFIED:20190709T212337Z
UID:15709-1566734400-1566734400@www.flamencoagenda.nl
SUMMARY:Jeff Heijne & Mascha van Nieuwkerk @ UITmarkt
DESCRIPTION:Amsterdam\, Museumplein Hoofdpodium – Concert van flamencogitarist Jeff Heijne en cellist Mascha van Nieuwkerk op de Amsterdamse UITmarkt.
URL:https://www.flamencoagenda.nl/event/jeff-heijne-mascha-van-nieuwkerk-uitmarkt/
LOCATION:Museumplein\, Museumplein\, Amsterdam
CATEGORIES:Live Flamenco
ATTACH;FMTTYPE=image/png:https://www.flamencoagenda.nl/core/../wp-content/uploads/Mascha-Jeff.png
END:VEVENT
BEGIN:VEVENT
DTSTART;VALUE=DATE:20190826
DTEND;VALUE=DATE:20190827
DTSTAMP:20260420T094721
CREATED:20190626T220137Z
LAST-MODIFIED:20190626T221413Z
UID:15446-1566777600-1566863999@www.flamencoagenda.nl
SUMMARY:Alegrias Zaidjah la Zambra
DESCRIPTION:Gent\, Danshuis De Ingang – Workshop Alegrias dans door Saidjah La Zambra. “De „Alegria“ is de meest bekende zangstijl uit de familie van de Cantiñas. Het karakter van de muziek is erg optimistisch en vrolijk.” \nEr is les op maandag 26\, dinsdag 27 en woensdag 28 augustus van 20.30 – 22.00 uur. Niveau: basis.
URL:https://www.flamencoagenda.nl/event/alegrias-zaidjah-la-zambra/
LOCATION:Danshuis De Ingang\, Hurstweg 8\, Gent\, 9000\, België
CATEGORIES:Workshops
ATTACH;FMTTYPE=image/jpeg:https://www.flamencoagenda.nl/core/../wp-content/uploads/saidjah-galo-1.jpg
ORGANIZER;CN="Danshuis De Ingang":MAILTO:info@de-ingang.be
END:VEVENT
END:VCALENDAR