BEGIN:VCALENDAR
VERSION:2.0
PRODID:-//flamencoagenda.nl - ECPv6.15.20//NONSGML v1.0//EN
CALSCALE:GREGORIAN
METHOD:PUBLISH
X-WR-CALNAME:flamencoagenda.nl
X-ORIGINAL-URL:https://www.flamencoagenda.nl
X-WR-CALDESC:Evenementen voor flamencoagenda.nl
REFRESH-INTERVAL;VALUE=DURATION:PT1H
X-Robots-Tag:noindex
X-PUBLISHED-TTL:PT1H
BEGIN:VTIMEZONE
TZID:Europe/Amsterdam
BEGIN:DAYLIGHT
TZOFFSETFROM:+0100
TZOFFSETTO:+0200
TZNAME:CEST
DTSTART:20180325T010000
END:DAYLIGHT
BEGIN:STANDARD
TZOFFSETFROM:+0200
TZOFFSETTO:+0100
TZNAME:CET
DTSTART:20181028T010000
END:STANDARD
BEGIN:DAYLIGHT
TZOFFSETFROM:+0100
TZOFFSETTO:+0200
TZNAME:CEST
DTSTART:20190331T010000
END:DAYLIGHT
BEGIN:STANDARD
TZOFFSETFROM:+0200
TZOFFSETTO:+0100
TZNAME:CET
DTSTART:20191027T010000
END:STANDARD
BEGIN:DAYLIGHT
TZOFFSETFROM:+0100
TZOFFSETTO:+0200
TZNAME:CEST
DTSTART:20200329T010000
END:DAYLIGHT
BEGIN:STANDARD
TZOFFSETFROM:+0200
TZOFFSETTO:+0100
TZNAME:CET
DTSTART:20201025T010000
END:STANDARD
END:VTIMEZONE
BEGIN:VEVENT
DTSTART;VALUE=DATE:20190330
DTEND;VALUE=DATE:20190401
DTSTAMP:20260419T184532
CREATED:20190221T115209Z
LAST-MODIFIED:20190221T120801Z
UID:14777-1553904000-1554076799@www.flamencoagenda.nl
SUMMARY:Flamencoweekend Silvia Leon
DESCRIPTION:Maaseik (Oppoeteren)\, Danshuis Volmolen – Flamencoweekend rondom de flamencodanseres Silvia León. Er is een live flamenco-optreden en er zijn dans- en ritmeworkshops. \nOptreden\nZaterdag 30 maart 21.00 uur\nLive flamenco met Silvia León (dans)\, Ann Heynen (nyckelharpa)\, Michel Gillain (gitaar) en Antonio Paz (zang). \nWorkshops van Silvia León\nZaterdag 30 maart 15.00-17.00 uur: ritmestructuren en castagnetten (castagnetten beschikbaar)\nZondag 31 maart\, 15.00-17.00 uur: algemene danstechniek \nToonmoment voor publiek: zondag 31 maart\, rond 17.00 uur
URL:https://www.flamencoagenda.nl/event/flamencoweekend-silvia-leon/
LOCATION:Danshuis Volmolen\, Volmolenstraat 11\, Maaseik (Opoeteren)
CATEGORIES:Live Flamenco,Workshops
ATTACH;FMTTYPE=image/jpeg:https://www.flamencoagenda.nl/core/../wp-content/uploads/Silvia-Leon-1.jpg
ORGANIZER;CN="Lene Vanderstegen":MAILTO:lenevandersteegen@telenet.be
END:VEVENT
BEGIN:VEVENT
DTSTART;TZID=Europe/Amsterdam:20190331T150000
DTEND;TZID=Europe/Amsterdam:20190331T150000
DTSTAMP:20260419T184532
CREATED:20190109T223400Z
LAST-MODIFIED:20190109T223400Z
UID:14443-1554044400-1554044400@www.flamencoagenda.nl
SUMMARY:Fiesta Flamenca Dansrecital
DESCRIPTION:Antwerpen\, Zuiderpershuis – Flamencovoorstelling van Peña Al Andalus. \nOver deze voorstelling\n“Geniet van een wervelende voorstelling waar zowel de pure authentieke Flamenco\, Klassiek Spaans\, Moderne Flamenco Fusión en ook het gebruik van Flamenco attributen rijkelijk aan bod komen. Een prachtige muzikale reis doorheen Andalucia!”
URL:https://www.flamencoagenda.nl/event/fiesta-flamenca-dansrecital-4/
LOCATION:Zuiderpershuis\, Waalse Kaai\, Antwerpen\, 2000\, België
CATEGORIES:Live Flamenco
ATTACH;FMTTYPE=image/jpeg:https://www.flamencoagenda.nl/core/../wp-content/uploads/Fiesta-Flamenca-Al-Andalus.jpg
END:VEVENT
BEGIN:VEVENT
DTSTART;TZID=Europe/Amsterdam:20190331T150000
DTEND;TZID=Europe/Amsterdam:20190331T150000
DTSTAMP:20260419T184532
CREATED:20190307T225419Z
LAST-MODIFIED:20190311T161552Z
UID:14824-1554044400-1554044400@www.flamencoagenda.nl
SUMMARY:Flor-de-Lis
DESCRIPTION:Lochem\, Janstheater – Live flamenco van Bart Guichelaar-Villerius (flamencogitaar) en Natasja La Valletta (zang).
URL:https://www.flamencoagenda.nl/event/flor-de-lis-3/
LOCATION:Jansstheater\, Emmastraat 38-40\, Lochem\, 7241 EK
CATEGORIES:Live Flamenco
ATTACH;FMTTYPE=image/png:https://www.flamencoagenda.nl/core/../wp-content/uploads/Flor-de-Lis.png
END:VEVENT
BEGIN:VEVENT
DTSTART;TZID=Europe/Amsterdam:20190331T190000
DTEND;TZID=Europe/Amsterdam:20190331T190000
DTSTAMP:20260419T184532
CREATED:20190311T221550Z
LAST-MODIFIED:20190311T221550Z
UID:14860-1554058800-1554058800@www.flamencoagenda.nl
SUMMARY:Pablo & Vicente @ Duende
DESCRIPTION:Amsterdam\, Cafe Duende – Live flamenco met Pablo Martinez (zang en trombone) en Vicente Santiago (gitaar). Tickets aan de bar.
URL:https://www.flamencoagenda.nl/event/pablo-vicente-duende/
LOCATION:Cafe Duende\, Lindengracht 62\, AMSTERDAM\, 1015KJ
CATEGORIES:Live Flamenco
ATTACH;FMTTYPE=image/png:https://www.flamencoagenda.nl/core/../wp-content/uploads/vicente-stantiago-pablo.png
END:VEVENT
END:VCALENDAR