BEGIN:VCALENDAR
VERSION:2.0
PRODID:-//flamencoagenda.nl - ECPv6.15.20//NONSGML v1.0//EN
CALSCALE:GREGORIAN
METHOD:PUBLISH
X-WR-CALNAME:flamencoagenda.nl
X-ORIGINAL-URL:https://www.flamencoagenda.nl
X-WR-CALDESC:Evenementen voor flamencoagenda.nl
REFRESH-INTERVAL;VALUE=DURATION:PT1H
X-Robots-Tag:noindex
X-PUBLISHED-TTL:PT1H
BEGIN:VTIMEZONE
TZID:Europe/Amsterdam
BEGIN:DAYLIGHT
TZOFFSETFROM:+0100
TZOFFSETTO:+0200
TZNAME:CEST
DTSTART:20180325T010000
END:DAYLIGHT
BEGIN:STANDARD
TZOFFSETFROM:+0200
TZOFFSETTO:+0100
TZNAME:CET
DTSTART:20181028T010000
END:STANDARD
BEGIN:DAYLIGHT
TZOFFSETFROM:+0100
TZOFFSETTO:+0200
TZNAME:CEST
DTSTART:20190331T010000
END:DAYLIGHT
BEGIN:STANDARD
TZOFFSETFROM:+0200
TZOFFSETTO:+0100
TZNAME:CET
DTSTART:20191027T010000
END:STANDARD
BEGIN:DAYLIGHT
TZOFFSETFROM:+0100
TZOFFSETTO:+0200
TZNAME:CEST
DTSTART:20200329T010000
END:DAYLIGHT
BEGIN:STANDARD
TZOFFSETFROM:+0200
TZOFFSETTO:+0100
TZNAME:CET
DTSTART:20201025T010000
END:STANDARD
END:VTIMEZONE
BEGIN:VEVENT
DTSTART;VALUE=DATE:20190330
DTEND;VALUE=DATE:20190331
DTSTAMP:20260419T184435
CREATED:20190226T164704Z
LAST-MODIFIED:20190226T164704Z
UID:14801-1553904000-1553990399@www.flamencoagenda.nl
SUMMARY:Maria la Serrana (Seguiriyas & techniek)
DESCRIPTION:Den Haag\, Het Koorenhuis – Eendaagse workshop flamencodans van de in Sevilla gevestigde Nederlandse flamencodanseres Maria la Serrana. \nTechniek (v.a. 2 jaar les) 15.00-16.15 uur\nSeguriyas (v.a. 4 jaar les) 16.30-18.00 uur\nEr is les op zaterdag 30 maart \nOver de lessen\nTechniek: “In de technieklessen wordt er a palo seco gewerkt\, dus zonder gitaar\nen zang we gaan ons bezig houden met voetenwerk. Hierbij gaat het niet om het gevoel\, maar\njuist om de aanpak\, die je nodig hebt om zonder na te hoeven denken een choreografie te\nkunnen dansen. We behandelen natuurlijk eerst alle basispassen omdat ik geloof dat traag en\nstevig kunnen dansen altijd belangrijk blijft. Danseressen die pas kort dansen (vanaf twee jaar\nervaring) kunnen hieraan dus ook al meedoen\, en krijgen het fundament onder hun techniek\naangereikt. Voor danseressen die langer dansen is de les ook geschikt. Opnieuw werken aan basis\npassen blijft natuurlijk altijd belangrijk. \nSeguiriyas: “In de Seguiriyas les gaan we een mooi en intens stukje letra aanleren\, met een eenvoudige subida ervoor en een vinnige remate in het midden van de letra. We kijken naar opbouw\, en leren waarom een bepaalde marcaje waar moet. We beginnen een half uurtje alleen en daarna komen zang en gitaar erbij om ons te laten inspireren. Het is wel belangrijk dat je al eens Seguiriya hebt gedaan\, vanwege het compás.”
URL:https://www.flamencoagenda.nl/event/maria-la-serrana-seguiriyas-techniek/
LOCATION:Koorenhuis\, Prinsegracht 27\, Den Haag\, 2512 EW
CATEGORIES:Workshops
ATTACH;FMTTYPE=image/jpeg:https://www.flamencoagenda.nl/core/../wp-content/uploads/Maria-la-Serrana-3.jpg
ORGANIZER;CN="Maria la Serrana":MAILTO:marialaserrana75@gmail.com
END:VEVENT
BEGIN:VEVENT
DTSTART;VALUE=DATE:20190330
DTEND;VALUE=DATE:20190401
DTSTAMP:20260419T184435
CREATED:20190221T115209Z
LAST-MODIFIED:20190221T120801Z
UID:14777-1553904000-1554076799@www.flamencoagenda.nl
SUMMARY:Flamencoweekend Silvia Leon
DESCRIPTION:Maaseik (Oppoeteren)\, Danshuis Volmolen – Flamencoweekend rondom de flamencodanseres Silvia León. Er is een live flamenco-optreden en er zijn dans- en ritmeworkshops. \nOptreden\nZaterdag 30 maart 21.00 uur\nLive flamenco met Silvia León (dans)\, Ann Heynen (nyckelharpa)\, Michel Gillain (gitaar) en Antonio Paz (zang). \nWorkshops van Silvia León\nZaterdag 30 maart 15.00-17.00 uur: ritmestructuren en castagnetten (castagnetten beschikbaar)\nZondag 31 maart\, 15.00-17.00 uur: algemene danstechniek \nToonmoment voor publiek: zondag 31 maart\, rond 17.00 uur
URL:https://www.flamencoagenda.nl/event/flamencoweekend-silvia-leon/
LOCATION:Danshuis Volmolen\, Volmolenstraat 11\, Maaseik (Opoeteren)
CATEGORIES:Live Flamenco,Workshops
ATTACH;FMTTYPE=image/jpeg:https://www.flamencoagenda.nl/core/../wp-content/uploads/Silvia-Leon-1.jpg
ORGANIZER;CN="Lene Vanderstegen":MAILTO:lenevandersteegen@telenet.be
END:VEVENT
BEGIN:VEVENT
DTSTART;TZID=Europe/Amsterdam:20190330T150000
DTEND;TZID=Europe/Amsterdam:20190330T150000
DTSTAMP:20260419T184435
CREATED:20190323T214253Z
LAST-MODIFIED:20190323T214253Z
UID:15002-1553958000-1553958000@www.flamencoagenda.nl
SUMMARY:Ontmoeting Flamenco
DESCRIPTION:Utrecht\, Podium Oost – Live flamenco met Celia Barradas (dans en zang)\, Jan Gemke (gitaar)\, Judy Koot (cajon)\, Abel Gomez (zang) en Martin van Mourik (gitaar). Er is ook open podium en een wijnproeverij.
URL:https://www.flamencoagenda.nl/event/ontmoeting-flamenco-3/
LOCATION:Podium Oost\, Oudewijkerdwarsstraat 148\, Utrecht\, 3581 LJ 
CATEGORIES:Live Flamenco
ATTACH;FMTTYPE=image/png:https://www.flamencoagenda.nl/core/../wp-content/uploads/Ontmoeting-Flamenco.png
ORGANIZER;CN="Fieke Ververgaert-Doesborgh":MAILTO: fieke.piet@gmail.com
END:VEVENT
BEGIN:VEVENT
DTSTART;TZID=Europe/Amsterdam:20190330T200000
DTEND;TZID=Europe/Amsterdam:20190330T200000
DTSTAMP:20260419T184435
CREATED:20190107T230214Z
LAST-MODIFIED:20190107T230214Z
UID:14401-1553976000-1553976000@www.flamencoagenda.nl
SUMMARY:Tania Kross ‘Carmen revisited’
DESCRIPTION:Utrecht\, Stadsschouwburg – ‘Kross-over’ van flamencomuziek en opera. Met o.a.: Tania Kross als Carmen en flamencozanger Carlos Denia in de rol van Escamilla. Deze tour is een reprise van de zeer succesvolle eerdere tour. Andere artiesten zijn onder meer (onder voorbehoud\, de line-up kan per locatie verschillen\, check de theaterwebsite): Francis van Broekhuizen (Micaëla) en Charles Hens (Don José). Muzikale leiding en arrangementen: Thijs Borsten. \nDeze voorstelling is onderdeel van een uitgebreide tour. Bekijk de Live Flamenco agenda voor alle nog komende data.
URL:https://www.flamencoagenda.nl/event/tania-kross-carmen-revisited-63/
LOCATION:Stadsschouwburg Utrecht\,  Lucasbolwerk 24\, Utrecht\, 3512 EJ 
CATEGORIES:Live Flamenco
ATTACH;FMTTYPE=image/png:https://www.flamencoagenda.nl/core/../wp-content/uploads/Tania-Kross-Carmen-2.png
END:VEVENT
BEGIN:VEVENT
DTSTART;TZID=Europe/Amsterdam:20190330T203000
DTEND;TZID=Europe/Amsterdam:20190330T203000
DTSTAMP:20260419T184435
CREATED:20190109T223135Z
LAST-MODIFIED:20190109T223221Z
UID:14440-1553977800-1553977800@www.flamencoagenda.nl
SUMMARY:Fiesta Flamenca Dansrecital
DESCRIPTION:Antwerpen\, Zuiderpershuis – Flamencovoorstelling van Peña Al Andalus. \nOver deze voorstelling\n“Geniet van een wervelende voorstelling waar zowel de pure authentieke Flamenco\, Klassiek Spaans\, Moderne Flamenco Fusión en ook het gebruik van Flamenco attributen rijkelijk aan bod komen. Een prachtige muzikale reis doorheen Andalucia!”
URL:https://www.flamencoagenda.nl/event/fiesta-flamenca-dansrecital-3/
LOCATION:Zuiderpershuis\, Waalse Kaai\, Antwerpen\, 2000\, België
CATEGORIES:Live Flamenco
ATTACH;FMTTYPE=image/jpeg:https://www.flamencoagenda.nl/core/../wp-content/uploads/fiesta-flamenca-pena-al-andalus.jpg
END:VEVENT
BEGIN:VEVENT
DTSTART;TZID=Europe/Amsterdam:20190330T210000
DTEND;TZID=Europe/Amsterdam:20190330T210000
DTSTAMP:20260419T184435
CREATED:20190221T110526Z
LAST-MODIFIED:20190221T110526Z
UID:14768-1553979600-1553979600@www.flamencoagenda.nl
SUMMARY:Noelia Sabarea & Pastora
DESCRIPTION:Amsterdam\, Teatro Munganga – Live flamenco met Noelia Sabarea en Pastora Flamenco (dans)\, Antonio Carrasco (zang) en El Armenio (gitaar).
URL:https://www.flamencoagenda.nl/event/noelia-sabarea-pastora/
LOCATION:Teatro Munganga\, Schinkelhavenstraat 27 hs\, Amsterdam\, 1075 VP
CATEGORIES:Live Flamenco
ATTACH;FMTTYPE=image/jpeg:https://www.flamencoagenda.nl/core/../wp-content/uploads/noelia-sabarea-pastora.jpg
END:VEVENT
END:VCALENDAR