BEGIN:VCALENDAR
VERSION:2.0
PRODID:-//flamencoagenda.nl - ECPv6.15.20//NONSGML v1.0//EN
CALSCALE:GREGORIAN
METHOD:PUBLISH
X-WR-CALNAME:flamencoagenda.nl
X-ORIGINAL-URL:https://www.flamencoagenda.nl
X-WR-CALDESC:Evenementen voor flamencoagenda.nl
REFRESH-INTERVAL;VALUE=DURATION:PT1H
X-Robots-Tag:noindex
X-PUBLISHED-TTL:PT1H
BEGIN:VTIMEZONE
TZID:Europe/Amsterdam
BEGIN:DAYLIGHT
TZOFFSETFROM:+0100
TZOFFSETTO:+0200
TZNAME:CEST
DTSTART:20180325T010000
END:DAYLIGHT
BEGIN:STANDARD
TZOFFSETFROM:+0200
TZOFFSETTO:+0100
TZNAME:CET
DTSTART:20181028T010000
END:STANDARD
BEGIN:DAYLIGHT
TZOFFSETFROM:+0100
TZOFFSETTO:+0200
TZNAME:CEST
DTSTART:20190331T010000
END:DAYLIGHT
BEGIN:STANDARD
TZOFFSETFROM:+0200
TZOFFSETTO:+0100
TZNAME:CET
DTSTART:20191027T010000
END:STANDARD
BEGIN:DAYLIGHT
TZOFFSETFROM:+0100
TZOFFSETTO:+0200
TZNAME:CEST
DTSTART:20200329T010000
END:DAYLIGHT
BEGIN:STANDARD
TZOFFSETFROM:+0200
TZOFFSETTO:+0100
TZNAME:CET
DTSTART:20201025T010000
END:STANDARD
END:VTIMEZONE
BEGIN:VEVENT
DTSTART;VALUE=DATE:20190329
DTEND;VALUE=DATE:20190330
DTSTAMP:20260419T170110
CREATED:20180930T140100Z
LAST-MODIFIED:20190318T165710Z
UID:13701-1553817600-1553903999@www.flamencoagenda.nl
SUMMARY:Maria Terremoto (GEANNULEERD)
DESCRIPTION:Dit evenement is geannuleerd door de organisator (Flama Festival)
URL:https://www.flamencoagenda.nl/event/maria-terremoto-flama-festival/
CATEGORIES:Live Flamenco
ORGANIZER;CN="Flama Festival":MAILTO:flamencosxxi@gmail.com
END:VEVENT
BEGIN:VEVENT
DTSTART;VALUE=DATE:20190329
DTEND;VALUE=DATE:20190330
DTSTAMP:20260419T170110
CREATED:20190213T223857Z
LAST-MODIFIED:20190213T223857Z
UID:14677-1553817600-1553903999@www.flamencoagenda.nl
SUMMARY:Noelia Sabarea (dans)
DESCRIPTION:Amsterdam\, Studio 95 – Driedaagse workshop van de uit Spanje afkomstige danseres Noelia Sabarea. Er is les op vrijdagavond 29\, zaterdagmiddag 30 en zondagmiddag 31 maart. Gitaarbegeleiding door Haik Ahekian\, ‘el Armenio’  \nMiddenniveau (>3\,5 jr.): Colombiana\nGevorderd niveau (>5\,5 jr.): Romance \nVroegboekkorting bij reservering en betaling voor 1 maart. \nEvenement onder voorbehoud van wijzigingen door organisator (terremoto.nl)
URL:https://www.flamencoagenda.nl/event/noelia-sabarea-dans-5/
CATEGORIES:Workshops
ATTACH;FMTTYPE=image/jpeg:https://www.flamencoagenda.nl/core/../wp-content/uploads/Noelia-Sabarea-2.jpg
ORGANIZER;CN="Terremoto":MAILTO:info@terremoto.nl
END:VEVENT
BEGIN:VEVENT
DTSTART;TZID=Europe/Amsterdam:20190329T200000
DTEND;TZID=Europe/Amsterdam:20190329T200000
DTSTAMP:20260419T170110
CREATED:20190107T230054Z
LAST-MODIFIED:20190107T230054Z
UID:14399-1553889600-1553889600@www.flamencoagenda.nl
SUMMARY:Tania Kross ‘Carmen revisited’
DESCRIPTION:Roermond\, Theater De Oranjerie – ‘Kross-over’ van flamencomuziek en opera. Met o.a.: Tania Kross als Carmen en flamencozanger Carlos Denia in de rol van Escamilla. Deze tour is een reprise van de zeer succesvolle eerdere tour. Andere artiesten zijn onder meer (onder voorbehoud\, de line-up kan per locatie verschillen\, check de theaterwebsite): Francis van Broekhuizen (Micaëla) en Charles Hens (Don José). Muzikale leiding en arrangementen: Thijs Borsten. \nDeze voorstelling is onderdeel van een uitgebreide tour. Bekijk de Live Flamenco agenda voor alle nog komende data.
URL:https://www.flamencoagenda.nl/event/tania-kross-carmen-revisited-62/
LOCATION:Oranjerie Theaterhotel\, Kloosterwandstraat 12-16\, Roermond\, 6041 JA
CATEGORIES:Live Flamenco
ATTACH;FMTTYPE=image/png:https://www.flamencoagenda.nl/core/../wp-content/uploads/Tania-Kross-Carmen-2.png
END:VEVENT
END:VCALENDAR