BEGIN:VCALENDAR
VERSION:2.0
PRODID:-//flamencoagenda.nl - ECPv6.15.20//NONSGML v1.0//EN
CALSCALE:GREGORIAN
METHOD:PUBLISH
X-WR-CALNAME:flamencoagenda.nl
X-ORIGINAL-URL:https://www.flamencoagenda.nl
X-WR-CALDESC:Evenementen voor flamencoagenda.nl
REFRESH-INTERVAL;VALUE=DURATION:PT1H
X-Robots-Tag:noindex
X-PUBLISHED-TTL:PT1H
BEGIN:VTIMEZONE
TZID:Europe/Amsterdam
BEGIN:DAYLIGHT
TZOFFSETFROM:+0100
TZOFFSETTO:+0200
TZNAME:CEST
DTSTART:20180325T010000
END:DAYLIGHT
BEGIN:STANDARD
TZOFFSETFROM:+0200
TZOFFSETTO:+0100
TZNAME:CET
DTSTART:20181028T010000
END:STANDARD
BEGIN:DAYLIGHT
TZOFFSETFROM:+0100
TZOFFSETTO:+0200
TZNAME:CEST
DTSTART:20190331T010000
END:DAYLIGHT
BEGIN:STANDARD
TZOFFSETFROM:+0200
TZOFFSETTO:+0100
TZNAME:CET
DTSTART:20191027T010000
END:STANDARD
BEGIN:DAYLIGHT
TZOFFSETFROM:+0100
TZOFFSETTO:+0200
TZNAME:CEST
DTSTART:20200329T010000
END:DAYLIGHT
BEGIN:STANDARD
TZOFFSETFROM:+0200
TZOFFSETTO:+0100
TZNAME:CET
DTSTART:20201025T010000
END:STANDARD
END:VTIMEZONE
BEGIN:VEVENT
DTSTART;VALUE=DATE:20190324
DTEND;VALUE=DATE:20190325
DTSTAMP:20260419T184533
CREATED:20190307T231845Z
LAST-MODIFIED:20190310T173709Z
UID:14829-1553385600-1553471999@www.flamencoagenda.nl
SUMMARY:Gitaar & zang (flamencoreis)
DESCRIPTION:Árchez\, Malaga – Korte cursus flamencogitaar en/of flamencozang in de Flamenco School Árchez in de gelijknamige plaats in de provincie Malaga.  De lessen worden gegeven door de NederlandseBart Guichelaar-Villerius en Natasja La Valletta. De cursus duurt van 24 t/m 26 maart.
URL:https://www.flamencoagenda.nl/event/gitaar-zang-flamencoreis/
LOCATION:Flamencoschool Archez\, Calle Plaza Alminar 6\, Archez\, Malaga\, Spain
CATEGORIES:Workshops
ATTACH;FMTTYPE=image/jpeg:https://www.flamencoagenda.nl/core/../wp-content/uploads/flor-de-lis-1.jpg
END:VEVENT
BEGIN:VEVENT
DTSTART;TZID=Europe/Amsterdam:20190324T140000
DTEND;TZID=Europe/Amsterdam:20190324T140000
DTSTAMP:20260419T184533
CREATED:20190307T224029Z
LAST-MODIFIED:20190307T224029Z
UID:14822-1553436000-1553436000@www.flamencoagenda.nl
SUMMARY:Noelia Sabarea & Pastora
DESCRIPTION:Deventer\, Schouwburg Deventer – Live flamenco met Noelia Sabarea en Pastora Flamenco (dans)\, Antonio Carrasco (zang) en El Armenio (gitaar).
URL:https://www.flamencoagenda.nl/event/noelia-sabarea-pastora-2/
LOCATION:Deventer Schouwburg\, Leeuwenbrug 2\, Deventer\, 7411 TJ 
CATEGORIES:Live Flamenco
ATTACH;FMTTYPE=image/jpeg:https://www.flamencoagenda.nl/core/../wp-content/uploads/noelia-sabarea-pastora.jpg
END:VEVENT
BEGIN:VEVENT
DTSTART;TZID=Europe/Amsterdam:20190324T150000
DTEND;TZID=Europe/Amsterdam:20190324T150000
DTSTAMP:20260419T184533
CREATED:20190103T150052Z
LAST-MODIFIED:20190103T150052Z
UID:14265-1553439600-1553439600@www.flamencoagenda.nl
SUMMARY:Eric Vaarzon Morel ‘Ode aan de Spaanse gitaar’
DESCRIPTION:Schiedam\, Wennekerpand – Voorstelling van de flamencogitarist Eric Vaarzon Morel.  \nOver deze voorstelling\n“Vijf gitaren. Daarop speelt hij. In één programma. Dat is de uitdaging voor Eric Vaarzon Morel. Vijf gitaren. Stuk voor stuk instrumenten met een verhaal. De Picasso-gitaar bouwde hij op tv\, in De Nieuwe Stradivarius. De befaamde Gerundino\, zijn oude Stradivarius en eerste liefde\, ooit bespeeld door Paco Peña. Eric vertelt anekdotes en vertroetelt de snaren. Hij brengt een oorstrelende Ode aan de Spaanse gitaar. ‘De gitaar laat de dromen huilen’\, dichtte Lorca.”
URL:https://www.flamencoagenda.nl/event/eric-vaarzon-morel-ode-aan-de-spaanse-gitaar-6/
LOCATION:Wennekerpand\, Vijgensteeg 2\, Schiedam\, Zuid-Holland\, 3111 PT\, Nederland
CATEGORIES:Live Flamenco
ATTACH;FMTTYPE=image/jpeg:https://www.flamencoagenda.nl/core/../wp-content/uploads/Ode-aan-de-Spaanse-gitaar-copy.jpg
END:VEVENT
BEGIN:VEVENT
DTSTART;TZID=Europe/Amsterdam:20190324T150000
DTEND;TZID=Europe/Amsterdam:20190324T150000
DTSTAMP:20260419T184533
CREATED:20190107T225251Z
LAST-MODIFIED:20190107T225251Z
UID:14391-1553439600-1553439600@www.flamencoagenda.nl
SUMMARY:Tania Kross ‘Carmen revisited’
DESCRIPTION:Amsterdam\, DeLaMar Theater – ‘Kross-over’ van flamencomuziek en opera. Met o.a.: Tania Kross als Carmen en flamencozanger Carlos Denia in de rol van Escamilla. Deze tour is een reprise van de zeer succesvolle eerdere tour. Andere artiesten zijn onder meer (onder voorbehoud\, de line-up kan per locatie verschillen\, check de theaterwebsite): Francis van Broekhuizen (Micaëla) en Charles Hens (Don José). Muzikale leiding en arrangementen: Thijs Borsten. \nDeze voorstelling is onderdeel van een uitgebreide tour. Bekijk de Live Flamenco agenda voor alle nog komende data.
URL:https://www.flamencoagenda.nl/event/tania-kross-carmen-revisited-59/
LOCATION:Delamar Theater\, Marnixstraat 402\, Amsterdam\,  1017 PL 
CATEGORIES:Live Flamenco
ATTACH;FMTTYPE=image/png:https://www.flamencoagenda.nl/core/../wp-content/uploads/Tania-Kross-Carmen-2.png
END:VEVENT
BEGIN:VEVENT
DTSTART;TZID=Europe/Amsterdam:20190324T150000
DTEND;TZID=Europe/Amsterdam:20190324T170000
DTSTAMP:20260419T184533
CREATED:20190305T173655Z
LAST-MODIFIED:20190305T173950Z
UID:14814-1553439600-1553446800@www.flamencoagenda.nl
SUMMARY:Labryenco & Falu & Conchita
DESCRIPTION:Utrecht\, ZIMIHC Theater Wittevrouwen – Live flamenco met de formatie Labryenco met als speciale gasten Falu de Cadiz (zang) en Conchita Boon (dans).
URL:https://www.flamencoagenda.nl/event/labryenco-falu-conchita/
LOCATION:ZIMHIC Theater Wittevrouwen\, Bouwstraat 55\, Utrecht\, 3572 SP
CATEGORIES:Live Flamenco
ATTACH;FMTTYPE=image/jpeg:https://www.flamencoagenda.nl/core/../wp-content/uploads/labryenco-conchita.jpg
END:VEVENT
END:VCALENDAR