BEGIN:VCALENDAR
VERSION:2.0
PRODID:-//flamencoagenda.nl - ECPv6.15.20//NONSGML v1.0//EN
CALSCALE:GREGORIAN
METHOD:PUBLISH
X-WR-CALNAME:flamencoagenda.nl
X-ORIGINAL-URL:https://www.flamencoagenda.nl
X-WR-CALDESC:Evenementen voor flamencoagenda.nl
REFRESH-INTERVAL;VALUE=DURATION:PT1H
X-Robots-Tag:noindex
X-PUBLISHED-TTL:PT1H
BEGIN:VTIMEZONE
TZID:Europe/Amsterdam
BEGIN:DAYLIGHT
TZOFFSETFROM:+0100
TZOFFSETTO:+0200
TZNAME:CEST
DTSTART:20180325T010000
END:DAYLIGHT
BEGIN:STANDARD
TZOFFSETFROM:+0200
TZOFFSETTO:+0100
TZNAME:CET
DTSTART:20181028T010000
END:STANDARD
BEGIN:DAYLIGHT
TZOFFSETFROM:+0100
TZOFFSETTO:+0200
TZNAME:CEST
DTSTART:20190331T010000
END:DAYLIGHT
BEGIN:STANDARD
TZOFFSETFROM:+0200
TZOFFSETTO:+0100
TZNAME:CET
DTSTART:20191027T010000
END:STANDARD
BEGIN:DAYLIGHT
TZOFFSETFROM:+0100
TZOFFSETTO:+0200
TZNAME:CEST
DTSTART:20200329T010000
END:DAYLIGHT
BEGIN:STANDARD
TZOFFSETFROM:+0200
TZOFFSETTO:+0100
TZNAME:CET
DTSTART:20201025T010000
END:STANDARD
END:VTIMEZONE
BEGIN:VEVENT
DTSTART;TZID=Europe/Amsterdam:20190322T201500
DTEND;TZID=Europe/Amsterdam:20190322T201500
DTSTAMP:20260419T184529
CREATED:20190107T225035Z
LAST-MODIFIED:20190107T225035Z
UID:14386-1553285700-1553285700@www.flamencoagenda.nl
SUMMARY:Tania Kross ‘Carmen revisited’
DESCRIPTION:Vlaardingen\, Stadsgehoorzaal – ‘Kross-over’ van flamencomuziek en opera. Met o.a.: Tania Kross als Carmen en flamencozanger Carlos Denia in de rol van Escamilla. Deze tour is een reprise van de zeer succesvolle eerdere tour. Andere artiesten zijn onder meer (onder voorbehoud\, de line-up kan per locatie verschillen\, check de theaterwebsite): Francis van Broekhuizen (Micaëla) en Charles Hens (Don José). Muzikale leiding en arrangementen: Thijs Borsten. \nDeze voorstelling is onderdeel van een uitgebreide tour. Bekijk de Live Flamenco agenda voor alle nog komende data.
URL:https://www.flamencoagenda.nl/event/tania-kross-carmen-revisited-57/
LOCATION:Stadsgehoorzaal Vlaardingen\, Schiedamseweg 51\, Vlaardingen\, Vlaardingen\, 3134 BB
CATEGORIES:Live Flamenco
ATTACH;FMTTYPE=image/png:https://www.flamencoagenda.nl/core/../wp-content/uploads/Tania-Kross-Carmen-2.png
END:VEVENT
BEGIN:VEVENT
DTSTART;TZID=Europe/Amsterdam:20190322T201500
DTEND;TZID=Europe/Amsterdam:20190322T201500
DTSTAMP:20260419T184529
CREATED:20190311T212754Z
LAST-MODIFIED:20190311T212754Z
UID:14849-1553285700-1553285700@www.flamencoagenda.nl
SUMMARY:Jeff Heijne\, Conchita & Mascha
DESCRIPTION:Austerlitz\, Beauforthuis – Concert met Jeff Heijne (flamencogitaar)\, Conchita Boon (flamencodans) en Mascha Van Nieuwkerk (cello) met op het programma o.a. composities van de nieuwe cd van Jeff Heijne ‘Reflejos del Alma’ en De Falla\, Bartók\, Fauré\, Tsindsadze\, Martinu en Pärt. De stukken zullen door persoonlijke verhalen met elkaar verbonden worden.
URL:https://www.flamencoagenda.nl/event/jeff-heijne-conchita-mascha-2/
LOCATION:Beauforthuis\, Woudenbergseweg 70\, Austerlitz\, 3711 AB
CATEGORIES:Live Flamenco
ATTACH;FMTTYPE=image/jpeg:https://www.flamencoagenda.nl/core/../wp-content/uploads/conchita-jeff-mascha.jpg
END:VEVENT
BEGIN:VEVENT
DTSTART;TZID=Europe/Amsterdam:20190322T203000
DTEND;TZID=Europe/Amsterdam:20190322T203000
DTSTAMP:20260419T184529
CREATED:20190103T144936Z
LAST-MODIFIED:20190103T144936Z
UID:14260-1553286600-1553286600@www.flamencoagenda.nl
SUMMARY:Eric Vaarzon Morel ‘Ode aan de Spaanse gitaar’
DESCRIPTION:Assen\, Theater DNK – Voorstelling van de flamencogitarist Eric Vaarzon Morel.  \nOver deze voorstelling\n“Vijf gitaren. Daarop speelt hij. In één programma. Dat is de uitdaging voor Eric Vaarzon Morel. Vijf gitaren. Stuk voor stuk instrumenten met een verhaal. De Picasso-gitaar bouwde hij op tv\, in De Nieuwe Stradivarius. De befaamde Gerundino\, zijn oude Stradivarius en eerste liefde\, ooit bespeeld door Paco Peña. Eric vertelt anekdotes en vertroetelt de snaren. Hij brengt een oorstrelende Ode aan de Spaanse gitaar. ‘De gitaar laat de dromen huilen’\, dichtte Lorca.”
URL:https://www.flamencoagenda.nl/event/eric-vaarzon-morel-ode-aan-de-spaanse-gitaar-4/
LOCATION:Theater DNK\, Weiersstraat 1\, Assen\, Drenthe\, 9401 ET\, Nederland
CATEGORIES:Live Flamenco
ATTACH;FMTTYPE=image/jpeg:https://www.flamencoagenda.nl/core/../wp-content/uploads/Ode-aan-de-Spaanse-gitaar-copy.jpg
END:VEVENT
BEGIN:VEVENT
DTSTART;TZID=Europe/Amsterdam:20190322T203000
DTEND;TZID=Europe/Amsterdam:20190322T203000
DTSTAMP:20260419T184529
CREATED:20190307T223632Z
LAST-MODIFIED:20190307T223632Z
UID:14819-1553286600-1553286600@www.flamencoagenda.nl
SUMMARY:Noelia Sabarea & Pastora @ El Pub
DESCRIPTION:Den Haag\, De Nieuwe Regentes (‘El Pub Flamenco’) – Live flamenco met Noelia Sabarea en Pastora Flamenco (dans)\, Antonio Carrasco (zang) en El Armenio (gitaar).
URL:https://www.flamencoagenda.nl/event/noelia-sabarea-pastora-el-pub/
LOCATION:Theater De Nieuwe Regentes\, Weimarstraat 63\, Den Haag\, 2562 GR\, Nederland
CATEGORIES:Live Flamenco
ATTACH;FMTTYPE=image/jpeg:https://www.flamencoagenda.nl/core/../wp-content/uploads/noelia-sabarea-pastora.jpg
END:VEVENT
END:VCALENDAR