BEGIN:VCALENDAR
VERSION:2.0
PRODID:-//flamencoagenda.nl - ECPv6.15.20//NONSGML v1.0//EN
CALSCALE:GREGORIAN
METHOD:PUBLISH
X-WR-CALNAME:flamencoagenda.nl
X-ORIGINAL-URL:https://www.flamencoagenda.nl
X-WR-CALDESC:Evenementen voor flamencoagenda.nl
REFRESH-INTERVAL;VALUE=DURATION:PT1H
X-Robots-Tag:noindex
X-PUBLISHED-TTL:PT1H
BEGIN:VTIMEZONE
TZID:Europe/Amsterdam
BEGIN:DAYLIGHT
TZOFFSETFROM:+0100
TZOFFSETTO:+0200
TZNAME:CEST
DTSTART:20180325T010000
END:DAYLIGHT
BEGIN:STANDARD
TZOFFSETFROM:+0200
TZOFFSETTO:+0100
TZNAME:CET
DTSTART:20181028T010000
END:STANDARD
BEGIN:DAYLIGHT
TZOFFSETFROM:+0100
TZOFFSETTO:+0200
TZNAME:CEST
DTSTART:20190331T010000
END:DAYLIGHT
BEGIN:STANDARD
TZOFFSETFROM:+0200
TZOFFSETTO:+0100
TZNAME:CET
DTSTART:20191027T010000
END:STANDARD
BEGIN:DAYLIGHT
TZOFFSETFROM:+0100
TZOFFSETTO:+0200
TZNAME:CEST
DTSTART:20200329T010000
END:DAYLIGHT
BEGIN:STANDARD
TZOFFSETFROM:+0200
TZOFFSETTO:+0100
TZNAME:CET
DTSTART:20201025T010000
END:STANDARD
END:VTIMEZONE
BEGIN:VEVENT
DTSTART;TZID=Europe/Amsterdam:20190317T140000
DTEND;TZID=Europe/Amsterdam:20190317T140000
DTSTAMP:20260419T184440
CREATED:20190305T171407Z
LAST-MODIFIED:20190305T171407Z
UID:14805-1552831200-1552831200@www.flamencoagenda.nl
SUMMARY:Theresa y Timen ‘DES/Amor’
DESCRIPTION:Acquoy\, Fort bij Asperen – Live flamenco van Theresa (flamencozang) en Timen (flamencogitaar) met hun voorstelling ‘DES/Amor’. \nFoto: Marjon Broeks
URL:https://www.flamencoagenda.nl/event/theresa-y-timen-des-amor/
LOCATION:Fort bij Asperen\, Langendijk 60\, Acquoy\, 4151 BR
CATEGORIES:Live Flamenco
ATTACH;FMTTYPE=image/jpeg:https://www.flamencoagenda.nl/core/../wp-content/uploads/Theresa-y-Timen-foto-Marion-Broeks.jpg
END:VEVENT
BEGIN:VEVENT
DTSTART;TZID=Europe/Amsterdam:20190317T143000
DTEND;TZID=Europe/Amsterdam:20190317T143000
DTSTAMP:20260419T184440
CREATED:20190107T224311Z
LAST-MODIFIED:20190107T224311Z
UID:14378-1552833000-1552833000@www.flamencoagenda.nl
SUMMARY:Tania Kross ‘Carmen revisited’
DESCRIPTION:Rotterdam\, TR Schouwburg – ‘Kross-over’ van flamencomuziek en opera. Met o.a.: Tania Kross als Carmen en flamencozanger Carlos Denia in de rol van Escamilla. Deze tour is een reprise van de zeer succesvolle eerdere tour. Andere artiesten zijn onder meer (onder voorbehoud\, de line-up kan per locatie verschillen\, check de theaterwebsite): Francis van Broekhuizen (Micaëla) en Charles Hens (Don José). Muzikale leiding en arrangementen: Thijs Borsten. \nDeze voorstelling is onderdeel van een uitgebreide tour. Bekijk de Live Flamenco agenda voor alle nog komende data.
URL:https://www.flamencoagenda.nl/event/tania-kross-carmen-revisited-54/
LOCATION:TR Schouwburg\, Schouwburgplein 25\, Rotterdam\, 3012 CL
CATEGORIES:Live Flamenco
ATTACH;FMTTYPE=image/png:https://www.flamencoagenda.nl/core/../wp-content/uploads/Tania-Kross-Carmen-2.png
END:VEVENT
BEGIN:VEVENT
DTSTART;TZID=Europe/Amsterdam:20190317T150000
DTEND;TZID=Europe/Amsterdam:20190317T150000
DTSTAMP:20260419T184440
CREATED:20190311T213735Z
LAST-MODIFIED:20190311T213735Z
UID:14851-1552834800-1552834800@www.flamencoagenda.nl
SUMMARY:Labryenco & Falu & Conchita
DESCRIPTION:Heerlen\, Cultuurhuis Heerlen –  Live flamenco met de formatie Labryenco met als speciale gasten Falu de Cadiz (zang) en Conchita Boon (dans).
URL:https://www.flamencoagenda.nl/event/labryenco-falu-conchita-2/
LOCATION:Cultuurhuis Heerlen\, Sittarderweg 145\, Heerlen\, 6412 CD
CATEGORIES:Live Flamenco
ATTACH;FMTTYPE=image/jpeg:https://www.flamencoagenda.nl/core/../wp-content/uploads/labryenco-conchita.jpg
END:VEVENT
BEGIN:VEVENT
DTSTART;TZID=Europe/Amsterdam:20190317T150000
DTEND;TZID=Europe/Amsterdam:20190317T150000
DTSTAMP:20260419T184440
CREATED:20190311T220305Z
LAST-MODIFIED:20190312T093828Z
UID:14858-1552834800-1552834800@www.flamencoagenda.nl
SUMMARY:Tiempos Nuevos
DESCRIPTION:Enkhuizen\, De Drommedaris – Optreden van de formatie Tiempos Nuevos. Concerten in het kader van De Gitaarsalon. \n“Tiempos Nuevos speelt werken van grote componisten die zich door flamenco lieten inspireren. Bekende klassieke werken worden op natuurlijke wijze teruggebracht naar het flamenco-idioom. Een retourticket van de klassieke muziek en de jazz naar flamenco\, en van het verleden naar drie jonge muzikanten op het podium.” \nMet: María Marín (zang\, klassieke Spaanse gitaar)\, Edsart Udo de Haes (flamencogitaar) en Udo Demandt (drums).
URL:https://www.flamencoagenda.nl/event/tiempos-nuevos-5/
LOCATION:De Drom\, Paktuinen 1\, Enkhuizen\, 1601 GD
CATEGORIES:Live Flamenco
ATTACH;FMTTYPE=image/jpeg:https://www.flamencoagenda.nl/core/../wp-content/uploads/tiempos-nuevos1.jpg
END:VEVENT
END:VCALENDAR