BEGIN:VCALENDAR
VERSION:2.0
PRODID:-//flamencoagenda.nl - ECPv6.15.20//NONSGML v1.0//EN
CALSCALE:GREGORIAN
METHOD:PUBLISH
X-WR-CALNAME:flamencoagenda.nl
X-ORIGINAL-URL:https://www.flamencoagenda.nl
X-WR-CALDESC:Evenementen voor flamencoagenda.nl
REFRESH-INTERVAL;VALUE=DURATION:PT1H
X-Robots-Tag:noindex
X-PUBLISHED-TTL:PT1H
BEGIN:VTIMEZONE
TZID:Europe/Amsterdam
BEGIN:DAYLIGHT
TZOFFSETFROM:+0100
TZOFFSETTO:+0200
TZNAME:CEST
DTSTART:20180325T010000
END:DAYLIGHT
BEGIN:STANDARD
TZOFFSETFROM:+0200
TZOFFSETTO:+0100
TZNAME:CET
DTSTART:20181028T010000
END:STANDARD
BEGIN:DAYLIGHT
TZOFFSETFROM:+0100
TZOFFSETTO:+0200
TZNAME:CEST
DTSTART:20190331T010000
END:DAYLIGHT
BEGIN:STANDARD
TZOFFSETFROM:+0200
TZOFFSETTO:+0100
TZNAME:CET
DTSTART:20191027T010000
END:STANDARD
BEGIN:DAYLIGHT
TZOFFSETFROM:+0100
TZOFFSETTO:+0200
TZNAME:CEST
DTSTART:20200329T010000
END:DAYLIGHT
BEGIN:STANDARD
TZOFFSETFROM:+0200
TZOFFSETTO:+0100
TZNAME:CET
DTSTART:20201025T010000
END:STANDARD
END:VTIMEZONE
BEGIN:VEVENT
DTSTART;VALUE=DATE:20190309
DTEND;VALUE=DATE:20190311
DTSTAMP:20260419T184533
CREATED:20190218T190510Z
LAST-MODIFIED:20190218T202644Z
UID:14728-1552089600-1552262399@www.flamencoagenda.nl
SUMMARY:Maurice Leenaars Flamenco Weekend
DESCRIPTION:Tilburg\, Paradox – Een heel weekend flamenco in Paradox. Met op zaterdag 20.30 uur ‘Flamenco Night’ met Maurice Leenaars(gitaar)\, Saïdjah Galo (dans)\, Antonio Paz & Esteban Murillo (zang) en Udo Demandt (percussie). Op zondag 10 maart om 15.00 uur ‘Flamenco crossover’ met Maurice Leenaars & Paul Hagenaars (gitaar)\, Herman van Haaren (viool)\, Paul van Kemenade (altsax)\, Lucas Beukers (basgitaar) en Ron van Holland (percussie). \nHet is mogelijk om aparte kaartjes te kopen\, of een passe-partout. \nFoto Maurice Leenaars: Aleksander Malakhov
URL:https://www.flamencoagenda.nl/event/maurice-leenaars-flamenco-weekend/
LOCATION:Paradox\, Telegraafstraat 62\, Tilburg\, 5038 BM 
CATEGORIES:Live Flamenco
ATTACH;FMTTYPE=image/jpeg:https://www.flamencoagenda.nl/core/../wp-content/uploads/Flamenco-Weekend-Maurice-Leenaars-Saidjah-Galo.jpg
END:VEVENT
BEGIN:VEVENT
DTSTART;VALUE=DATE:20190310
DTEND;VALUE=DATE:20190311
DTSTAMP:20260419T184533
CREATED:20190219T214127Z
LAST-MODIFIED:20190219T214158Z
UID:14740-1552176000-1552262399@www.flamencoagenda.nl
SUMMARY:Flamenco voor kinderen
DESCRIPTION:Brussel\, Bozar – Dag 5 van Flamenco Festival Brussel: vandaag verschillende voorstellingen voor kinderen. \n13.00 uur (Hortahal) Sofia Yero ‘Magia de los Tiempos’. Met Sofia Yero (dans)\, Laura Cabello Perez (zang) en Fabricio Rodriguez flamencogitaar. \n14.00 uur (Zaal M) Laura Vital company ‘Flamencoclown’. Met Laura Vital (zang)\, Fran Caballero (acteur)\, Raquel Villegas (dans)\, Manuel El Niño (flamencogitaar) en El Marchena (percussie). \n15.00 uur (Hortahal) Sofia Yero ‘Embrujo de los 6 tiempos’. Met Sofia Yero (dans)\, Laura Cabello Perez (zang) en Fabricio Rodriguez flamencogitaar. \nDit is de laatste dag van het Flamenco Festival Brussel.
URL:https://www.flamencoagenda.nl/event/flamenco-voor-kinderen-6/
CATEGORIES:Live Flamenco
ATTACH;FMTTYPE=image/jpeg:https://www.flamencoagenda.nl/core/../wp-content/uploads/Flamencoclown-Bozar.jpg
END:VEVENT
BEGIN:VEVENT
DTSTART;TZID=Europe/Amsterdam:20190310T143000
DTEND;TZID=Europe/Amsterdam:20190310T143000
DTSTAMP:20260419T184533
CREATED:20190103T163412Z
LAST-MODIFIED:20190103T163412Z
UID:14308-1552228200-1552228200@www.flamencoagenda.nl
SUMMARY:Eric Vaarzon Morel ‘Duende’
DESCRIPTION:Dordrecht\, Schouwburg Kunstmin –  Concert van flamencogitarist Eric Vaarzon Morel (gitaar)\, Eric Vloeimans (trompet) en Gijs Scholten van Aschat (stem). \nOver deze voorstelling\n“Drie Hollanders begeven zich naar het zuiden\, op zoek naar een andere cultuur. Twee musiceren op gitaar en trompet\, de ander leest. Ze omarmen de taal en de muziek van het zuiden\, ze komen in Spanje\, Portugal\, Brazilië. Ze ontmoeten Lorca\, flamenco\, jazz\, duende\, Pessoa\, Drummond de Andrade en meer dan ze op een avond kunnen vertellen.”
URL:https://www.flamencoagenda.nl/event/eric-vaarzon-morel-duende-11/
LOCATION:Kunstmin\, Sint Jorisweg 76\, Dordrecht\, 3311 PL
CATEGORIES:Live Flamenco
ATTACH;FMTTYPE=image/jpeg:https://www.flamencoagenda.nl/core/../wp-content/uploads/vaarzon-morel-vloeimans-1.jpg
END:VEVENT
BEGIN:VEVENT
DTSTART;TZID=Europe/Amsterdam:20190310T150000
DTEND;TZID=Europe/Amsterdam:20190310T150000
DTSTAMP:20260419T184533
CREATED:20190107T223532Z
LAST-MODIFIED:20190107T223532Z
UID:14369-1552230000-1552230000@www.flamencoagenda.nl
SUMMARY:Tania Kross ‘Carmen revisited’
DESCRIPTION:Alphen a/d Rijn\, Theater Castellum – ‘Kross-over’ van flamencomuziek en opera. Met o.a.: Tania Kross als Carmen en flamencozanger Carlos Denia in de rol van Escamilla. Deze tour is een reprise van de zeer succesvolle eerdere tour. Andere artiesten zijn onder meer (onder voorbehoud\, de line-up kan per locatie verschillen\, check de theaterwebsite): Francis van Broekhuizen (Micaëla) en Charles Hens (Don José). Muzikale leiding en arrangementen: Thijs Borsten. \nDeze voorstelling is onderdeel van een uitgebreide tour. Bekijk de Live Flamenco agenda voor alle nog komende data.
URL:https://www.flamencoagenda.nl/event/tania-kross-carmen-revisited-50/
LOCATION:Theater Castellum\, Rijnplein 1-3\, Alphen a/d Rijn\, 2405 DB
CATEGORIES:Live Flamenco
ATTACH;FMTTYPE=image/png:https://www.flamencoagenda.nl/core/../wp-content/uploads/Tania-Kross-Carmen-2.png
END:VEVENT
END:VCALENDAR