BEGIN:VCALENDAR
VERSION:2.0
PRODID:-//flamencoagenda.nl - ECPv6.15.20//NONSGML v1.0//EN
CALSCALE:GREGORIAN
METHOD:PUBLISH
X-WR-CALNAME:flamencoagenda.nl
X-ORIGINAL-URL:https://www.flamencoagenda.nl
X-WR-CALDESC:Evenementen voor flamencoagenda.nl
REFRESH-INTERVAL;VALUE=DURATION:PT1H
X-Robots-Tag:noindex
X-PUBLISHED-TTL:PT1H
BEGIN:VTIMEZONE
TZID:Europe/Amsterdam
BEGIN:DAYLIGHT
TZOFFSETFROM:+0100
TZOFFSETTO:+0200
TZNAME:CEST
DTSTART:20180325T010000
END:DAYLIGHT
BEGIN:STANDARD
TZOFFSETFROM:+0200
TZOFFSETTO:+0100
TZNAME:CET
DTSTART:20181028T010000
END:STANDARD
BEGIN:DAYLIGHT
TZOFFSETFROM:+0100
TZOFFSETTO:+0200
TZNAME:CEST
DTSTART:20190331T010000
END:DAYLIGHT
BEGIN:STANDARD
TZOFFSETFROM:+0200
TZOFFSETTO:+0100
TZNAME:CET
DTSTART:20191027T010000
END:STANDARD
BEGIN:DAYLIGHT
TZOFFSETFROM:+0100
TZOFFSETTO:+0200
TZNAME:CEST
DTSTART:20200329T010000
END:DAYLIGHT
BEGIN:STANDARD
TZOFFSETFROM:+0200
TZOFFSETTO:+0100
TZNAME:CET
DTSTART:20201025T010000
END:STANDARD
END:VTIMEZONE
BEGIN:VEVENT
DTSTART;VALUE=DATE:20190309
DTEND;VALUE=DATE:20190310
DTSTAMP:20260419T184553
CREATED:20190216T225702Z
LAST-MODIFIED:20190216T225702Z
UID:14709-1552089600-1552175999@www.flamencoagenda.nl
SUMMARY:Pilar Ogalla (dans)
DESCRIPTION:Gent\, Danshuis De Ingang – Weekendworkshop van de Spaanse flamencodanseres Pilar Ogalla. Er is les op zaterdag 9 en zondag 10 maart. \nLesschema\n13.00 -14.30 uur: Bata de Cola – open level\, maar basiservaring Bata de Cola vereist\n14.45 – 16.00 uur: Bailes Festeros (Tangos/Bulerias) – open level maar basiservaring Flamenco vereist\n16.15 – 17.45 uur: Taranto – halfgevorderd-gevorderd niveau Flamenco
URL:https://www.flamencoagenda.nl/event/pilar-ogalla-dans/
LOCATION:Danshuis De Ingang\, Hurstweg 8\, Gent\, 9000\, België
CATEGORIES:Workshops
ATTACH;FMTTYPE=image/jpeg:https://www.flamencoagenda.nl/core/../wp-content/uploads/flamenco_pilar_Ogalla_danshuis_de_ingang.jpg
ORGANIZER;CN="Danshuis De Ingang":MAILTO:info@de-ingang.be
END:VEVENT
BEGIN:VEVENT
DTSTART;VALUE=DATE:20190309
DTEND;VALUE=DATE:20190310
DTSTAMP:20260419T184553
CREATED:20190219T213729Z
LAST-MODIFIED:20190219T213729Z
UID:14737-1552089600-1552175999@www.flamencoagenda.nl
SUMMARY:Joaquin Grilo\, Kiki Morente\, Luis Moneo e.a.
DESCRIPTION:Brussel\, Bozar – Dag 4 van Flamenco Festival Brussel: vandaag in het teken van de grote flamencofamilies. \n17.00 uur (Zaal M) Luis Moneo & Famila ‘La saga de los Moneo’. Met Luis Moneo (zang)\, Juan Manuel Moneo (flamencogitaar)\, Manuel Moneo en Momo Moneo (zang)\, Ana Moneo en Maria José Franco (dans)\, Javier Peña en Carlos Merino (palmas) en Pepe Torres dans. \n19.00 uur (Zaal M) Kiki Morente & Friends ‘Albayzïn’. Met Kiki Morente (zang)\, David Carmona (flamencogitaar)\, Ire Gato (dans) en Pedro Gabarre “Popo” (cajón). \n20.30 uur (Henry le Boeufzaal) Joaquín Grilo ‘La calle de mis sueños’. Met Joaquín Grilo (dans)\, May Fernandez (zang)\, Gomez Francis (flamencogitaar)\, Rodrigo Carmona (klavier\, piano)\, Ané Carrasco (drums\, percussie) en Fernando Galán (dans\, acteur). \nHet Flamenco Festival Brussel duurt t/m 10 maart.
URL:https://www.flamencoagenda.nl/event/joaquin-grilo-kiki-morente-luis-moneo-e-a/
LOCATION:Bozar\, Rue Ravenstein 23\, Brussel\, 1000\, België
CATEGORIES:Live Flamenco
ATTACH;FMTTYPE=image/jpeg:https://www.flamencoagenda.nl/core/../wp-content/uploads/Los-Moneo-foto-Claudia-Ruiz.jpg
END:VEVENT
BEGIN:VEVENT
DTSTART;VALUE=DATE:20190309
DTEND;VALUE=DATE:20190311
DTSTAMP:20260419T184553
CREATED:20190218T190510Z
LAST-MODIFIED:20190218T202644Z
UID:14728-1552089600-1552262399@www.flamencoagenda.nl
SUMMARY:Maurice Leenaars Flamenco Weekend
DESCRIPTION:Tilburg\, Paradox – Een heel weekend flamenco in Paradox. Met op zaterdag 20.30 uur ‘Flamenco Night’ met Maurice Leenaars(gitaar)\, Saïdjah Galo (dans)\, Antonio Paz & Esteban Murillo (zang) en Udo Demandt (percussie). Op zondag 10 maart om 15.00 uur ‘Flamenco crossover’ met Maurice Leenaars & Paul Hagenaars (gitaar)\, Herman van Haaren (viool)\, Paul van Kemenade (altsax)\, Lucas Beukers (basgitaar) en Ron van Holland (percussie). \nHet is mogelijk om aparte kaartjes te kopen\, of een passe-partout. \nFoto Maurice Leenaars: Aleksander Malakhov
URL:https://www.flamencoagenda.nl/event/maurice-leenaars-flamenco-weekend/
LOCATION:Paradox\, Telegraafstraat 62\, Tilburg\, 5038 BM 
CATEGORIES:Live Flamenco
ATTACH;FMTTYPE=image/jpeg:https://www.flamencoagenda.nl/core/../wp-content/uploads/Flamenco-Weekend-Maurice-Leenaars-Saidjah-Galo.jpg
END:VEVENT
BEGIN:VEVENT
DTSTART;TZID=Europe/Amsterdam:20190309T200000
DTEND;TZID=Europe/Amsterdam:20190309T200000
DTSTAMP:20260419T184553
CREATED:20190107T223159Z
LAST-MODIFIED:20190107T223159Z
UID:14366-1552161600-1552161600@www.flamencoagenda.nl
SUMMARY:Tania Kross ‘Carmen revisited’
DESCRIPTION:Enschede\, Muziekcentrum – ‘Kross-over’ van flamencomuziek en opera. Met o.a.: Tania Kross als Carmen en flamencozanger Carlos Denia in de rol van Escamilla. Deze tour is een reprise van de zeer succesvolle eerdere tour. Andere artiesten zijn onder meer (onder voorbehoud\, de line-up kan per locatie verschillen\, check de theaterwebsite): Francis van Broekhuizen (Micaëla) en Charles Hens (Don José). Muzikale leiding en arrangementen: Thijs Borsten. \nDeze voorstelling is onderdeel van een uitgebreide tour. Bekijk de Live Flamenco agenda voor alle nog komende data.
URL:https://www.flamencoagenda.nl/event/tania-kross-carmen-revisited-49/
LOCATION:Muziekcentrum Enschede\, Noorderhagen 27\, Enschede\, 7511 EK
CATEGORIES:Live Flamenco
ATTACH;FMTTYPE=image/png:https://www.flamencoagenda.nl/core/../wp-content/uploads/Tania-Kross-Carmen-2.png
END:VEVENT
BEGIN:VEVENT
DTSTART;TZID=Europe/Amsterdam:20190309T201500
DTEND;TZID=Europe/Amsterdam:20190309T201500
DTSTAMP:20260419T184553
CREATED:20190103T163123Z
LAST-MODIFIED:20190103T163123Z
UID:14306-1552162500-1552162500@www.flamencoagenda.nl
SUMMARY:Eric Vaarzon Morel ‘Duende’
DESCRIPTION:Zaandam\, Zaantheater –  Concert van flamencogitarist Eric Vaarzon Morel (gitaar)\, Eric Vloeimans (trompet) en Gijs Scholten van Aschat (stem). \nOver deze voorstelling\n“Drie Hollanders begeven zich naar het zuiden\, op zoek naar een andere cultuur. Twee musiceren op gitaar en trompet\, de ander leest. Ze omarmen de taal en de muziek van het zuiden\, ze komen in Spanje\, Portugal\, Brazilië. Ze ontmoeten Lorca\, flamenco\, jazz\, duende\, Pessoa\, Drummond de Andrade en meer dan ze op een avond kunnen vertellen.”
URL:https://www.flamencoagenda.nl/event/eric-vaarzon-morel-duende-10/
LOCATION:Zaantheater\, Nicolaasstraat 3\, Zaandam\, 1506 BB
CATEGORIES:Live Flamenco
ATTACH;FMTTYPE=image/jpeg:https://www.flamencoagenda.nl/core/../wp-content/uploads/vaarzon-morel-vloeimans-1.jpg
END:VEVENT
BEGIN:VEVENT
DTSTART;TZID=Europe/Amsterdam:20190309T203000
DTEND;TZID=Europe/Amsterdam:20190309T203000
DTSTAMP:20260419T184553
CREATED:20190109T233252Z
LAST-MODIFIED:20190109T233252Z
UID:14457-1552163400-1552163400@www.flamencoagenda.nl
SUMMARY:Jeff Heijne ‘Reflejos del Alma’
DESCRIPTION:Amsterdam\, Roode Bioscoop – Live flamenco van gitarist Jeff Heijne met werk van zijn nieuwe cd ‘Reflejos del Alma’.
URL:https://www.flamencoagenda.nl/event/jeff-heijne-reflejos-del-alma-3/
LOCATION:De Roode Bioscoop\, Haarlemmerplein 7\, Amsterdam\, 1013HP
CATEGORIES:Live Flamenco
ATTACH;FMTTYPE=image/png:https://www.flamencoagenda.nl/core/../wp-content/uploads/Jeff-Heijne-Reflejos-del-Alma.png
END:VEVENT
BEGIN:VEVENT
DTSTART;TZID=Europe/Amsterdam:20190309T213000
DTEND;TZID=Europe/Amsterdam:20190309T213000
DTSTAMP:20260419T184553
CREATED:20190109T222058Z
LAST-MODIFIED:20190109T222058Z
UID:14430-1552167000-1552167000@www.flamencoagenda.nl
SUMMARY:Tapas & Flamenco: Fantasia Flamenca
DESCRIPTION:Antwerpen\, Peña Al Andalus – Spaans eten en flamencodansoptreden. De keuken opent om 19.00 uur\, het optreden begint om 21.30 uur. Dit keer met dansgroep Fantasia Flamenca.
URL:https://www.flamencoagenda.nl/event/tapas-flamenco-fantasia-flamenca-10/
LOCATION:Peña al Andalus\, Vorstermanstraat 1\, ANTWERPEN\, Antwerpen\, 2000\, België
CATEGORIES:Live Flamenco
ATTACH;FMTTYPE=image/jpeg:https://www.flamencoagenda.nl/core/../wp-content/uploads/FANTASIA-FLAMENCA-flamenco.jpeg
END:VEVENT
END:VCALENDAR