BEGIN:VCALENDAR
VERSION:2.0
PRODID:-//flamencoagenda.nl - ECPv6.15.20//NONSGML v1.0//EN
CALSCALE:GREGORIAN
METHOD:PUBLISH
X-WR-CALNAME:flamencoagenda.nl
X-ORIGINAL-URL:https://www.flamencoagenda.nl
X-WR-CALDESC:Evenementen voor flamencoagenda.nl
REFRESH-INTERVAL;VALUE=DURATION:PT1H
X-Robots-Tag:noindex
X-PUBLISHED-TTL:PT1H
BEGIN:VTIMEZONE
TZID:Europe/Amsterdam
BEGIN:DAYLIGHT
TZOFFSETFROM:+0100
TZOFFSETTO:+0200
TZNAME:CEST
DTSTART:20180325T010000
END:DAYLIGHT
BEGIN:STANDARD
TZOFFSETFROM:+0200
TZOFFSETTO:+0100
TZNAME:CET
DTSTART:20181028T010000
END:STANDARD
BEGIN:DAYLIGHT
TZOFFSETFROM:+0100
TZOFFSETTO:+0200
TZNAME:CEST
DTSTART:20190331T010000
END:DAYLIGHT
BEGIN:STANDARD
TZOFFSETFROM:+0200
TZOFFSETTO:+0100
TZNAME:CET
DTSTART:20191027T010000
END:STANDARD
BEGIN:DAYLIGHT
TZOFFSETFROM:+0100
TZOFFSETTO:+0200
TZNAME:CEST
DTSTART:20200329T010000
END:DAYLIGHT
BEGIN:STANDARD
TZOFFSETFROM:+0200
TZOFFSETTO:+0100
TZNAME:CET
DTSTART:20201025T010000
END:STANDARD
END:VTIMEZONE
BEGIN:VEVENT
DTSTART;VALUE=DATE:20190306
DTEND;VALUE=DATE:20190307
DTSTAMP:20260419T184434
CREATED:20190219T213110Z
LAST-MODIFIED:20190220T152416Z
UID:14732-1551830400-1551916799@www.flamencoagenda.nl
SUMMARY:Rocío Márquez\, David Pérez e.a. ‘La Protesta’
DESCRIPTION:Brussel\, BOZAR – Dag 1 van Flamenco Festival Brussel: eerbetoon aan de dichters Miguel Hernández\, Rafael Alberti en Francisco Moreno Galván\, die de strijd belichamen tegen het fascisme en de Franco-dictatuur. Francisco Moreno Galván was ook maker van prachtige flamencoaffiches. Zijn creaties zijn te zien tijdens het festival. \n“Rocío Márquez\, Juan Pinilla en Ana Ramírez ‘La Yiya’ (zang)\, Manuel Herrera (gitaar) en David Pérez (dans) maken de weerspannige poëzie van deze iconen springlevend en eigentijds.” \nVoorafgaand aan de voorstelling is er om 19 uur een debat ‘Het belang van antifascistische dichters voor flamenco en de Spaanse cultuur’ met Juan Pinilla\, Jose Miguel Arranz\, Miguel Angel Rivero en Bart Vonck. \nHet Flamenco Festival Brussel duurt t/m 10 maart. \n \nEr is ook een expositie van de flamencoaffiches van Franco-verzetskunstenaar Francisco Moreno Galván. \n 
URL:https://www.flamencoagenda.nl/event/rocio-marquez-david-perez-e-a-la-protesta/
LOCATION:Bozar\, Rue Ravenstein 23\, Brussel\, 1000\, België
CATEGORIES:Live Flamenco
ATTACH;FMTTYPE=image/jpeg:https://www.flamencoagenda.nl/core/../wp-content/uploads/rocio-marquez.jpg
END:VEVENT
BEGIN:VEVENT
DTSTART;TZID=Europe/Amsterdam:20190306T200000
DTEND;TZID=Europe/Amsterdam:20190306T200000
DTSTAMP:20260419T184434
CREATED:20190107T222446Z
LAST-MODIFIED:20190107T222446Z
UID:14360-1551902400-1551902400@www.flamencoagenda.nl
SUMMARY:Tania Kross ‘Carmen revisited’
DESCRIPTION:Deventer\, Deventer Schouwburg – ‘Kross-over’ van flamencomuziek en opera. Met o.a.: Tania Kross als Carmen en flamencozanger Carlos Denia in de rol van Escamilla. Deze tour is een reprise van de zeer succesvolle eerdere tour. Andere artiesten zijn onder meer (onder voorbehoud\, de line-up kan per locatie verschillen\, check de theaterwebsite): Francis van Broekhuizen (Micaëla) en Charles Hens (Don José). Muzikale leiding en arrangementen: Thijs Borsten. \nDeze voorstelling is onderdeel van een uitgebreide tour. Bekijk de Live Flamenco agenda voor alle nog komende data.
URL:https://www.flamencoagenda.nl/event/tania-kross-carmen-revisited-47/
LOCATION:Deventer Schouwburg\, Leeuwenbrug 2\, Deventer\, 7411 TJ 
CATEGORIES:Live Flamenco
ATTACH;FMTTYPE=image/png:https://www.flamencoagenda.nl/core/../wp-content/uploads/Tania-Kross-Carmen-2.png
END:VEVENT
BEGIN:VEVENT
DTSTART;TZID=Europe/Amsterdam:20190306T201500
DTEND;TZID=Europe/Amsterdam:20190306T201500
DTSTAMP:20260419T184434
CREATED:20190103T161613Z
LAST-MODIFIED:20190103T162046Z
UID:14298-1551903300-1551903300@www.flamencoagenda.nl
SUMMARY:Eric Vaarzon Morel ‘Duende’
DESCRIPTION:Haarlem\, Stadsschouwburg – Concert van flamencogitarist Eric Vaarzon Morel (gitaar)\, Eric Vloeimans (trompet) en Gijs Scholten van Aschat (stem). \nOver deze voorstelling\n“Drie Hollanders begeven zich naar het zuiden\, op zoek naar een andere cultuur. Twee musiceren op gitaar en trompet\, de ander leest. Ze omarmen de taal en de muziek van het zuiden\, ze komen in Spanje\, Portugal\, Brazilië. Ze ontmoeten Lorca\, flamenco\, jazz\, duende\, Pessoa\, Drummond de Andrade en meer dan ze op een avond kunnen vertellen.”
URL:https://www.flamencoagenda.nl/event/eric-vaarzon-morel-duende-7/
LOCATION:Stadsschouwburg Haarlem\, Wilsonsplein 23\, Haarlem\, 2011 VG
CATEGORIES:Live Flamenco
ATTACH;FMTTYPE=image/jpeg:https://www.flamencoagenda.nl/core/../wp-content/uploads/vaarzon-morel-vloeimans-1.jpg
END:VEVENT
END:VCALENDAR