BEGIN:VCALENDAR
VERSION:2.0
PRODID:-//flamencoagenda.nl - ECPv6.15.20//NONSGML v1.0//EN
CALSCALE:GREGORIAN
METHOD:PUBLISH
X-WR-CALNAME:flamencoagenda.nl
X-ORIGINAL-URL:https://www.flamencoagenda.nl
X-WR-CALDESC:Evenementen voor flamencoagenda.nl
REFRESH-INTERVAL;VALUE=DURATION:PT1H
X-Robots-Tag:noindex
X-PUBLISHED-TTL:PT1H
BEGIN:VTIMEZONE
TZID:Europe/Amsterdam
BEGIN:DAYLIGHT
TZOFFSETFROM:+0100
TZOFFSETTO:+0200
TZNAME:CEST
DTSTART:20180325T010000
END:DAYLIGHT
BEGIN:STANDARD
TZOFFSETFROM:+0200
TZOFFSETTO:+0100
TZNAME:CET
DTSTART:20181028T010000
END:STANDARD
BEGIN:DAYLIGHT
TZOFFSETFROM:+0100
TZOFFSETTO:+0200
TZNAME:CEST
DTSTART:20190331T010000
END:DAYLIGHT
BEGIN:STANDARD
TZOFFSETFROM:+0200
TZOFFSETTO:+0100
TZNAME:CET
DTSTART:20191027T010000
END:STANDARD
BEGIN:DAYLIGHT
TZOFFSETFROM:+0100
TZOFFSETTO:+0200
TZNAME:CEST
DTSTART:20200329T010000
END:DAYLIGHT
BEGIN:STANDARD
TZOFFSETFROM:+0200
TZOFFSETTO:+0100
TZNAME:CET
DTSTART:20201025T010000
END:STANDARD
END:VTIMEZONE
BEGIN:VEVENT
DTSTART;TZID=Europe/Amsterdam:20190305T203000
DTEND;TZID=Europe/Amsterdam:20190305T203000
DTSTAMP:20260419T184534
CREATED:20181103T232552Z
LAST-MODIFIED:20181103T232552Z
UID:13792-1551817800-1551817800@www.flamencoagenda.nl
SUMMARY:Carlos Denia\, Irene & Arturo
DESCRIPTION:Beusichem\, Het Heerenlogement – Flamenco met Carlos Denia (zang)\, Irene Alvarez (dans) en Arturo Ramon (gitaar). \nOver deze voorstelling\n“Carles Denia is een van de beste flamencozangers van Spanje. Samen met flamencogitarist Arturo Ramon en danseres Irene Álvarez wordt dit een avond vol vuur en passie.”
URL:https://www.flamencoagenda.nl/event/carlos-denia-irene-arturo/
LOCATION:Het Heerenlogement\, Markt 31\, Beusichem\, 4112 JR
CATEGORIES:Live Flamenco
ATTACH;FMTTYPE=image/jpeg:https://www.flamencoagenda.nl/core/../wp-content/uploads/Carles-Denia-Irene-Alvarez.jpg
END:VEVENT
END:VCALENDAR