BEGIN:VCALENDAR
VERSION:2.0
PRODID:-//flamencoagenda.nl - ECPv6.15.20//NONSGML v1.0//EN
CALSCALE:GREGORIAN
METHOD:PUBLISH
X-ORIGINAL-URL:https://www.flamencoagenda.nl
X-WR-CALDESC:Evenementen voor flamencoagenda.nl
REFRESH-INTERVAL;VALUE=DURATION:PT1H
X-Robots-Tag:noindex
X-PUBLISHED-TTL:PT1H
BEGIN:VTIMEZONE
TZID:Europe/Amsterdam
BEGIN:DAYLIGHT
TZOFFSETFROM:+0100
TZOFFSETTO:+0200
TZNAME:CEST
DTSTART:20180325T010000
END:DAYLIGHT
BEGIN:STANDARD
TZOFFSETFROM:+0200
TZOFFSETTO:+0100
TZNAME:CET
DTSTART:20181028T010000
END:STANDARD
BEGIN:DAYLIGHT
TZOFFSETFROM:+0100
TZOFFSETTO:+0200
TZNAME:CEST
DTSTART:20190331T010000
END:DAYLIGHT
BEGIN:STANDARD
TZOFFSETFROM:+0200
TZOFFSETTO:+0100
TZNAME:CET
DTSTART:20191027T010000
END:STANDARD
BEGIN:DAYLIGHT
TZOFFSETFROM:+0100
TZOFFSETTO:+0200
TZNAME:CEST
DTSTART:20200329T010000
END:DAYLIGHT
BEGIN:STANDARD
TZOFFSETFROM:+0200
TZOFFSETTO:+0100
TZNAME:CET
DTSTART:20201025T010000
END:STANDARD
END:VTIMEZONE
BEGIN:VEVENT
DTSTART;TZID=Europe/Amsterdam:20190226T203000
DTEND;TZID=Europe/Amsterdam:20190226T203000
DTSTAMP:20260419T184714
CREATED:20190103T160109Z
LAST-MODIFIED:20190103T160109Z
UID:14289-1551213000-1551213000@www.flamencoagenda.nl
SUMMARY:Eric Vaarzon Morel ‘Duende’
DESCRIPTION:Enschede\, De Kleine Willem –  Concert van flamencogitarist Eric Vaarzon Morel (gitaar)\, Eric Vloeimans (trompet) en Gijs Scholten van Aschat (stem). \nOver deze voorstelling\n“Drie Hollanders begeven zich naar het zuiden\, op zoek naar een andere cultuur. Twee musiceren op gitaar en trompet\, de ander leest. Ze omarmen de taal en de muziek van het zuiden\, ze komen in Spanje\, Portugal\, Brazilië. Ze ontmoeten Lorca\, flamenco\, jazz\, duende\, Pessoa\, Drummond de Andrade en meer dan ze op een avond kunnen vertellen.”
URL:https://www.flamencoagenda.nl/event/eric-vaarzon-morel-duende-3/
LOCATION:De Kleine Willem\, Langestraat 45\, Enschede\, 7511 HB
CATEGORIES:Live Flamenco
ATTACH;FMTTYPE=image/jpeg:https://www.flamencoagenda.nl/core/../wp-content/uploads/vaarzon-morel-vloeimans-1.jpg
END:VEVENT
END:VCALENDAR