BEGIN:VCALENDAR
VERSION:2.0
PRODID:-//flamencoagenda.nl - ECPv6.15.20//NONSGML v1.0//EN
CALSCALE:GREGORIAN
METHOD:PUBLISH
X-WR-CALNAME:flamencoagenda.nl
X-ORIGINAL-URL:https://www.flamencoagenda.nl
X-WR-CALDESC:Evenementen voor flamencoagenda.nl
REFRESH-INTERVAL;VALUE=DURATION:PT1H
X-Robots-Tag:noindex
X-PUBLISHED-TTL:PT1H
BEGIN:VTIMEZONE
TZID:Europe/Amsterdam
BEGIN:DAYLIGHT
TZOFFSETFROM:+0100
TZOFFSETTO:+0200
TZNAME:CEST
DTSTART:20180325T010000
END:DAYLIGHT
BEGIN:STANDARD
TZOFFSETFROM:+0200
TZOFFSETTO:+0100
TZNAME:CET
DTSTART:20181028T010000
END:STANDARD
BEGIN:DAYLIGHT
TZOFFSETFROM:+0100
TZOFFSETTO:+0200
TZNAME:CEST
DTSTART:20190331T010000
END:DAYLIGHT
BEGIN:STANDARD
TZOFFSETFROM:+0200
TZOFFSETTO:+0100
TZNAME:CET
DTSTART:20191027T010000
END:STANDARD
BEGIN:DAYLIGHT
TZOFFSETFROM:+0100
TZOFFSETTO:+0200
TZNAME:CEST
DTSTART:20200329T010000
END:DAYLIGHT
BEGIN:STANDARD
TZOFFSETFROM:+0200
TZOFFSETTO:+0100
TZNAME:CET
DTSTART:20201025T010000
END:STANDARD
END:VTIMEZONE
BEGIN:VEVENT
DTSTART;VALUE=DATE:20190223
DTEND;VALUE=DATE:20190225
DTSTAMP:20260419T214814
CREATED:20190221T112932Z
LAST-MODIFIED:20190221T115515Z
UID:14771-1550880000-1551052799@www.flamencoagenda.nl
SUMMARY:Flamencoweekend Esteban Murillo
DESCRIPTION:Maaseik (Opoeteren)\, Danshuis Volmolen – Flamencoweekend rondom de flamencozanger Esteban Murillo. Er is een live flamenco-optreden en er zijn dans- en gitaar/zangworkshops. \nOptreden\nZaterdag 23 februari 21 uur ‘Mi Verdad’\nLive flamenco met Esteban Murillo (zang)\, Anthony Carrubba “El Carru” (gitaar)\, François Taillefer (percussie)\, Marisol Valderrama Guerrero (dans). \nWorkshops \nDocenten: Marisol Valderrama Guerrero (dans) & Esteban Murillo (gitaar/zang)\nZaterdag 23 en zondag 24 februari\, 15u – 17u\nToonmoment workshops (voor publiek toegankelijk)\nZondag 24 februari\, rond 17 uur.
URL:https://www.flamencoagenda.nl/event/flamencoweekend-esteban-murillo/
LOCATION:Danshuis Volmolen\, Volmolenstraat 11\, Maaseik (Opoeteren)
CATEGORIES:Live Flamenco,Workshops
ATTACH;FMTTYPE=image/jpeg:https://www.flamencoagenda.nl/core/../wp-content/uploads/Mi-Verdad-Esteban-Murillo.jpg
ORGANIZER;CN="Lene Vanderstegen":MAILTO:lenevandersteegen@telenet.be
END:VEVENT
BEGIN:VEVENT
DTSTART;TZID=Europe/Amsterdam:20190224T140000
DTEND;TZID=Europe/Amsterdam:20190224T140000
DTSTAMP:20260419T214814
CREATED:20190216T214401Z
LAST-MODIFIED:20190216T214401Z
UID:14700-1551016800-1551016800@www.flamencoagenda.nl
SUMMARY:Udo Demandt (cajon)
DESCRIPTION:Amsterdam\, La Guitarra Buena – Workshop cajon (oa voor flamenco percussie) van Udo Demandt op twee niveaus. In beide workshops wordt aandacht besteed aan een breed scala aan wereldmuziek stijlen en er is ruimte voor vragen of eigen onderwerpen. \nWorkshop 1: De Basis 14.00 uur\nDe 1e workshop is voor iedereen die wil kennis maken met de cajon of pas kort cajon speelt. Alle basis slag technieken en -ritmes worden behandeld in diverse stijlen van wereld- en popmuziek. (Heb je zelf nog géén cajon\, dan kun je er deze middag één huren voor EUR 7\,–) \nWorkshop 2: Extra Technieken 16.00 uur\nIn deze workshop wordt dieper ingegaan op speciale technieken (doublestroke\, paradiddles) \, improvisatie oefeningen (groupings\, beat/offbeat) zoals je die in allerlei muziekstijlen kunt toepassen.
URL:https://www.flamencoagenda.nl/event/udo-demandt-cajon-4/
LOCATION:Guitarra Buena\, Rijnstraat 111\, Amsterdam\, 1079 HA
CATEGORIES:Workshops
ATTACH;FMTTYPE=image/jpeg:https://www.flamencoagenda.nl/core/../wp-content/uploads/Udo-Demandt1.jpg
ORGANIZER;CN="Guitarra Buena":MAILTO:info@guitarrabuena.nl
END:VEVENT
BEGIN:VEVENT
DTSTART;TZID=Europe/Amsterdam:20190224T170000
DTEND;TZID=Europe/Amsterdam:20190224T170000
DTSTAMP:20260419T214814
CREATED:20190207T231138Z
LAST-MODIFIED:20190207T231138Z
UID:14641-1551027600-1551027600@www.flamencoagenda.nl
SUMMARY:John Fillmore Quartet @ Duende
DESCRIPTION:Amsterdam\, Restaurant Duende – Live flamenco in tapasrestaurant. Artiesten: John Fillmore Quartet met John Fillmore (gitaar)\, Ron van Holland (percussie)\, Paul Welling (sopraansax). Tickets aan de deur.
URL:https://www.flamencoagenda.nl/event/john-fillmore-quartet-duende-2/
LOCATION:Cafe Duende\, Lindengracht 62\, AMSTERDAM\, 1015KJ
CATEGORIES:Live Flamenco
ATTACH;FMTTYPE=image/jpeg:https://www.flamencoagenda.nl/core/../wp-content/uploads/john-fillmore-quartet-1.jpg
END:VEVENT
BEGIN:VEVENT
DTSTART;TZID=Europe/Amsterdam:20190224T201500
DTEND;TZID=Europe/Amsterdam:20190224T201500
DTSTAMP:20260419T214814
CREATED:20190107T221324Z
LAST-MODIFIED:20190107T221324Z
UID:14345-1551039300-1551039300@www.flamencoagenda.nl
SUMMARY:Tania Kross ‘Carmen revisited’
DESCRIPTION:Uden\, Theater Markant – ‘Kross-over’ van flamencomuziek en opera. Met o.a.: Tania Kross als Carmen en flamencozanger Carlos Denia in de rol van Escamilla. Deze tour is een reprise van de zeer succesvolle eerdere tour. Andere artiesten zijn onder meer (onder voorbehoud\, de line-up kan per locatie verschillen\, check de theaterwebsite): Francis van Broekhuizen (Micaëla) en Charles Hens (Don José). Muzikale leiding en arrangementen: Thijs Borsten. \nDeze voorstelling is onderdeel van een uitgebreide tour. Bekijk de Live Flamenco agenda voor alle nog komende data.
URL:https://www.flamencoagenda.nl/event/tania-kross-carmen-revisited-42/
LOCATION:Theater Markant\, Markt 32\, Uden\, 5401 GP
CATEGORIES:Live Flamenco
ATTACH;FMTTYPE=image/png:https://www.flamencoagenda.nl/core/../wp-content/uploads/Tania-Kross-Carmen-2.png
END:VEVENT
END:VCALENDAR